BEGIN:VCALENDAR
VERSION:2.0
PRODID:-//Samudra Kadampa Buddhist Centre - ECPv6.15.20//NONSGML v1.0//EN
CALSCALE:GREGORIAN
METHOD:PUBLISH
X-WR-CALNAME:Samudra Kadampa Buddhist Centre
X-ORIGINAL-URL:https://meditationinhamilton.org
X-WR-CALDESC:Events for Samudra Kadampa Buddhist Centre
REFRESH-INTERVAL;VALUE=DURATION:PT1H
X-Robots-Tag:noindex
X-PUBLISHED-TTL:PT1H
BEGIN:VTIMEZONE
TZID:America/Toronto
BEGIN:DAYLIGHT
TZOFFSETFROM:-0500
TZOFFSETTO:-0400
TZNAME:EDT
DTSTART:20250309T070000
END:DAYLIGHT
BEGIN:STANDARD
TZOFFSETFROM:-0400
TZOFFSETTO:-0500
TZNAME:EST
DTSTART:20251102T060000
END:STANDARD
BEGIN:DAYLIGHT
TZOFFSETFROM:-0500
TZOFFSETTO:-0400
TZNAME:EDT
DTSTART:20260308T070000
END:DAYLIGHT
BEGIN:STANDARD
TZOFFSETFROM:-0400
TZOFFSETTO:-0500
TZNAME:EST
DTSTART:20261101T060000
END:STANDARD
BEGIN:DAYLIGHT
TZOFFSETFROM:-0500
TZOFFSETTO:-0400
TZNAME:EDT
DTSTART:20270314T070000
END:DAYLIGHT
BEGIN:STANDARD
TZOFFSETFROM:-0400
TZOFFSETTO:-0500
TZNAME:EST
DTSTART:20271107T060000
END:STANDARD
END:VTIMEZONE
BEGIN:VEVENT
DTSTART;TZID=America/Toronto:20260608T193000
DTEND;TZID=America/Toronto:20260608T210000
DTSTAMP:20260420T083302
CREATED:20251226T084404Z
LAST-MODIFIED:20251226T084404Z
UID:41260-1780947000-1780952400@meditationinhamilton.org
SUMMARY:General Program Class
DESCRIPTION:
URL:https://meditationinhamilton.org/event/general-program-class-389/
CATEGORIES:General Program Meditation Class
END:VEVENT
BEGIN:VEVENT
DTSTART;TZID=America/Toronto:20260609T193000
DTEND;TZID=America/Toronto:20260609T210000
DTSTAMP:20260420T083302
CREATED:20251226T085138Z
LAST-MODIFIED:20251226T085138Z
UID:41270-1781033400-1781038800@meditationinhamilton.org
SUMMARY:General Program Class
DESCRIPTION:
URL:https://meditationinhamilton.org/event/general-program-class-394/
CATEGORIES:General Program Meditation Class
END:VEVENT
BEGIN:VEVENT
DTSTART;TZID=America/Toronto:20260611T193000
DTEND;TZID=America/Toronto:20260611T201500
DTSTAMP:20260420T083302
CREATED:20251226T164900Z
LAST-MODIFIED:20251226T164900Z
UID:41317-1781206200-1781208900@meditationinhamilton.org
SUMMARY:Peace of Mind
DESCRIPTION:
URL:https://meditationinhamilton.org/event/peace-of-mind-138/
CATEGORIES:General Program Meditation Class
END:VEVENT
BEGIN:VEVENT
DTSTART;TZID=America/Toronto:20260615T193000
DTEND;TZID=America/Toronto:20260615T210000
DTSTAMP:20260420T083302
CREATED:20251226T084628Z
LAST-MODIFIED:20251226T084628Z
UID:41262-1781551800-1781557200@meditationinhamilton.org
SUMMARY:General Program Class
DESCRIPTION:
URL:https://meditationinhamilton.org/event/general-program-class-390/
CATEGORIES:General Program Meditation Class
END:VEVENT
BEGIN:VEVENT
DTSTART;TZID=America/Toronto:20260616T193000
DTEND;TZID=America/Toronto:20260616T210000
DTSTAMP:20260420T083302
CREATED:20251226T085258Z
LAST-MODIFIED:20251226T085258Z
UID:41272-1781638200-1781643600@meditationinhamilton.org
SUMMARY:General Program Class
DESCRIPTION:
URL:https://meditationinhamilton.org/event/general-program-class-395/
CATEGORIES:General Program Meditation Class
END:VEVENT
BEGIN:VEVENT
DTSTART;TZID=America/Toronto:20260618T193000
DTEND;TZID=America/Toronto:20260618T201500
DTSTAMP:20260420T083302
CREATED:20251226T165023Z
LAST-MODIFIED:20251226T165023Z
UID:41319-1781811000-1781813700@meditationinhamilton.org
SUMMARY:Peace of Mind
DESCRIPTION:
URL:https://meditationinhamilton.org/event/peace-of-mind-139/
CATEGORIES:General Program Meditation Class
END:VEVENT
BEGIN:VEVENT
DTSTART;TZID=America/Toronto:20260622T193000
DTEND;TZID=America/Toronto:20260622T210000
DTSTAMP:20260420T083302
CREATED:20251226T084747Z
LAST-MODIFIED:20251226T084747Z
UID:41264-1782156600-1782162000@meditationinhamilton.org
SUMMARY:General Program Class
DESCRIPTION:
URL:https://meditationinhamilton.org/event/general-program-class-391/
CATEGORIES:General Program Meditation Class
END:VEVENT
BEGIN:VEVENT
DTSTART;TZID=America/Toronto:20260623T193000
DTEND;TZID=America/Toronto:20260623T210000
DTSTAMP:20260420T083302
CREATED:20251226T085408Z
LAST-MODIFIED:20251226T085408Z
UID:41274-1782243000-1782248400@meditationinhamilton.org
SUMMARY:General Program Class
DESCRIPTION:
URL:https://meditationinhamilton.org/event/general-program-class-396/
CATEGORIES:General Program Meditation Class
END:VEVENT
BEGIN:VEVENT
DTSTART;TZID=America/Toronto:20260625T193000
DTEND;TZID=America/Toronto:20260625T201500
DTSTAMP:20260420T083302
CREATED:20251226T165137Z
LAST-MODIFIED:20251226T165137Z
UID:41321-1782415800-1782418500@meditationinhamilton.org
SUMMARY:Peace of Mind
DESCRIPTION:
URL:https://meditationinhamilton.org/event/peace-of-mind-140/
CATEGORIES:General Program Meditation Class
END:VEVENT
BEGIN:VEVENT
DTSTART;TZID=America/Toronto:20260629T193000
DTEND;TZID=America/Toronto:20260629T210000
DTSTAMP:20260420T083302
CREATED:20251226T084859Z
LAST-MODIFIED:20251226T084859Z
UID:41266-1782761400-1782766800@meditationinhamilton.org
SUMMARY:General Program Class
DESCRIPTION:
URL:https://meditationinhamilton.org/event/general-program-class-392/
CATEGORIES:General Program Meditation Class
END:VEVENT
BEGIN:VEVENT
DTSTART;TZID=America/Toronto:20260630T193000
DTEND;TZID=America/Toronto:20260630T210000
DTSTAMP:20260420T083302
CREATED:20251226T085513Z
LAST-MODIFIED:20251226T085513Z
UID:41276-1782847800-1782853200@meditationinhamilton.org
SUMMARY:General Program Class
DESCRIPTION:
URL:https://meditationinhamilton.org/event/general-program-class-397/
CATEGORIES:General Program Meditation Class
END:VEVENT
BEGIN:VEVENT
DTSTART;TZID=America/Toronto:20260702T193000
DTEND;TZID=America/Toronto:20260702T201500
DTSTAMP:20260420T083302
CREATED:20260408T151321Z
LAST-MODIFIED:20260408T151321Z
UID:41538-1783020600-1783023300@meditationinhamilton.org
SUMMARY:Peace of Mind
DESCRIPTION:
URL:https://meditationinhamilton.org/event/peace-of-mind-141/
CATEGORIES:General Program Meditation Class
END:VEVENT
BEGIN:VEVENT
DTSTART;TZID=America/Toronto:20260707T193000
DTEND;TZID=America/Toronto:20260707T210000
DTSTAMP:20260420T083302
CREATED:20260408T135530Z
LAST-MODIFIED:20260408T135530Z
UID:41463-1783452600-1783458000@meditationinhamilton.org
SUMMARY:General Program Class
DESCRIPTION:
URL:https://meditationinhamilton.org/event/general-program-class-398/
CATEGORIES:General Program Meditation Class
END:VEVENT
BEGIN:VEVENT
DTSTART;TZID=America/Toronto:20260709T193000
DTEND;TZID=America/Toronto:20260709T201500
DTSTAMP:20260420T083302
CREATED:20260408T151424Z
LAST-MODIFIED:20260408T151424Z
UID:41540-1783625400-1783628100@meditationinhamilton.org
SUMMARY:Peace of Mind
DESCRIPTION:
URL:https://meditationinhamilton.org/event/peace-of-mind-142/
CATEGORIES:General Program Meditation Class
END:VEVENT
BEGIN:VEVENT
DTSTART;TZID=America/Toronto:20260714T193000
DTEND;TZID=America/Toronto:20260714T210000
DTSTAMP:20260420T083302
CREATED:20260408T135637Z
LAST-MODIFIED:20260408T135637Z
UID:41465-1784057400-1784062800@meditationinhamilton.org
SUMMARY:General Program Class
DESCRIPTION:
URL:https://meditationinhamilton.org/event/general-program-class-399/
CATEGORIES:General Program Meditation Class
END:VEVENT
BEGIN:VEVENT
DTSTART;TZID=America/Toronto:20260716T193000
DTEND;TZID=America/Toronto:20260716T201500
DTSTAMP:20260420T083302
CREATED:20260408T151544Z
LAST-MODIFIED:20260408T151544Z
UID:41542-1784230200-1784232900@meditationinhamilton.org
SUMMARY:Peace of Mind
DESCRIPTION:
URL:https://meditationinhamilton.org/event/peace-of-mind-143/
CATEGORIES:General Program Meditation Class
END:VEVENT
BEGIN:VEVENT
DTSTART;TZID=America/Toronto:20260721T193000
DTEND;TZID=America/Toronto:20260721T210000
DTSTAMP:20260420T083302
CREATED:20260408T135810Z
LAST-MODIFIED:20260408T135810Z
UID:41467-1784662200-1784667600@meditationinhamilton.org
SUMMARY:General Program Class
DESCRIPTION:
URL:https://meditationinhamilton.org/event/general-program-class-400/
CATEGORIES:General Program Meditation Class
END:VEVENT
BEGIN:VEVENT
DTSTART;TZID=America/Toronto:20260811T193000
DTEND;TZID=America/Toronto:20260811T210000
DTSTAMP:20260420T083302
CREATED:20260408T141856Z
LAST-MODIFIED:20260408T141856Z
UID:41469-1786476600-1786482000@meditationinhamilton.org
SUMMARY:General Program Class
DESCRIPTION:
URL:https://meditationinhamilton.org/event/general-program-class-401/
CATEGORIES:General Program Meditation Class
END:VEVENT
BEGIN:VEVENT
DTSTART;TZID=America/Toronto:20260813T193000
DTEND;TZID=America/Toronto:20260813T201500
DTSTAMP:20260420T083302
CREATED:20260408T151822Z
LAST-MODIFIED:20260408T151822Z
UID:41544-1786649400-1786652100@meditationinhamilton.org
SUMMARY:Peace of Mind
DESCRIPTION:
URL:https://meditationinhamilton.org/event/peace-of-mind-144/
CATEGORIES:General Program Meditation Class
END:VEVENT
BEGIN:VEVENT
DTSTART;TZID=America/Toronto:20260818T193000
DTEND;TZID=America/Toronto:20260818T210000
DTSTAMP:20260420T083302
CREATED:20260408T142030Z
LAST-MODIFIED:20260408T142030Z
UID:41471-1787081400-1787086800@meditationinhamilton.org
SUMMARY:General Program Class
DESCRIPTION:
URL:https://meditationinhamilton.org/event/general-program-class-402/
CATEGORIES:General Program Meditation Class
END:VEVENT
BEGIN:VEVENT
DTSTART;TZID=America/Toronto:20260820T193000
DTEND;TZID=America/Toronto:20260820T201500
DTSTAMP:20260420T083302
CREATED:20260408T151936Z
LAST-MODIFIED:20260408T151936Z
UID:41546-1787254200-1787256900@meditationinhamilton.org
SUMMARY:Peace of Mind
DESCRIPTION:
URL:https://meditationinhamilton.org/event/peace-of-mind-145/
CATEGORIES:General Program Meditation Class
END:VEVENT
BEGIN:VEVENT
DTSTART;TZID=America/Toronto:20260825T193000
DTEND;TZID=America/Toronto:20260825T210000
DTSTAMP:20260420T083302
CREATED:20260408T142133Z
LAST-MODIFIED:20260408T142133Z
UID:41473-1787686200-1787691600@meditationinhamilton.org
SUMMARY:General Program Class
DESCRIPTION:
URL:https://meditationinhamilton.org/event/general-program-class-403/
CATEGORIES:General Program Meditation Class
END:VEVENT
BEGIN:VEVENT
DTSTART;TZID=America/Toronto:20260827T193000
DTEND;TZID=America/Toronto:20260827T201500
DTSTAMP:20260420T083302
CREATED:20260408T152133Z
LAST-MODIFIED:20260408T152133Z
UID:41548-1787859000-1787861700@meditationinhamilton.org
SUMMARY:Peace of Mind
DESCRIPTION:
URL:https://meditationinhamilton.org/event/peace-of-mind-146/
CATEGORIES:General Program Meditation Class
END:VEVENT
BEGIN:VEVENT
DTSTART;TZID=America/Toronto:20260901T193000
DTEND;TZID=America/Toronto:20260901T210000
DTSTAMP:20260420T083302
CREATED:20260408T142245Z
LAST-MODIFIED:20260408T142245Z
UID:41475-1788291000-1788296400@meditationinhamilton.org
SUMMARY:General Program Class
DESCRIPTION:
URL:https://meditationinhamilton.org/event/general-program-class-404/
CATEGORIES:General Program Meditation Class
END:VEVENT
BEGIN:VEVENT
DTSTART;TZID=America/Toronto:20260903T193000
DTEND;TZID=America/Toronto:20260903T201500
DTSTAMP:20260420T083302
CREATED:20260408T152235Z
LAST-MODIFIED:20260408T152235Z
UID:41550-1788463800-1788466500@meditationinhamilton.org
SUMMARY:Peace of Mind
DESCRIPTION:
URL:https://meditationinhamilton.org/event/peace-of-mind-147/
CATEGORIES:General Program Meditation Class
END:VEVENT
BEGIN:VEVENT
DTSTART;TZID=America/Toronto:20260908T193000
DTEND;TZID=America/Toronto:20260908T210000
DTSTAMP:20260420T083302
CREATED:20260408T142344Z
LAST-MODIFIED:20260408T142344Z
UID:41477-1788895800-1788901200@meditationinhamilton.org
SUMMARY:General Program Class
DESCRIPTION:
URL:https://meditationinhamilton.org/event/general-program-class-405/
CATEGORIES:General Program Meditation Class
END:VEVENT
BEGIN:VEVENT
DTSTART;TZID=America/Toronto:20260910T193000
DTEND;TZID=America/Toronto:20260910T201500
DTSTAMP:20260420T083302
CREATED:20260408T154241Z
LAST-MODIFIED:20260408T154241Z
UID:41582-1789068600-1789071300@meditationinhamilton.org
SUMMARY:Peace of Mind
DESCRIPTION:
URL:https://meditationinhamilton.org/event/peace-of-mind-162/
CATEGORIES:General Program Meditation Class
END:VEVENT
BEGIN:VEVENT
DTSTART;TZID=America/Toronto:20260914T193000
DTEND;TZID=America/Toronto:20260914T210000
DTSTAMP:20260420T083302
CREATED:20260408T145151Z
LAST-MODIFIED:20260408T145151Z
UID:41508-1789414200-1789419600@meditationinhamilton.org
SUMMARY:General Program Class
DESCRIPTION:
URL:https://meditationinhamilton.org/event/general-program-class-420/
CATEGORIES:General Program Meditation Class
END:VEVENT
BEGIN:VEVENT
DTSTART;TZID=America/Toronto:20260915T193000
DTEND;TZID=America/Toronto:20260915T210000
DTSTAMP:20260420T083302
CREATED:20260408T142557Z
LAST-MODIFIED:20260408T142557Z
UID:41479-1789500600-1789506000@meditationinhamilton.org
SUMMARY:General Program Class
DESCRIPTION:
URL:https://meditationinhamilton.org/event/general-program-class-406/
CATEGORIES:General Program Meditation Class
END:VEVENT
BEGIN:VEVENT
DTSTART;TZID=America/Toronto:20260917T193000
DTEND;TZID=America/Toronto:20260917T201500
DTSTAMP:20260420T083302
CREATED:20260408T152422Z
LAST-MODIFIED:20260408T152422Z
UID:41552-1789673400-1789676100@meditationinhamilton.org
SUMMARY:Peace of Mind
DESCRIPTION:
URL:https://meditationinhamilton.org/event/peace-of-mind-148/
CATEGORIES:General Program Meditation Class
END:VEVENT
END:VCALENDAR