BEGIN:VCALENDAR
VERSION:2.0
PRODID:-//Samudra Kadampa Buddhist Centre - ECPv6.15.20//NONSGML v1.0//EN
CALSCALE:GREGORIAN
METHOD:PUBLISH
X-ORIGINAL-URL:https://meditationinhamilton.org
X-WR-CALDESC:Events for Samudra Kadampa Buddhist Centre
REFRESH-INTERVAL;VALUE=DURATION:PT1H
X-Robots-Tag:noindex
X-PUBLISHED-TTL:PT1H
BEGIN:VTIMEZONE
TZID:America/Toronto
BEGIN:DAYLIGHT
TZOFFSETFROM:-0500
TZOFFSETTO:-0400
TZNAME:EDT
DTSTART:20250309T070000
END:DAYLIGHT
BEGIN:STANDARD
TZOFFSETFROM:-0400
TZOFFSETTO:-0500
TZNAME:EST
DTSTART:20251102T060000
END:STANDARD
BEGIN:DAYLIGHT
TZOFFSETFROM:-0500
TZOFFSETTO:-0400
TZNAME:EDT
DTSTART:20260308T070000
END:DAYLIGHT
BEGIN:STANDARD
TZOFFSETFROM:-0400
TZOFFSETTO:-0500
TZNAME:EST
DTSTART:20261101T060000
END:STANDARD
BEGIN:DAYLIGHT
TZOFFSETFROM:-0500
TZOFFSETTO:-0400
TZNAME:EDT
DTSTART:20270314T070000
END:DAYLIGHT
BEGIN:STANDARD
TZOFFSETFROM:-0400
TZOFFSETTO:-0500
TZNAME:EST
DTSTART:20271107T060000
END:STANDARD
END:VTIMEZONE
BEGIN:VEVENT
DTSTART;TZID=America/Toronto:20260922T193000
DTEND;TZID=America/Toronto:20260922T210000
DTSTAMP:20260421T005222
CREATED:20260408T142824Z
LAST-MODIFIED:20260408T142824Z
UID:41481-1790105400-1790110800@meditationinhamilton.org
SUMMARY:General Program Class
DESCRIPTION:
URL:https://meditationinhamilton.org/event/general-program-class-407/
CATEGORIES:General Program Meditation Class
END:VEVENT
BEGIN:VEVENT
DTSTART;TZID=America/Toronto:20260924T193000
DTEND;TZID=America/Toronto:20260924T201500
DTSTAMP:20260421T005222
CREATED:20260408T152525Z
LAST-MODIFIED:20260408T152525Z
UID:41554-1790278200-1790280900@meditationinhamilton.org
SUMMARY:Peace of Mind
DESCRIPTION:
URL:https://meditationinhamilton.org/event/peace-of-mind-149/
CATEGORIES:General Program Meditation Class
END:VEVENT
BEGIN:VEVENT
DTSTART;TZID=America/Toronto:20260928T193000
DTEND;TZID=America/Toronto:20260928T210000
DTSTAMP:20260421T005222
CREATED:20260408T145521Z
LAST-MODIFIED:20260408T145521Z
UID:41512-1790623800-1790629200@meditationinhamilton.org
SUMMARY:General Program Class
DESCRIPTION:
URL:https://meditationinhamilton.org/event/general-program-class-422/
CATEGORIES:General Program Meditation Class
END:VEVENT
BEGIN:VEVENT
DTSTART;TZID=America/Toronto:20260929T193000
DTEND;TZID=America/Toronto:20260929T210000
DTSTAMP:20260421T005222
CREATED:20260408T142935Z
LAST-MODIFIED:20260408T142952Z
UID:41483-1790710200-1790715600@meditationinhamilton.org
SUMMARY:General Program Class
DESCRIPTION:
URL:https://meditationinhamilton.org/event/general-program-class-408/
CATEGORIES:General Program Meditation Class
END:VEVENT
BEGIN:VEVENT
DTSTART;TZID=America/Toronto:20261001T193000
DTEND;TZID=America/Toronto:20261001T201500
DTSTAMP:20260421T005222
CREATED:20260408T152636Z
LAST-MODIFIED:20260408T152636Z
UID:41556-1790883000-1790885700@meditationinhamilton.org
SUMMARY:Peace of Mind
DESCRIPTION:
URL:https://meditationinhamilton.org/event/peace-of-mind-150/
CATEGORIES:General Program Meditation Class
END:VEVENT
BEGIN:VEVENT
DTSTART;TZID=America/Toronto:20261005T193000
DTEND;TZID=America/Toronto:20261005T210000
DTSTAMP:20260421T005222
CREATED:20260408T145634Z
LAST-MODIFIED:20260408T145634Z
UID:41514-1791228600-1791234000@meditationinhamilton.org
SUMMARY:General Program Class
DESCRIPTION:
URL:https://meditationinhamilton.org/event/general-program-class-423/
CATEGORIES:General Program Meditation Class
END:VEVENT
BEGIN:VEVENT
DTSTART;TZID=America/Toronto:20261006T193000
DTEND;TZID=America/Toronto:20261006T210000
DTSTAMP:20260421T005222
CREATED:20260408T143124Z
LAST-MODIFIED:20260408T143124Z
UID:41485-1791315000-1791320400@meditationinhamilton.org
SUMMARY:General Program Class
DESCRIPTION:
URL:https://meditationinhamilton.org/event/general-program-class-409/
CATEGORIES:General Program Meditation Class
END:VEVENT
BEGIN:VEVENT
DTSTART;TZID=America/Toronto:20261008T193000
DTEND;TZID=America/Toronto:20261008T201500
DTSTAMP:20260421T005222
CREATED:20260408T152748Z
LAST-MODIFIED:20260408T152748Z
UID:41558-1791487800-1791490500@meditationinhamilton.org
SUMMARY:Peace of Mind
DESCRIPTION:
URL:https://meditationinhamilton.org/event/peace-of-mind-151/
CATEGORIES:General Program Meditation Class
END:VEVENT
BEGIN:VEVENT
DTSTART;TZID=America/Toronto:20261013T193000
DTEND;TZID=America/Toronto:20261013T210000
DTSTAMP:20260421T005222
CREATED:20260408T143235Z
LAST-MODIFIED:20260408T143235Z
UID:41487-1791919800-1791925200@meditationinhamilton.org
SUMMARY:General Program Class
DESCRIPTION:
URL:https://meditationinhamilton.org/event/general-program-class-410/
CATEGORIES:General Program Meditation Class
END:VEVENT
BEGIN:VEVENT
DTSTART;TZID=America/Toronto:20261015T193000
DTEND;TZID=America/Toronto:20261015T201500
DTSTAMP:20260421T005222
CREATED:20260408T152856Z
LAST-MODIFIED:20260408T152856Z
UID:41560-1792092600-1792095300@meditationinhamilton.org
SUMMARY:Peace of Mind
DESCRIPTION:
URL:https://meditationinhamilton.org/event/peace-of-mind-152/
CATEGORIES:General Program Meditation Class
END:VEVENT
BEGIN:VEVENT
DTSTART;TZID=America/Toronto:20261019T193000
DTEND;TZID=America/Toronto:20261019T210000
DTSTAMP:20260421T005222
CREATED:20260408T145741Z
LAST-MODIFIED:20260408T145741Z
UID:41516-1792438200-1792443600@meditationinhamilton.org
SUMMARY:General Program Class
DESCRIPTION:
URL:https://meditationinhamilton.org/event/general-program-class-424/
CATEGORIES:General Program Meditation Class
END:VEVENT
BEGIN:VEVENT
DTSTART;TZID=America/Toronto:20261020T193000
DTEND;TZID=America/Toronto:20261020T210000
DTSTAMP:20260421T005222
CREATED:20260408T143333Z
LAST-MODIFIED:20260408T143333Z
UID:41490-1792524600-1792530000@meditationinhamilton.org
SUMMARY:General Program Class
DESCRIPTION:
URL:https://meditationinhamilton.org/event/general-program-class-411/
CATEGORIES:General Program Meditation Class
END:VEVENT
BEGIN:VEVENT
DTSTART;TZID=America/Toronto:20261022T193000
DTEND;TZID=America/Toronto:20261022T201500
DTSTAMP:20260421T005222
CREATED:20260408T153002Z
LAST-MODIFIED:20260408T153002Z
UID:41562-1792697400-1792700100@meditationinhamilton.org
SUMMARY:Peace of Mind
DESCRIPTION:
URL:https://meditationinhamilton.org/event/peace-of-mind-153/
CATEGORIES:General Program Meditation Class
END:VEVENT
BEGIN:VEVENT
DTSTART;TZID=America/Toronto:20261026T193000
DTEND;TZID=America/Toronto:20261026T210000
DTSTAMP:20260421T005222
CREATED:20260408T145930Z
LAST-MODIFIED:20260408T145930Z
UID:41518-1793043000-1793048400@meditationinhamilton.org
SUMMARY:General Program Class
DESCRIPTION:
URL:https://meditationinhamilton.org/event/general-program-class-425/
CATEGORIES:General Program Meditation Class
END:VEVENT
BEGIN:VEVENT
DTSTART;TZID=America/Toronto:20261027T193000
DTEND;TZID=America/Toronto:20261027T210000
DTSTAMP:20260421T005222
CREATED:20260408T143545Z
LAST-MODIFIED:20260408T143545Z
UID:41488-1793129400-1793134800@meditationinhamilton.org
SUMMARY:General Program Class
DESCRIPTION:
URL:https://meditationinhamilton.org/event/general-program-class-412/
CATEGORIES:General Program Meditation Class
END:VEVENT
BEGIN:VEVENT
DTSTART;TZID=America/Toronto:20261029T193000
DTEND;TZID=America/Toronto:20261029T201500
DTSTAMP:20260421T005222
CREATED:20260408T153108Z
LAST-MODIFIED:20260408T153108Z
UID:41564-1793302200-1793304900@meditationinhamilton.org
SUMMARY:Peace of Mind
DESCRIPTION:
URL:https://meditationinhamilton.org/event/peace-of-mind-154/
CATEGORIES:General Program Meditation Class
END:VEVENT
BEGIN:VEVENT
DTSTART;TZID=America/Toronto:20261102T193000
DTEND;TZID=America/Toronto:20261102T210000
DTSTAMP:20260421T005222
CREATED:20260408T150036Z
LAST-MODIFIED:20260408T150036Z
UID:41520-1793647800-1793653200@meditationinhamilton.org
SUMMARY:General Program Class
DESCRIPTION:
URL:https://meditationinhamilton.org/event/general-program-class-426/
CATEGORIES:General Program Meditation Class
END:VEVENT
BEGIN:VEVENT
DTSTART;TZID=America/Toronto:20261103T193000
DTEND;TZID=America/Toronto:20261103T210000
DTSTAMP:20260421T005222
CREATED:20260408T143709Z
LAST-MODIFIED:20260408T143709Z
UID:41493-1793734200-1793739600@meditationinhamilton.org
SUMMARY:General Program Class
DESCRIPTION:
URL:https://meditationinhamilton.org/event/general-program-class-413/
CATEGORIES:General Program Meditation Class
END:VEVENT
BEGIN:VEVENT
DTSTART;TZID=America/Toronto:20261105T193000
DTEND;TZID=America/Toronto:20261105T201500
DTSTAMP:20260421T005222
CREATED:20260408T153230Z
LAST-MODIFIED:20260408T153230Z
UID:41566-1793907000-1793909700@meditationinhamilton.org
SUMMARY:Peace of Mind
DESCRIPTION:
URL:https://meditationinhamilton.org/event/peace-of-mind-155/
CATEGORIES:General Program Meditation Class
END:VEVENT
BEGIN:VEVENT
DTSTART;TZID=America/Toronto:20261109T193000
DTEND;TZID=America/Toronto:20261109T210000
DTSTAMP:20260421T005222
CREATED:20260408T150210Z
LAST-MODIFIED:20260408T150210Z
UID:41522-1794252600-1794258000@meditationinhamilton.org
SUMMARY:General Program Class
DESCRIPTION:
URL:https://meditationinhamilton.org/event/general-program-class-427/
CATEGORIES:General Program Meditation Class
END:VEVENT
BEGIN:VEVENT
DTSTART;TZID=America/Toronto:20261110T193000
DTEND;TZID=America/Toronto:20261110T210000
DTSTAMP:20260421T005222
CREATED:20260408T143830Z
LAST-MODIFIED:20260408T143830Z
UID:41495-1794339000-1794344400@meditationinhamilton.org
SUMMARY:General Program Class
DESCRIPTION:
URL:https://meditationinhamilton.org/event/general-program-class-414/
CATEGORIES:General Program Meditation Class
END:VEVENT
BEGIN:VEVENT
DTSTART;TZID=America/Toronto:20261112T193000
DTEND;TZID=America/Toronto:20261112T201500
DTSTAMP:20260421T005222
CREATED:20260408T153339Z
LAST-MODIFIED:20260408T153339Z
UID:41569-1794511800-1794514500@meditationinhamilton.org
SUMMARY:Peace of Mind
DESCRIPTION:
URL:https://meditationinhamilton.org/event/peace-of-mind-156/
CATEGORIES:General Program Meditation Class
END:VEVENT
BEGIN:VEVENT
DTSTART;TZID=America/Toronto:20261116T193000
DTEND;TZID=America/Toronto:20261116T210000
DTSTAMP:20260421T005222
CREATED:20260408T150307Z
LAST-MODIFIED:20260408T150307Z
UID:41524-1794857400-1794862800@meditationinhamilton.org
SUMMARY:General Program Class
DESCRIPTION:
URL:https://meditationinhamilton.org/event/general-program-class-428/
CATEGORIES:General Program Meditation Class
END:VEVENT
BEGIN:VEVENT
DTSTART;TZID=America/Toronto:20261117T193000
DTEND;TZID=America/Toronto:20261117T210000
DTSTAMP:20260421T005222
CREATED:20260408T143954Z
LAST-MODIFIED:20260408T143954Z
UID:41497-1794943800-1794949200@meditationinhamilton.org
SUMMARY:General Program Class
DESCRIPTION:
URL:https://meditationinhamilton.org/event/general-program-class-415/
CATEGORIES:General Program Meditation Class
END:VEVENT
BEGIN:VEVENT
DTSTART;TZID=America/Toronto:20261119T193000
DTEND;TZID=America/Toronto:20261119T201500
DTSTAMP:20260421T005222
CREATED:20260408T153454Z
LAST-MODIFIED:20260408T153454Z
UID:41572-1795116600-1795119300@meditationinhamilton.org
SUMMARY:Peace of Mind
DESCRIPTION:
URL:https://meditationinhamilton.org/event/peace-of-mind-157/
CATEGORIES:General Program Meditation Class
END:VEVENT
BEGIN:VEVENT
DTSTART;TZID=America/Toronto:20261123T193000
DTEND;TZID=America/Toronto:20261123T210000
DTSTAMP:20260421T005222
CREATED:20260408T150601Z
LAST-MODIFIED:20260408T150601Z
UID:41528-1795462200-1795467600@meditationinhamilton.org
SUMMARY:General Program Class
DESCRIPTION:
URL:https://meditationinhamilton.org/event/general-program-class-430/
CATEGORIES:General Program Meditation Class
END:VEVENT
BEGIN:VEVENT
DTSTART;TZID=America/Toronto:20261124T193000
DTEND;TZID=America/Toronto:20261124T210000
DTSTAMP:20260421T005222
CREATED:20260408T144231Z
LAST-MODIFIED:20260408T144231Z
UID:41499-1795548600-1795554000@meditationinhamilton.org
SUMMARY:General Program Class
DESCRIPTION:
URL:https://meditationinhamilton.org/event/general-program-class-416/
CATEGORIES:General Program Meditation Class
END:VEVENT
BEGIN:VEVENT
DTSTART;TZID=America/Toronto:20261126T193000
DTEND;TZID=America/Toronto:20261126T201500
DTSTAMP:20260421T005222
CREATED:20260408T153611Z
LAST-MODIFIED:20260408T153611Z
UID:41574-1795721400-1795724100@meditationinhamilton.org
SUMMARY:Peace of Mind
DESCRIPTION:
URL:https://meditationinhamilton.org/event/peace-of-mind-158/
CATEGORIES:General Program Meditation Class
END:VEVENT
BEGIN:VEVENT
DTSTART;TZID=America/Toronto:20261130T193000
DTEND;TZID=America/Toronto:20261130T210000
DTSTAMP:20260421T005222
CREATED:20260408T150414Z
LAST-MODIFIED:20260408T150414Z
UID:41526-1796067000-1796072400@meditationinhamilton.org
SUMMARY:General Program Class
DESCRIPTION:
URL:https://meditationinhamilton.org/event/general-program-class-429/
CATEGORIES:General Program Meditation Class
END:VEVENT
BEGIN:VEVENT
DTSTART;TZID=America/Toronto:20261201T193000
DTEND;TZID=America/Toronto:20261201T210000
DTSTAMP:20260421T005222
CREATED:20260408T144357Z
LAST-MODIFIED:20260408T144357Z
UID:41502-1796153400-1796158800@meditationinhamilton.org
SUMMARY:General Program Class
DESCRIPTION:
URL:https://meditationinhamilton.org/event/general-program-class-417/
CATEGORIES:General Program Meditation Class
END:VEVENT
END:VCALENDAR