BEGIN:VCALENDAR
VERSION:2.0
PRODID:-//Samudra Kadampa Buddhist Centre - ECPv6.15.20//NONSGML v1.0//EN
CALSCALE:GREGORIAN
METHOD:PUBLISH
X-WR-CALNAME:Samudra Kadampa Buddhist Centre
X-ORIGINAL-URL:https://meditationinhamilton.org
X-WR-CALDESC:Events for Samudra Kadampa Buddhist Centre
REFRESH-INTERVAL;VALUE=DURATION:PT1H
X-Robots-Tag:noindex
X-PUBLISHED-TTL:PT1H
BEGIN:VTIMEZONE
TZID:America/Toronto
BEGIN:DAYLIGHT
TZOFFSETFROM:-0500
TZOFFSETTO:-0400
TZNAME:EDT
DTSTART:20250309T070000
END:DAYLIGHT
BEGIN:STANDARD
TZOFFSETFROM:-0400
TZOFFSETTO:-0500
TZNAME:EST
DTSTART:20251102T060000
END:STANDARD
BEGIN:DAYLIGHT
TZOFFSETFROM:-0500
TZOFFSETTO:-0400
TZNAME:EDT
DTSTART:20260308T070000
END:DAYLIGHT
BEGIN:STANDARD
TZOFFSETFROM:-0400
TZOFFSETTO:-0500
TZNAME:EST
DTSTART:20261101T060000
END:STANDARD
BEGIN:DAYLIGHT
TZOFFSETFROM:-0500
TZOFFSETTO:-0400
TZNAME:EDT
DTSTART:20270314T070000
END:DAYLIGHT
BEGIN:STANDARD
TZOFFSETFROM:-0400
TZOFFSETTO:-0500
TZNAME:EST
DTSTART:20271107T060000
END:STANDARD
END:VTIMEZONE
BEGIN:VEVENT
DTSTART;TZID=America/Toronto:20261203T193000
DTEND;TZID=America/Toronto:20261203T201500
DTSTAMP:20260421T062019
CREATED:20260408T153741Z
LAST-MODIFIED:20260408T153741Z
UID:41576-1796326200-1796328900@meditationinhamilton.org
SUMMARY:Peace of Mind
DESCRIPTION:
URL:https://meditationinhamilton.org/event/peace-of-mind-159/
CATEGORIES:General Program Meditation Class
END:VEVENT
BEGIN:VEVENT
DTSTART;TZID=America/Toronto:20261207T193000
DTEND;TZID=America/Toronto:20261207T210000
DTSTAMP:20260421T062019
CREATED:20260408T150746Z
LAST-MODIFIED:20260408T150746Z
UID:41534-1796671800-1796677200@meditationinhamilton.org
SUMMARY:General Program Class
DESCRIPTION:
URL:https://meditationinhamilton.org/event/general-program-class-431/
CATEGORIES:General Program Meditation Class
END:VEVENT
BEGIN:VEVENT
DTSTART;TZID=America/Toronto:20261208T193000
DTEND;TZID=America/Toronto:20261208T210000
DTSTAMP:20260421T062019
CREATED:20260408T144518Z
LAST-MODIFIED:20260408T144518Z
UID:41504-1796758200-1796763600@meditationinhamilton.org
SUMMARY:General Program Class
DESCRIPTION:
URL:https://meditationinhamilton.org/event/general-program-class-418/
CATEGORIES:General Program Meditation Class
END:VEVENT
BEGIN:VEVENT
DTSTART;TZID=America/Toronto:20261210T193000
DTEND;TZID=America/Toronto:20261210T201500
DTSTAMP:20260421T062019
CREATED:20260408T153902Z
LAST-MODIFIED:20260408T153902Z
UID:41578-1796931000-1796933700@meditationinhamilton.org
SUMMARY:Peace of Mind
DESCRIPTION:
URL:https://meditationinhamilton.org/event/peace-of-mind-160/
CATEGORIES:General Program Meditation Class
END:VEVENT
BEGIN:VEVENT
DTSTART;TZID=America/Toronto:20261214T193000
DTEND;TZID=America/Toronto:20261214T210000
DTSTAMP:20260421T062019
CREATED:20260408T150858Z
LAST-MODIFIED:20260408T150858Z
UID:41536-1797276600-1797282000@meditationinhamilton.org
SUMMARY:General Program Class
DESCRIPTION:
URL:https://meditationinhamilton.org/event/general-program-class-432/
CATEGORIES:General Program Meditation Class
END:VEVENT
BEGIN:VEVENT
DTSTART;TZID=America/Toronto:20261215T193000
DTEND;TZID=America/Toronto:20261215T210000
DTSTAMP:20260421T062019
CREATED:20260408T144629Z
LAST-MODIFIED:20260408T144629Z
UID:41506-1797363000-1797368400@meditationinhamilton.org
SUMMARY:General Program Class
DESCRIPTION:
URL:https://meditationinhamilton.org/event/general-program-class-419/
CATEGORIES:General Program Meditation Class
END:VEVENT
BEGIN:VEVENT
DTSTART;TZID=America/Toronto:20261217T193000
DTEND;TZID=America/Toronto:20261217T201500
DTSTAMP:20260421T062019
CREATED:20260408T154002Z
LAST-MODIFIED:20260408T154002Z
UID:41580-1797535800-1797538500@meditationinhamilton.org
SUMMARY:Peace of Mind
DESCRIPTION:
URL:https://meditationinhamilton.org/event/peace-of-mind-161/
CATEGORIES:General Program Meditation Class
END:VEVENT
END:VCALENDAR