BEGIN:VCALENDAR
VERSION:2.0
PRODID:-//Samudra Kadampa Buddhist Centre - ECPv6.15.20//NONSGML v1.0//EN
CALSCALE:GREGORIAN
METHOD:PUBLISH
X-WR-CALNAME:Samudra Kadampa Buddhist Centre
X-ORIGINAL-URL:https://meditationinhamilton.org
X-WR-CALDESC:Events for Samudra Kadampa Buddhist Centre
REFRESH-INTERVAL;VALUE=DURATION:PT1H
X-Robots-Tag:noindex
X-PUBLISHED-TTL:PT1H
BEGIN:VTIMEZONE
TZID:America/Toronto
BEGIN:DAYLIGHT
TZOFFSETFROM:-0500
TZOFFSETTO:-0400
TZNAME:EDT
DTSTART:20240310T070000
END:DAYLIGHT
BEGIN:STANDARD
TZOFFSETFROM:-0400
TZOFFSETTO:-0500
TZNAME:EST
DTSTART:20241103T060000
END:STANDARD
BEGIN:DAYLIGHT
TZOFFSETFROM:-0500
TZOFFSETTO:-0400
TZNAME:EDT
DTSTART:20250309T070000
END:DAYLIGHT
BEGIN:STANDARD
TZOFFSETFROM:-0400
TZOFFSETTO:-0500
TZNAME:EST
DTSTART:20251102T060000
END:STANDARD
BEGIN:DAYLIGHT
TZOFFSETFROM:-0500
TZOFFSETTO:-0400
TZNAME:EDT
DTSTART:20260308T070000
END:DAYLIGHT
BEGIN:STANDARD
TZOFFSETFROM:-0400
TZOFFSETTO:-0500
TZNAME:EST
DTSTART:20261101T060000
END:STANDARD
BEGIN:DAYLIGHT
TZOFFSETFROM:-0500
TZOFFSETTO:-0400
TZNAME:EDT
DTSTART:20270314T070000
END:DAYLIGHT
BEGIN:STANDARD
TZOFFSETFROM:-0400
TZOFFSETTO:-0500
TZNAME:EST
DTSTART:20271107T060000
END:STANDARD
END:VTIMEZONE
BEGIN:VEVENT
DTSTART;TZID=America/Toronto:20251108T090000
DTEND;TZID=America/Toronto:20251108T160000
DTSTAMP:20260422T184200
CREATED:20250102T230423Z
LAST-MODIFIED:20250102T230423Z
UID:40172-1762592400-1762617600@meditationinhamilton.org
SUMMARY:Buddha Tara Retreat
DESCRIPTION:‘Liberation From Sorrow’ chanted prayers and meditation.
URL:https://meditationinhamilton.org/event/buddha-tara-retreat-2/
CATEGORIES:Meditation Retreat
END:VEVENT
BEGIN:VEVENT
DTSTART;TZID=America/Toronto:20251227T100000
DTEND;TZID=America/Toronto:20251228T163000
DTSTAMP:20260422T184200
CREATED:20251024T005512Z
LAST-MODIFIED:20251124T181832Z
UID:41037-1766829600-1766939400@meditationinhamilton.org
SUMMARY:Migtsema Retreat
DESCRIPTION:
URL:https://meditationinhamilton.org/event/migstema-retreat/
CATEGORIES:Meditation Retreat
END:VEVENT
BEGIN:VEVENT
DTSTART;VALUE=DATE:20260403
DTEND;VALUE=DATE:20260406
DTSTAMP:20260422T184200
CREATED:20251211T191746Z
LAST-MODIFIED:20260118T024026Z
UID:41156-1775174400-1775433599@meditationinhamilton.org
SUMMARY:The Healing Power of Compassion Retreat
DESCRIPTION:Location: Five Oaks Retreat Centre –  Brantford\nPreregistration required
URL:https://meditationinhamilton.org/event/the-three-principal-aspects-of-the-path-retreat/
CATEGORIES:Meditation Retreat
END:VEVENT
BEGIN:VEVENT
DTSTART;TZID=America/Toronto:20260627T100000
DTEND;TZID=America/Toronto:20260627T163000
DTSTAMP:20260422T184200
CREATED:20260101T233906Z
LAST-MODIFIED:20260420T235922Z
UID:41362-1782554400-1782577800@meditationinhamilton.org
SUMMARY:Impermanence Retreat
DESCRIPTION:
URL:https://meditationinhamilton.org/event/the-three-principal-aspects-of-the-path-retreat-2/
CATEGORIES:Meditation Retreat
END:VEVENT
BEGIN:VEVENT
DTSTART;TZID=America/Toronto:20261024T100000
DTEND;TZID=America/Toronto:20261024T163000
DTSTAMP:20260422T184200
CREATED:20260420T235606Z
LAST-MODIFIED:20260420T235606Z
UID:41615-1792836000-1792859400@meditationinhamilton.org
SUMMARY:The Three Principal Aspects Retreat
DESCRIPTION:
URL:https://meditationinhamilton.org/event/the-three-principal-aspects-retreat-2/
CATEGORIES:Meditation Retreat
END:VEVENT
BEGIN:VEVENT
DTSTART;TZID=America/Toronto:20261107T100000
DTEND;TZID=America/Toronto:20261107T163000
DTSTAMP:20260422T184200
CREATED:20260420T235015Z
LAST-MODIFIED:20260420T235218Z
UID:41612-1794045600-1794069000@meditationinhamilton.org
SUMMARY:25 years of Foundation Program Celebration
DESCRIPTION:
URL:https://meditationinhamilton.org/event/the-three-principal-aspects-retreat/
CATEGORIES:Meditation Retreat
END:VEVENT
END:VCALENDAR