BEGIN:VCALENDAR
VERSION:2.0
PRODID:-//Samudra Kadampa Buddhist Centre - ECPv6.15.20//NONSGML v1.0//EN
CALSCALE:GREGORIAN
METHOD:PUBLISH
X-WR-CALNAME:Samudra Kadampa Buddhist Centre
X-ORIGINAL-URL:https://meditationinhamilton.org
X-WR-CALDESC:Events for Samudra Kadampa Buddhist Centre
REFRESH-INTERVAL;VALUE=DURATION:PT1H
X-Robots-Tag:noindex
X-PUBLISHED-TTL:PT1H
BEGIN:VTIMEZONE
TZID:America/Toronto
BEGIN:DAYLIGHT
TZOFFSETFROM:-0500
TZOFFSETTO:-0400
TZNAME:EDT
DTSTART:20230312T070000
END:DAYLIGHT
BEGIN:STANDARD
TZOFFSETFROM:-0400
TZOFFSETTO:-0500
TZNAME:EST
DTSTART:20231105T060000
END:STANDARD
BEGIN:DAYLIGHT
TZOFFSETFROM:-0500
TZOFFSETTO:-0400
TZNAME:EDT
DTSTART:20240310T070000
END:DAYLIGHT
BEGIN:STANDARD
TZOFFSETFROM:-0400
TZOFFSETTO:-0500
TZNAME:EST
DTSTART:20241103T060000
END:STANDARD
BEGIN:DAYLIGHT
TZOFFSETFROM:-0500
TZOFFSETTO:-0400
TZNAME:EDT
DTSTART:20250309T070000
END:DAYLIGHT
BEGIN:STANDARD
TZOFFSETFROM:-0400
TZOFFSETTO:-0500
TZNAME:EST
DTSTART:20251102T060000
END:STANDARD
END:VTIMEZONE
BEGIN:VEVENT
DTSTART;TZID=America/Toronto:20241120T190000
DTEND;TZID=America/Toronto:20241120T220000
DTSTAMP:20260419T101234
CREATED:20240703T032329Z
LAST-MODIFIED:20240703T032329Z
UID:39637-1732129200-1732140000@meditationinhamilton.org
SUMMARY:Foundation Program
DESCRIPTION:
URL:https://meditationinhamilton.org/event/foundation-program-163/
CATEGORIES:Foundation Program
END:VEVENT
BEGIN:VEVENT
DTSTART;TZID=America/Toronto:20241119T193000
DTEND;TZID=America/Toronto:20241119T210000
DTSTAMP:20260419T101234
CREATED:20240703T025548Z
LAST-MODIFIED:20240703T025548Z
UID:39598-1732044600-1732050000@meditationinhamilton.org
SUMMARY:General Program Class
DESCRIPTION:
URL:https://meditationinhamilton.org/event/general-program-class-241/
CATEGORIES:General Program Meditation Class
END:VEVENT
BEGIN:VEVENT
DTSTART;TZID=America/Toronto:20241118T193000
DTEND;TZID=America/Toronto:20241118T210000
DTSTAMP:20260419T101234
CREATED:20240703T025451Z
LAST-MODIFIED:20240703T025451Z
UID:39595-1731958200-1731963600@meditationinhamilton.org
SUMMARY:General Program Class
DESCRIPTION:
URL:https://meditationinhamilton.org/event/general-program-class-240/
CATEGORIES:General Program Meditation Class
END:VEVENT
BEGIN:VEVENT
DTSTART;TZID=America/Toronto:20241117T100000
DTEND;TZID=America/Toronto:20241117T110000
DTSTAMP:20260419T101234
CREATED:20241105T021629Z
LAST-MODIFIED:20241105T021629Z
UID:40020-1731837600-1731841200@meditationinhamilton.org
SUMMARY:The Blissful Path
DESCRIPTION:
URL:https://meditationinhamilton.org/event/the-blissful-path/
CATEGORIES:Chanted Prayers
END:VEVENT
BEGIN:VEVENT
DTSTART;TZID=America/Toronto:20241114T193000
DTEND;TZID=America/Toronto:20241114T201500
DTSTAMP:20260419T101234
CREATED:20240703T035052Z
LAST-MODIFIED:20240703T035052Z
UID:39667-1731612600-1731615300@meditationinhamilton.org
SUMMARY:Peace of Mind
DESCRIPTION:
URL:https://meditationinhamilton.org/event/peace-of-mind-54/
CATEGORIES:General Program Meditation Class
END:VEVENT
BEGIN:VEVENT
DTSTART;TZID=America/Toronto:20241113T190000
DTEND;TZID=America/Toronto:20241113T220000
DTSTAMP:20260419T101234
CREATED:20240703T032236Z
LAST-MODIFIED:20240703T032236Z
UID:39635-1731524400-1731535200@meditationinhamilton.org
SUMMARY:Foundation Program
DESCRIPTION:
URL:https://meditationinhamilton.org/event/foundation-program-162/
CATEGORIES:Foundation Program
END:VEVENT
BEGIN:VEVENT
DTSTART;TZID=America/Toronto:20241112T193000
DTEND;TZID=America/Toronto:20241112T210000
DTSTAMP:20260419T101234
CREATED:20240703T025345Z
LAST-MODIFIED:20240703T025345Z
UID:39593-1731439800-1731445200@meditationinhamilton.org
SUMMARY:General Program Class
DESCRIPTION:
URL:https://meditationinhamilton.org/event/general-program-class-239/
CATEGORIES:General Program Meditation Class
END:VEVENT
BEGIN:VEVENT
DTSTART;TZID=America/Toronto:20241111T193000
DTEND;TZID=America/Toronto:20241111T210000
DTSTAMP:20260419T101234
CREATED:20240703T025227Z
LAST-MODIFIED:20240703T025227Z
UID:39591-1731353400-1731358800@meditationinhamilton.org
SUMMARY:General Program Class
DESCRIPTION:
URL:https://meditationinhamilton.org/event/general-program-class-238/
CATEGORIES:General Program Meditation Class
END:VEVENT
BEGIN:VEVENT
DTSTART;TZID=America/Toronto:20241110T120000
DTEND;TZID=America/Toronto:20241110T140000
DTSTAMP:20260419T101234
CREATED:20240703T040440Z
LAST-MODIFIED:20240703T040440Z
UID:39680-1731240000-1731247200@meditationinhamilton.org
SUMMARY:Offering to the Spiritual Guide
DESCRIPTION:
URL:https://meditationinhamilton.org/event/offering-to-the-spiritual-guide-102/
CATEGORIES:Chanted Prayers
END:VEVENT
BEGIN:VEVENT
DTSTART;TZID=America/Toronto:20241107T193000
DTEND;TZID=America/Toronto:20241107T201500
DTSTAMP:20260419T101234
CREATED:20240703T034850Z
LAST-MODIFIED:20240703T034850Z
UID:39665-1731007800-1731010500@meditationinhamilton.org
SUMMARY:Peace of Mind
DESCRIPTION:
URL:https://meditationinhamilton.org/event/peace-of-mind-53/
CATEGORIES:General Program Meditation Class
END:VEVENT
BEGIN:VEVENT
DTSTART;TZID=America/Toronto:20241106T190000
DTEND;TZID=America/Toronto:20241106T220000
DTSTAMP:20260419T101234
CREATED:20240703T032143Z
LAST-MODIFIED:20240703T032143Z
UID:39633-1730919600-1730930400@meditationinhamilton.org
SUMMARY:Foundation Program
DESCRIPTION:
URL:https://meditationinhamilton.org/event/foundation-program-161/
CATEGORIES:Foundation Program
END:VEVENT
BEGIN:VEVENT
DTSTART;TZID=America/Toronto:20241105T193000
DTEND;TZID=America/Toronto:20241105T210000
DTSTAMP:20260419T101234
CREATED:20240703T025122Z
LAST-MODIFIED:20240703T025122Z
UID:39589-1730835000-1730840400@meditationinhamilton.org
SUMMARY:General Program Class
DESCRIPTION:
URL:https://meditationinhamilton.org/event/general-program-class-237/
CATEGORIES:General Program Meditation Class
END:VEVENT
BEGIN:VEVENT
DTSTART;TZID=America/Toronto:20241104T193000
DTEND;TZID=America/Toronto:20241104T210000
DTSTAMP:20260419T101234
CREATED:20240703T025023Z
LAST-MODIFIED:20240703T025023Z
UID:39587-1730748600-1730754000@meditationinhamilton.org
SUMMARY:General Program Class
DESCRIPTION:
URL:https://meditationinhamilton.org/event/general-program-class-236/
CATEGORIES:General Program Meditation Class
END:VEVENT
BEGIN:VEVENT
DTSTART;TZID=America/Toronto:20241031T193000
DTEND;TZID=America/Toronto:20241031T201500
DTSTAMP:20260419T101234
CREATED:20240703T034720Z
LAST-MODIFIED:20240703T034720Z
UID:39663-1730403000-1730405700@meditationinhamilton.org
SUMMARY:Peace of Mind
DESCRIPTION:
URL:https://meditationinhamilton.org/event/peace-of-mind-52/
CATEGORIES:General Program Meditation Class
END:VEVENT
BEGIN:VEVENT
DTSTART;TZID=America/Toronto:20241030T190000
DTEND;TZID=America/Toronto:20241030T220000
DTSTAMP:20260419T101234
CREATED:20240703T032041Z
LAST-MODIFIED:20240703T032041Z
UID:39631-1730314800-1730325600@meditationinhamilton.org
SUMMARY:Foundation Program
DESCRIPTION:
URL:https://meditationinhamilton.org/event/foundation-program-160/
CATEGORIES:Foundation Program
END:VEVENT
BEGIN:VEVENT
DTSTART;TZID=America/Toronto:20241029T193000
DTEND;TZID=America/Toronto:20241029T210000
DTSTAMP:20260419T101234
CREATED:20240703T024147Z
LAST-MODIFIED:20240703T024147Z
UID:39584-1730230200-1730235600@meditationinhamilton.org
SUMMARY:General Program Class
DESCRIPTION:
URL:https://meditationinhamilton.org/event/general-program-class-235/
CATEGORIES:General Program Meditation Class
END:VEVENT
BEGIN:VEVENT
DTSTART;TZID=America/Toronto:20241029T120000
DTEND;TZID=America/Toronto:20241029T130000
DTSTAMP:20260419T101234
CREATED:20230810T165559Z
LAST-MODIFIED:20230810T165559Z
UID:38808-1730203200-1730206800@meditationinhamilton.org
SUMMARY:Wishfulfilling Jewel
DESCRIPTION:
URL:https://meditationinhamilton.org/event/wishfulfilling-jewel-11/
CATEGORIES:Chanted Prayers
END:VEVENT
BEGIN:VEVENT
DTSTART;TZID=America/Toronto:20241028T193000
DTEND;TZID=America/Toronto:20241028T210000
DTSTAMP:20260419T101234
CREATED:20240703T023408Z
LAST-MODIFIED:20240703T023408Z
UID:39574-1730143800-1730149200@meditationinhamilton.org
SUMMARY:General Program Class
DESCRIPTION:
URL:https://meditationinhamilton.org/event/general-program-class-230/
CATEGORIES:General Program Meditation Class
END:VEVENT
BEGIN:VEVENT
DTSTART;TZID=America/Toronto:20241025T120000
DTEND;TZID=America/Toronto:20241025T140000
DTSTAMP:20260419T101234
CREATED:20230810T172602Z
LAST-MODIFIED:20241024T161901Z
UID:38851-1729857600-1729864800@meditationinhamilton.org
SUMMARY:Offering to the Spiritual Guide
DESCRIPTION:
URL:https://meditationinhamilton.org/event/offering-to-the-spiritual-guide-134/
CATEGORIES:Chanted Prayers
END:VEVENT
BEGIN:VEVENT
DTSTART;VALUE=DATE:20241025
DTEND;VALUE=DATE:20241102
DTSTAMP:20260419T101234
CREATED:20230615T153301Z
LAST-MODIFIED:20230615T153301Z
UID:38585-1729814400-1730505599@meditationinhamilton.org
SUMMARY:Fall Festival
DESCRIPTION:
URL:https://meditationinhamilton.org/event/fall-festival-3/
END:VEVENT
BEGIN:VEVENT
DTSTART;TZID=America/Toronto:20241024T193000
DTEND;TZID=America/Toronto:20241024T201500
DTSTAMP:20260419T101234
CREATED:20240703T034459Z
LAST-MODIFIED:20240703T034459Z
UID:39661-1729798200-1729800900@meditationinhamilton.org
SUMMARY:Peace of Mind
DESCRIPTION:
URL:https://meditationinhamilton.org/event/peace-of-mind-51/
CATEGORIES:General Program Meditation Class
END:VEVENT
BEGIN:VEVENT
DTSTART;TZID=America/Toronto:20241023T190000
DTEND;TZID=America/Toronto:20241023T220000
DTSTAMP:20260419T101234
CREATED:20240703T031948Z
LAST-MODIFIED:20240703T031948Z
UID:39629-1729710000-1729720800@meditationinhamilton.org
SUMMARY:Foundation Program
DESCRIPTION:
URL:https://meditationinhamilton.org/event/foundation-program-159/
CATEGORIES:Foundation Program
END:VEVENT
BEGIN:VEVENT
DTSTART;TZID=America/Toronto:20241022T193000
DTEND;TZID=America/Toronto:20241022T210000
DTSTAMP:20260419T101234
CREATED:20240703T024032Z
LAST-MODIFIED:20240703T024032Z
UID:39582-1729625400-1729630800@meditationinhamilton.org
SUMMARY:General Program Class
DESCRIPTION:
URL:https://meditationinhamilton.org/event/general-program-class-234/
CATEGORIES:General Program Meditation Class
END:VEVENT
BEGIN:VEVENT
DTSTART;TZID=America/Toronto:20241021T193000
DTEND;TZID=America/Toronto:20241021T210000
DTSTAMP:20260419T101234
CREATED:20240703T023305Z
LAST-MODIFIED:20240703T023305Z
UID:39572-1729539000-1729544400@meditationinhamilton.org
SUMMARY:General Program Class
DESCRIPTION:
URL:https://meditationinhamilton.org/event/general-program-class-229/
CATEGORIES:General Program Meditation Class
END:VEVENT
BEGIN:VEVENT
DTSTART;TZID=America/Toronto:20241019T190000
DTEND;TZID=America/Toronto:20241019T213000
DTSTAMP:20260419T101234
CREATED:20240924T022110Z
LAST-MODIFIED:20240924T035006Z
UID:39799-1729364400-1729373400@meditationinhamilton.org
SUMMARY:Saturday Night at the Movies
DESCRIPTION:Featuring ‘The Wheel of Life’
URL:https://meditationinhamilton.org/event/saturday-night-at-the-movies/
END:VEVENT
BEGIN:VEVENT
DTSTART;TZID=America/Toronto:20241017T193000
DTEND;TZID=America/Toronto:20241017T201500
DTSTAMP:20260419T101234
CREATED:20240703T034253Z
LAST-MODIFIED:20240703T034253Z
UID:39659-1729193400-1729196100@meditationinhamilton.org
SUMMARY:Peace of Mind
DESCRIPTION:
URL:https://meditationinhamilton.org/event/peace-of-mind-50/
CATEGORIES:General Program Meditation Class
END:VEVENT
BEGIN:VEVENT
DTSTART;TZID=America/Toronto:20241016T190000
DTEND;TZID=America/Toronto:20241016T220000
DTSTAMP:20260419T101234
CREATED:20240703T031851Z
LAST-MODIFIED:20240703T031851Z
UID:39627-1729105200-1729116000@meditationinhamilton.org
SUMMARY:Foundation Program
DESCRIPTION:
URL:https://meditationinhamilton.org/event/foundation-program-158/
CATEGORIES:General Program Meditation Class
END:VEVENT
BEGIN:VEVENT
DTSTART;TZID=America/Toronto:20241015T193000
DTEND;TZID=America/Toronto:20241015T210000
DTSTAMP:20260419T101234
CREATED:20240703T023916Z
LAST-MODIFIED:20240703T023916Z
UID:39580-1729020600-1729026000@meditationinhamilton.org
SUMMARY:General Program Class
DESCRIPTION:
URL:https://meditationinhamilton.org/event/general-program-class-233/
CATEGORIES:General Program Meditation Class
END:VEVENT
BEGIN:VEVENT
DTSTART;TZID=America/Toronto:20241010T193000
DTEND;TZID=America/Toronto:20241010T201500
DTSTAMP:20260419T101234
CREATED:20240703T034130Z
LAST-MODIFIED:20240703T034130Z
UID:39657-1728588600-1728591300@meditationinhamilton.org
SUMMARY:Peace of Mind
DESCRIPTION:
URL:https://meditationinhamilton.org/event/peace-of-mind-49/
CATEGORIES:General Program Meditation Class
END:VEVENT
BEGIN:VEVENT
DTSTART;TZID=America/Toronto:20241010T120000
DTEND;TZID=America/Toronto:20241010T140000
DTSTAMP:20260419T101234
CREATED:20230810T172459Z
LAST-MODIFIED:20240703T024423Z
UID:38849-1728561600-1728568800@meditationinhamilton.org
SUMMARY:Offering to the Spiritual Guide
DESCRIPTION:
URL:https://meditationinhamilton.org/event/offering-to-the-spiritual-guide-133/
CATEGORIES:Chanted Prayers
END:VEVENT
END:VCALENDAR