BEGIN:VCALENDAR
VERSION:2.0
PRODID:-//Samudra Kadampa Buddhist Centre - ECPv6.15.20//NONSGML v1.0//EN
CALSCALE:GREGORIAN
METHOD:PUBLISH
X-WR-CALNAME:Samudra Kadampa Buddhist Centre
X-ORIGINAL-URL:https://meditationinhamilton.org
X-WR-CALDESC:Events for Samudra Kadampa Buddhist Centre
REFRESH-INTERVAL;VALUE=DURATION:PT1H
X-Robots-Tag:noindex
X-PUBLISHED-TTL:PT1H
BEGIN:VTIMEZONE
TZID:America/Toronto
BEGIN:DAYLIGHT
TZOFFSETFROM:-0500
TZOFFSETTO:-0400
TZNAME:EDT
DTSTART:20220313T070000
END:DAYLIGHT
BEGIN:STANDARD
TZOFFSETFROM:-0400
TZOFFSETTO:-0500
TZNAME:EST
DTSTART:20221106T060000
END:STANDARD
BEGIN:DAYLIGHT
TZOFFSETFROM:-0500
TZOFFSETTO:-0400
TZNAME:EDT
DTSTART:20230312T070000
END:DAYLIGHT
BEGIN:STANDARD
TZOFFSETFROM:-0400
TZOFFSETTO:-0500
TZNAME:EST
DTSTART:20231105T060000
END:STANDARD
BEGIN:DAYLIGHT
TZOFFSETFROM:-0500
TZOFFSETTO:-0400
TZNAME:EDT
DTSTART:20240310T070000
END:DAYLIGHT
BEGIN:STANDARD
TZOFFSETFROM:-0400
TZOFFSETTO:-0500
TZNAME:EST
DTSTART:20241103T060000
END:STANDARD
END:VTIMEZONE
BEGIN:VEVENT
DTSTART;TZID=America/Toronto:20230828T193000
DTEND;TZID=America/Toronto:20230828T210000
DTSTAMP:20260423T073932
CREATED:20230525T032345Z
LAST-MODIFIED:20230525T032345Z
UID:38459-1693251000-1693256400@meditationinhamilton.org
SUMMARY:General Program Class
DESCRIPTION:
URL:https://meditationinhamilton.org/event/general-program-class-158/
CATEGORIES:General Program Meditation Class
END:VEVENT
BEGIN:VEVENT
DTSTART;TZID=America/Toronto:20230826T110000
DTEND;TZID=America/Toronto:20230826T123000
DTSTAMP:20260423T073932
CREATED:20230815T192312Z
LAST-MODIFIED:20230815T192312Z
UID:38879-1693047600-1693053000@meditationinhamilton.org
SUMMARY:Centre Cherishing Day
DESCRIPTION:Accumulate merit by helping keep Samudra Centre clean and tidy. Such actions are also an important way to both purify negative karma and make a special offering to your Spiritual Guide.
URL:https://meditationinhamilton.org/event/centre-cherishing-day-6/
END:VEVENT
BEGIN:VEVENT
DTSTART;TZID=America/Toronto:20230825T193000
DTEND;TZID=America/Toronto:20230825T213000
DTSTAMP:20260423T073932
CREATED:20230525T033516Z
LAST-MODIFIED:20230525T033516Z
UID:38475-1692991800-1692999000@meditationinhamilton.org
SUMMARY:Offering to the Spiritual Guide
DESCRIPTION:
URL:https://meditationinhamilton.org/event/offering-to-the-spiritual-guide-111/
CATEGORIES:Chanted Prayers
END:VEVENT
BEGIN:VEVENT
DTSTART;TZID=America/Toronto:20230823T193000
DTEND;TZID=America/Toronto:20230823T213000
DTSTAMP:20260423T073932
CREATED:20230525T035443Z
LAST-MODIFIED:20230525T035443Z
UID:38499-1692819000-1692826200@meditationinhamilton.org
SUMMARY:Foundation Program Book Club
DESCRIPTION:
URL:https://meditationinhamilton.org/event/foundation-program-book-club-9/
END:VEVENT
BEGIN:VEVENT
DTSTART;TZID=America/Toronto:20230822T193000
DTEND;TZID=America/Toronto:20230822T210000
DTSTAMP:20260423T073932
CREATED:20230525T032231Z
LAST-MODIFIED:20230525T032231Z
UID:38457-1692732600-1692738000@meditationinhamilton.org
SUMMARY:General Program Class
DESCRIPTION:
URL:https://meditationinhamilton.org/event/general-program-class-157/
CATEGORIES:General Program Meditation Class
END:VEVENT
BEGIN:VEVENT
DTSTART;TZID=America/Toronto:20230821T193000
DTEND;TZID=America/Toronto:20230821T210000
DTSTAMP:20260423T073932
CREATED:20230525T032131Z
LAST-MODIFIED:20230525T032131Z
UID:38455-1692646200-1692651600@meditationinhamilton.org
SUMMARY:General Program Class
DESCRIPTION:
URL:https://meditationinhamilton.org/event/general-program-class-156/
CATEGORIES:General Program Meditation Class
END:VEVENT
BEGIN:VEVENT
DTSTART;TZID=America/Toronto:20230819T100000
DTEND;TZID=America/Toronto:20230819T130000
DTSTAMP:20260423T073932
CREATED:20230525T084040Z
LAST-MODIFIED:20230708T214053Z
UID:38539-1692439200-1692450000@meditationinhamilton.org
SUMMARY:Let Go of Past Trauma
DESCRIPTION:
URL:https://meditationinhamilton.org/event/meditations-that-will-change-your-life/
CATEGORIES:Half Day Course
END:VEVENT
BEGIN:VEVENT
DTSTART;TZID=America/Toronto:20230816T193000
DTEND;TZID=America/Toronto:20230816T213000
DTSTAMP:20260423T073932
CREATED:20230525T035401Z
LAST-MODIFIED:20230525T035401Z
UID:38497-1692214200-1692221400@meditationinhamilton.org
SUMMARY:Foundation Program Book Club
DESCRIPTION:
URL:https://meditationinhamilton.org/event/foundation-program-book-club-8/
END:VEVENT
BEGIN:VEVENT
DTSTART;TZID=America/Toronto:20230815T193000
DTEND;TZID=America/Toronto:20230815T210000
DTSTAMP:20260423T073932
CREATED:20230525T032034Z
LAST-MODIFIED:20230525T032034Z
UID:38453-1692127800-1692133200@meditationinhamilton.org
SUMMARY:General Program Class
DESCRIPTION:
URL:https://meditationinhamilton.org/event/general-program-class-155/
CATEGORIES:General Program Meditation Class
END:VEVENT
BEGIN:VEVENT
DTSTART;TZID=America/Toronto:20230814T193000
DTEND;TZID=America/Toronto:20230814T210000
DTSTAMP:20260423T073932
CREATED:20230525T031938Z
LAST-MODIFIED:20230525T031938Z
UID:38451-1692041400-1692046800@meditationinhamilton.org
SUMMARY:General Program Class
DESCRIPTION:
URL:https://meditationinhamilton.org/event/general-program-class-154/
CATEGORIES:General Program Meditation Class
END:VEVENT
BEGIN:VEVENT
DTSTART;TZID=America/Toronto:20230810T193000
DTEND;TZID=America/Toronto:20230810T213000
DTSTAMP:20260423T073932
CREATED:20230525T033432Z
LAST-MODIFIED:20230525T033432Z
UID:38473-1691695800-1691703000@meditationinhamilton.org
SUMMARY:Offering to the Spiritual Guide
DESCRIPTION:
URL:https://meditationinhamilton.org/event/offering-to-the-spiritual-guide-110/
CATEGORIES:Chanted Prayers
END:VEVENT
BEGIN:VEVENT
DTSTART;TZID=America/Toronto:20230809T193000
DTEND;TZID=America/Toronto:20230809T213000
DTSTAMP:20260423T073932
CREATED:20230525T035316Z
LAST-MODIFIED:20230525T035316Z
UID:38495-1691609400-1691616600@meditationinhamilton.org
SUMMARY:Foundation Program Book Club
DESCRIPTION:
URL:https://meditationinhamilton.org/event/foundation-program-book-club-7/
END:VEVENT
BEGIN:VEVENT
DTSTART;TZID=America/Toronto:20230808T193000
DTEND;TZID=America/Toronto:20230808T210000
DTSTAMP:20260423T073932
CREATED:20230525T031838Z
LAST-MODIFIED:20230525T031838Z
UID:38449-1691523000-1691528400@meditationinhamilton.org
SUMMARY:General Program Class
DESCRIPTION:
URL:https://meditationinhamilton.org/event/general-program-class-153/
CATEGORIES:General Program Meditation Class
END:VEVENT
BEGIN:VEVENT
DTSTART;TZID=America/Toronto:20230807T193000
DTEND;TZID=America/Toronto:20230807T210000
DTSTAMP:20260423T073932
CREATED:20230525T031735Z
LAST-MODIFIED:20230525T031735Z
UID:38447-1691436600-1691442000@meditationinhamilton.org
SUMMARY:General Program Class
DESCRIPTION:
URL:https://meditationinhamilton.org/event/general-program-class-152/
CATEGORIES:General Program Meditation Class
END:VEVENT
BEGIN:VEVENT
DTSTART;TZID=America/Toronto:20230802T193000
DTEND;TZID=America/Toronto:20230802T213000
DTSTAMP:20260423T073932
CREATED:20230525T035227Z
LAST-MODIFIED:20230525T035227Z
UID:38493-1691004600-1691011800@meditationinhamilton.org
SUMMARY:Foundation Program Book Club
DESCRIPTION:
URL:https://meditationinhamilton.org/event/foundation-program-book-club-6/
END:VEVENT
BEGIN:VEVENT
DTSTART;TZID=America/Toronto:20230801T193000
DTEND;TZID=America/Toronto:20230801T210000
DTSTAMP:20260423T073932
CREATED:20230525T031641Z
LAST-MODIFIED:20230525T031641Z
UID:38445-1690918200-1690923600@meditationinhamilton.org
SUMMARY:General Program Class
DESCRIPTION:
URL:https://meditationinhamilton.org/event/general-program-class-151/
CATEGORIES:General Program Meditation Class
END:VEVENT
BEGIN:VEVENT
DTSTART;TZID=America/Toronto:20230731T193000
DTEND;TZID=America/Toronto:20230731T210000
DTSTAMP:20260423T073932
CREATED:20230525T031527Z
LAST-MODIFIED:20230525T031527Z
UID:38443-1690831800-1690837200@meditationinhamilton.org
SUMMARY:General Program Class
DESCRIPTION:
URL:https://meditationinhamilton.org/event/general-program-class-150/
CATEGORIES:General Program Meditation Class
END:VEVENT
BEGIN:VEVENT
DTSTART;TZID=America/Toronto:20230729T120000
DTEND;TZID=America/Toronto:20230729T153000
DTSTAMP:20260423T073932
CREATED:20230517T203818Z
LAST-MODIFIED:20230517T203818Z
UID:38421-1690632000-1690644600@meditationinhamilton.org
SUMMARY:Melodious Drum
DESCRIPTION:
URL:https://meditationinhamilton.org/event/melodious-drum-46/
CATEGORIES:Chanted Prayers
END:VEVENT
BEGIN:VEVENT
DTSTART;VALUE=DATE:20230728
DTEND;VALUE=DATE:20230813
DTSTAMP:20260423T073932
CREATED:20220610T194131Z
LAST-MODIFIED:20220610T194131Z
UID:37212-1690502400-1691884799@meditationinhamilton.org
SUMMARY:Summer Festival
DESCRIPTION:
URL:https://meditationinhamilton.org/event/summer-festival/
LOCATION:Manjushri Kadampa Meditation Centre\, Conishead Priory\, Ulverston\, Cumbria\,  LA12 9QQ\, United Kingdom
END:VEVENT
BEGIN:VEVENT
DTSTART;TZID=America/Toronto:20230726T193000
DTEND;TZID=America/Toronto:20230726T213000
DTSTAMP:20260423T073932
CREATED:20230525T035001Z
LAST-MODIFIED:20230525T035001Z
UID:38491-1690399800-1690407000@meditationinhamilton.org
SUMMARY:Foundation Program Book Club
DESCRIPTION:
URL:https://meditationinhamilton.org/event/foundation-program-book-club-5/
END:VEVENT
BEGIN:VEVENT
DTSTART;TZID=America/Toronto:20230725T193000
DTEND;TZID=America/Toronto:20230725T210000
DTSTAMP:20260423T073932
CREATED:20230525T031419Z
LAST-MODIFIED:20230525T031419Z
UID:38441-1690313400-1690318800@meditationinhamilton.org
SUMMARY:General Program Class
DESCRIPTION:
URL:https://meditationinhamilton.org/event/general-program-class-149/
CATEGORIES:General Program Meditation Class
END:VEVENT
BEGIN:VEVENT
DTSTART;TZID=America/Toronto:20230725T120000
DTEND;TZID=America/Toronto:20230725T140000
DTSTAMP:20260423T073932
CREATED:20230517T201432Z
LAST-MODIFIED:20230517T201432Z
UID:38399-1690286400-1690293600@meditationinhamilton.org
SUMMARY:Offering to the Spiritual Guide
DESCRIPTION:
URL:https://meditationinhamilton.org/event/offering-to-the-spiritual-guide-100/
CATEGORIES:Chanted Prayers
END:VEVENT
BEGIN:VEVENT
DTSTART;TZID=America/Toronto:20230724T193000
DTEND;TZID=America/Toronto:20230724T210000
DTSTAMP:20260423T073932
CREATED:20230525T031319Z
LAST-MODIFIED:20230525T031319Z
UID:38439-1690227000-1690232400@meditationinhamilton.org
SUMMARY:General Program Class
DESCRIPTION:
URL:https://meditationinhamilton.org/event/general-program-class-148/
CATEGORIES:General Program Meditation Class
END:VEVENT
BEGIN:VEVENT
DTSTART;TZID=America/Toronto:20230722T093000
DTEND;TZID=America/Toronto:20230722T163000
DTSTAMP:20260423T073932
CREATED:20230525T082427Z
LAST-MODIFIED:20230525T082427Z
UID:38533-1690018200-1690043400@meditationinhamilton.org
SUMMARY:The Power of Mantra & Meditation Retreat
DESCRIPTION:
URL:https://meditationinhamilton.org/event/the-power-of-mantra-meditation-retreat/
CATEGORIES:Meditation Retreat
END:VEVENT
BEGIN:VEVENT
DTSTART;TZID=America/Toronto:20230719T193000
DTEND;TZID=America/Toronto:20230719T213000
DTSTAMP:20260423T073932
CREATED:20230525T034913Z
LAST-MODIFIED:20230525T034913Z
UID:38489-1689795000-1689802200@meditationinhamilton.org
SUMMARY:Foundation Program Book Club
DESCRIPTION:
URL:https://meditationinhamilton.org/event/foundation-program-book-club-4/
END:VEVENT
BEGIN:VEVENT
DTSTART;TZID=America/Toronto:20230718T193000
DTEND;TZID=America/Toronto:20230718T210000
DTSTAMP:20260423T073932
CREATED:20230517T192234Z
LAST-MODIFIED:20230517T192234Z
UID:38343-1689708600-1689714000@meditationinhamilton.org
SUMMARY:General Program Class
DESCRIPTION:
URL:https://meditationinhamilton.org/event/general-program-class-117/
CATEGORIES:General Program Meditation Class
END:VEVENT
BEGIN:VEVENT
DTSTART;TZID=America/Toronto:20230717T193000
DTEND;TZID=America/Toronto:20230717T210000
DTSTAMP:20260423T073932
CREATED:20230525T031221Z
LAST-MODIFIED:20230525T031221Z
UID:38437-1689622200-1689627600@meditationinhamilton.org
SUMMARY:General Program Class
DESCRIPTION:
URL:https://meditationinhamilton.org/event/general-program-class-147/
CATEGORIES:General Program Meditation Class
END:VEVENT
BEGIN:VEVENT
DTSTART;TZID=America/Toronto:20230712T193000
DTEND;TZID=America/Toronto:20230712T213000
DTSTAMP:20260423T073932
CREATED:20230525T034830Z
LAST-MODIFIED:20230525T034830Z
UID:38487-1689190200-1689197400@meditationinhamilton.org
SUMMARY:Foundation Program Book Club
DESCRIPTION:
URL:https://meditationinhamilton.org/event/foundation-program-book-club-3/
END:VEVENT
BEGIN:VEVENT
DTSTART;TZID=America/Toronto:20230711T193000
DTEND;TZID=America/Toronto:20230711T210000
DTSTAMP:20260423T073932
CREATED:20230517T192128Z
LAST-MODIFIED:20230517T192128Z
UID:38341-1689103800-1689109200@meditationinhamilton.org
SUMMARY:General Program Class
DESCRIPTION:
URL:https://meditationinhamilton.org/event/general-program-class-116/
CATEGORIES:General Program Meditation Class
END:VEVENT
BEGIN:VEVENT
DTSTART;TZID=America/Toronto:20230710T193000
DTEND;TZID=America/Toronto:20230710T210000
DTSTAMP:20260423T073932
CREATED:20230525T031119Z
LAST-MODIFIED:20230525T031119Z
UID:38435-1689017400-1689022800@meditationinhamilton.org
SUMMARY:General Program Class
DESCRIPTION:
URL:https://meditationinhamilton.org/event/general-program-class-146/
CATEGORIES:General Program Meditation Class
END:VEVENT
END:VCALENDAR