BEGIN:VCALENDAR
VERSION:2.0
PRODID:-//Samudra Kadampa Buddhist Centre - ECPv6.15.20//NONSGML v1.0//EN
CALSCALE:GREGORIAN
METHOD:PUBLISH
X-WR-CALNAME:Samudra Kadampa Buddhist Centre
X-ORIGINAL-URL:https://meditationinhamilton.org
X-WR-CALDESC:Events for Samudra Kadampa Buddhist Centre
REFRESH-INTERVAL;VALUE=DURATION:PT1H
X-Robots-Tag:noindex
X-PUBLISHED-TTL:PT1H
BEGIN:VTIMEZONE
TZID:America/Toronto
BEGIN:DAYLIGHT
TZOFFSETFROM:-0500
TZOFFSETTO:-0400
TZNAME:EDT
DTSTART:20220313T070000
END:DAYLIGHT
BEGIN:STANDARD
TZOFFSETFROM:-0400
TZOFFSETTO:-0500
TZNAME:EST
DTSTART:20221106T060000
END:STANDARD
BEGIN:DAYLIGHT
TZOFFSETFROM:-0500
TZOFFSETTO:-0400
TZNAME:EDT
DTSTART:20230312T070000
END:DAYLIGHT
BEGIN:STANDARD
TZOFFSETFROM:-0400
TZOFFSETTO:-0500
TZNAME:EST
DTSTART:20231105T060000
END:STANDARD
BEGIN:DAYLIGHT
TZOFFSETFROM:-0500
TZOFFSETTO:-0400
TZNAME:EDT
DTSTART:20240310T070000
END:DAYLIGHT
BEGIN:STANDARD
TZOFFSETFROM:-0400
TZOFFSETTO:-0500
TZNAME:EST
DTSTART:20241103T060000
END:STANDARD
END:VTIMEZONE
BEGIN:VEVENT
DTSTART;TZID=America/Toronto:20231010T193000
DTEND;TZID=America/Toronto:20231010T210000
DTSTAMP:20260423T062757
CREATED:20230517T195729Z
LAST-MODIFIED:20230517T195729Z
UID:38377-1696966200-1696971600@meditationinhamilton.org
SUMMARY:General Program Class
DESCRIPTION:
URL:https://meditationinhamilton.org/event/general-program-class-134/
CATEGORIES:General Program Meditation Class
END:VEVENT
BEGIN:VEVENT
DTSTART;TZID=America/Toronto:20231010T120000
DTEND;TZID=America/Toronto:20231010T140000
DTSTAMP:20260423T062757
CREATED:20230810T172218Z
LAST-MODIFIED:20230810T172218Z
UID:38845-1696939200-1696946400@meditationinhamilton.org
SUMMARY:Offering to the Spiritual Guide
DESCRIPTION:
URL:https://meditationinhamilton.org/event/offering-to-the-spiritual-guide-131/
CATEGORIES:Chanted Prayers
END:VEVENT
BEGIN:VEVENT
DTSTART;VALUE=DATE:20231006
DTEND;VALUE=DATE:20231013
DTSTAMP:20260423T062757
CREATED:20221119T122906Z
LAST-MODIFIED:20221119T122906Z
UID:37820-1696550400-1697155199@meditationinhamilton.org
SUMMARY:Fall Festival
DESCRIPTION:
URL:https://meditationinhamilton.org/event/fall-festival-2/
END:VEVENT
BEGIN:VEVENT
DTSTART;TZID=America/Toronto:20231005T193000
DTEND;TZID=America/Toronto:20231005T201500
DTSTAMP:20260423T062757
CREATED:20230726T023903Z
LAST-MODIFIED:20230726T023903Z
UID:38690-1696534200-1696536900@meditationinhamilton.org
SUMMARY:Peace of Mind
DESCRIPTION:
URL:https://meditationinhamilton.org/event/peace-of-mind-5/
CATEGORIES:General Program Meditation Class
END:VEVENT
BEGIN:VEVENT
DTSTART;TZID=America/Toronto:20231004T190000
DTEND;TZID=America/Toronto:20231004T220000
DTSTAMP:20260423T062757
CREATED:20230525T041043Z
LAST-MODIFIED:20230525T041043Z
UID:38521-1696446000-1696456800@meditationinhamilton.org
SUMMARY:Foundation Program
DESCRIPTION:
URL:https://meditationinhamilton.org/event/foundation-program-130/
CATEGORIES:Foundation Program
END:VEVENT
BEGIN:VEVENT
DTSTART;TZID=America/Toronto:20231003T193000
DTEND;TZID=America/Toronto:20231003T210000
DTSTAMP:20260423T062757
CREATED:20230517T195627Z
LAST-MODIFIED:20230517T195627Z
UID:38375-1696361400-1696366800@meditationinhamilton.org
SUMMARY:General Program Class
DESCRIPTION:
URL:https://meditationinhamilton.org/event/general-program-class-133/
CATEGORIES:General Program Meditation Class
END:VEVENT
BEGIN:VEVENT
DTSTART;TZID=America/Toronto:20231002T193000
DTEND;TZID=America/Toronto:20231002T210000
DTSTAMP:20260423T062757
CREATED:20230517T195513Z
LAST-MODIFIED:20230517T195513Z
UID:38373-1696275000-1696280400@meditationinhamilton.org
SUMMARY:General Program Class
DESCRIPTION:
URL:https://meditationinhamilton.org/event/general-program-class-132/
CATEGORIES:General Program Meditation Class
END:VEVENT
BEGIN:VEVENT
DTSTART;TZID=America/Toronto:20230929T183000
DTEND;TZID=America/Toronto:20230929T220000
DTSTAMP:20260423T062757
CREATED:20230525T033913Z
LAST-MODIFIED:20230525T033913Z
UID:38479-1696012200-1696024800@meditationinhamilton.org
SUMMARY:Melodious Drum
DESCRIPTION:
URL:https://meditationinhamilton.org/event/melodious-drum-47/
CATEGORIES:Chanted Prayers
END:VEVENT
BEGIN:VEVENT
DTSTART;TZID=America/Toronto:20230928T193000
DTEND;TZID=America/Toronto:20230928T201500
DTSTAMP:20260423T062757
CREATED:20230726T023719Z
LAST-MODIFIED:20230726T023719Z
UID:38688-1695929400-1695932100@meditationinhamilton.org
SUMMARY:Peace of Mind
DESCRIPTION:
URL:https://meditationinhamilton.org/event/peace-of-mind-4/
CATEGORIES:General Program Meditation Class
END:VEVENT
BEGIN:VEVENT
DTSTART;TZID=America/Toronto:20230927T190000
DTEND;TZID=America/Toronto:20230927T220000
DTSTAMP:20260423T062757
CREATED:20230525T041132Z
LAST-MODIFIED:20230525T041132Z
UID:38523-1695841200-1695852000@meditationinhamilton.org
SUMMARY:Foundation Program
DESCRIPTION:
URL:https://meditationinhamilton.org/event/foundation-program-131/
CATEGORIES:Foundation Program
END:VEVENT
BEGIN:VEVENT
DTSTART;TZID=America/Toronto:20230926T193000
DTEND;TZID=America/Toronto:20230926T210000
DTSTAMP:20260423T062757
CREATED:20230517T201155Z
LAST-MODIFIED:20230517T201155Z
UID:38397-1695756600-1695762000@meditationinhamilton.org
SUMMARY:General Program Class
DESCRIPTION:
URL:https://meditationinhamilton.org/event/general-program-class-144/
CATEGORIES:General Program Meditation Class
END:VEVENT
BEGIN:VEVENT
DTSTART;TZID=America/Toronto:20230925T193000
DTEND;TZID=America/Toronto:20230925T210000
DTSTAMP:20260423T062757
CREATED:20230517T201031Z
LAST-MODIFIED:20230517T201031Z
UID:38395-1695670200-1695675600@meditationinhamilton.org
SUMMARY:General Program Class
DESCRIPTION:
URL:https://meditationinhamilton.org/event/general-program-class-143/
CATEGORIES:General Program Meditation Class
END:VEVENT
BEGIN:VEVENT
DTSTART;TZID=America/Toronto:20230925T120000
DTEND;TZID=America/Toronto:20230925T140000
DTSTAMP:20260423T062757
CREATED:20230525T033254Z
LAST-MODIFIED:20230525T033254Z
UID:38471-1695643200-1695650400@meditationinhamilton.org
SUMMARY:Offering to the Spiritual Guide
DESCRIPTION:
URL:https://meditationinhamilton.org/event/offering-to-the-spiritual-guide-109/
CATEGORIES:Chanted Prayers
END:VEVENT
BEGIN:VEVENT
DTSTART;TZID=America/Toronto:20230921T193000
DTEND;TZID=America/Toronto:20230921T201500
DTSTAMP:20260423T062757
CREATED:20230726T023616Z
LAST-MODIFIED:20230726T023616Z
UID:38686-1695324600-1695327300@meditationinhamilton.org
SUMMARY:Peace of Mind
DESCRIPTION:
URL:https://meditationinhamilton.org/event/peace-of-mind-3/
CATEGORIES:General Program Meditation Class
END:VEVENT
BEGIN:VEVENT
DTSTART;TZID=America/Toronto:20230920T190000
DTEND;TZID=America/Toronto:20230920T220000
DTSTAMP:20260423T062757
CREATED:20230525T041219Z
LAST-MODIFIED:20230525T041219Z
UID:38525-1695236400-1695247200@meditationinhamilton.org
SUMMARY:Foundation Program
DESCRIPTION:
URL:https://meditationinhamilton.org/event/foundation-program-132/
CATEGORIES:Foundation Program
END:VEVENT
BEGIN:VEVENT
DTSTART;TZID=America/Toronto:20230919T193000
DTEND;TZID=America/Toronto:20230919T210000
DTSTAMP:20260423T062757
CREATED:20230517T200917Z
LAST-MODIFIED:20230517T200917Z
UID:38393-1695151800-1695157200@meditationinhamilton.org
SUMMARY:General Program Class
DESCRIPTION:
URL:https://meditationinhamilton.org/event/general-program-class-142/
CATEGORIES:General Program Meditation Class
END:VEVENT
BEGIN:VEVENT
DTSTART;TZID=America/Toronto:20230918T193000
DTEND;TZID=America/Toronto:20230918T210000
DTSTAMP:20260423T062757
CREATED:20230517T200812Z
LAST-MODIFIED:20230517T200812Z
UID:38391-1695065400-1695070800@meditationinhamilton.org
SUMMARY:General Program Class
DESCRIPTION:
URL:https://meditationinhamilton.org/event/general-program-class-141/
CATEGORIES:General Program Meditation Class
END:VEVENT
BEGIN:VEVENT
DTSTART;TZID=America/Toronto:20230916T100000
DTEND;TZID=America/Toronto:20230916T170000
DTSTAMP:20260423T062757
CREATED:20230525T082824Z
LAST-MODIFIED:20230525T082824Z
UID:38535-1694858400-1694883600@meditationinhamilton.org
SUMMARY:Dorje Shugden Empowerment [St Catharines]
DESCRIPTION:
URL:https://meditationinhamilton.org/event/dorje-shugden-empowerment-st-catharines/
END:VEVENT
BEGIN:VEVENT
DTSTART;TZID=America/Toronto:20230914T193000
DTEND;TZID=America/Toronto:20230914T201500
DTSTAMP:20260423T062757
CREATED:20230726T023513Z
LAST-MODIFIED:20230726T023513Z
UID:38684-1694719800-1694722500@meditationinhamilton.org
SUMMARY:Peace of Mind
DESCRIPTION:
URL:https://meditationinhamilton.org/event/peace-of-mind-2/
CATEGORIES:General Program Meditation Class
END:VEVENT
BEGIN:VEVENT
DTSTART;TZID=America/Toronto:20230913T190000
DTEND;TZID=America/Toronto:20230913T220000
DTSTAMP:20260423T062757
CREATED:20230525T041303Z
LAST-MODIFIED:20230525T041303Z
UID:38527-1694631600-1694642400@meditationinhamilton.org
SUMMARY:Foundation Program
DESCRIPTION:
URL:https://meditationinhamilton.org/event/foundation-program-133/
CATEGORIES:Foundation Program
END:VEVENT
BEGIN:VEVENT
DTSTART;TZID=America/Toronto:20230912T193000
DTEND;TZID=America/Toronto:20230912T210000
DTSTAMP:20260423T062757
CREATED:20230525T032901Z
LAST-MODIFIED:20230525T032901Z
UID:38467-1694547000-1694552400@meditationinhamilton.org
SUMMARY:General Program Class
DESCRIPTION:
URL:https://meditationinhamilton.org/event/general-program-class-162/
CATEGORIES:General Program Meditation Class
END:VEVENT
BEGIN:VEVENT
DTSTART;TZID=America/Toronto:20230911T193000
DTEND;TZID=America/Toronto:20230911T210000
DTSTAMP:20260423T062757
CREATED:20230525T032750Z
LAST-MODIFIED:20230525T032750Z
UID:38465-1694460600-1694466000@meditationinhamilton.org
SUMMARY:General Program Class
DESCRIPTION:
URL:https://meditationinhamilton.org/event/general-program-class-161/
CATEGORIES:General Program Meditation Class
END:VEVENT
BEGIN:VEVENT
DTSTART;TZID=America/Toronto:20230910T120000
DTEND;TZID=America/Toronto:20230910T140000
DTSTAMP:20260423T062757
CREATED:20230525T033201Z
LAST-MODIFIED:20230525T033201Z
UID:38469-1694347200-1694354400@meditationinhamilton.org
SUMMARY:Offering to the Spiritual Guide
DESCRIPTION:
URL:https://meditationinhamilton.org/event/offering-to-the-spiritual-guide-108/
CATEGORIES:Chanted Prayers
END:VEVENT
BEGIN:VEVENT
DTSTART;TZID=America/Toronto:20230907T193000
DTEND;TZID=America/Toronto:20230907T201500
DTSTAMP:20260423T062757
CREATED:20230726T023406Z
LAST-MODIFIED:20230726T023406Z
UID:38682-1694115000-1694117700@meditationinhamilton.org
SUMMARY:Peace of Mind
DESCRIPTION:
URL:https://meditationinhamilton.org/event/peace-of-mind/
CATEGORIES:General Program Meditation Class
END:VEVENT
BEGIN:VEVENT
DTSTART;TZID=America/Toronto:20230906T190000
DTEND;TZID=America/Toronto:20230906T220000
DTSTAMP:20260423T062757
CREATED:20230525T041430Z
LAST-MODIFIED:20230525T041430Z
UID:38529-1694026800-1694037600@meditationinhamilton.org
SUMMARY:Foundation Program [new term begins]
DESCRIPTION:
URL:https://meditationinhamilton.org/event/foundation-program-new-term-begins/
CATEGORIES:Foundation Program
END:VEVENT
BEGIN:VEVENT
DTSTART;TZID=America/Toronto:20230905T193000
DTEND;TZID=America/Toronto:20230905T210000
DTSTAMP:20260423T062757
CREATED:20230525T032628Z
LAST-MODIFIED:20230525T032628Z
UID:38463-1693942200-1693947600@meditationinhamilton.org
SUMMARY:General Program Class
DESCRIPTION:
URL:https://meditationinhamilton.org/event/general-program-class-160/
CATEGORIES:General Program Meditation Class
END:VEVENT
BEGIN:VEVENT
DTSTART;TZID=America/Toronto:20230830T193000
DTEND;TZID=America/Toronto:20230830T213000
DTSTAMP:20260423T062757
CREATED:20230525T035527Z
LAST-MODIFIED:20230525T035527Z
UID:38501-1693423800-1693431000@meditationinhamilton.org
SUMMARY:Foundation Program Book Club
DESCRIPTION:
URL:https://meditationinhamilton.org/event/foundation-program-book-club-10/
END:VEVENT
BEGIN:VEVENT
DTSTART;TZID=America/Toronto:20230829T193000
DTEND;TZID=America/Toronto:20230829T210000
DTSTAMP:20260423T062757
CREATED:20230525T032524Z
LAST-MODIFIED:20230525T032524Z
UID:38461-1693337400-1693342800@meditationinhamilton.org
SUMMARY:General Program Class
DESCRIPTION:
URL:https://meditationinhamilton.org/event/general-program-class-159/
CATEGORIES:General Program Meditation Class
END:VEVENT
BEGIN:VEVENT
DTSTART;TZID=America/Toronto:20230829T120000
DTEND;TZID=America/Toronto:20230829T133000
DTSTAMP:20260423T062757
CREATED:20230525T033749Z
LAST-MODIFIED:20230525T033749Z
UID:38477-1693310400-1693315800@meditationinhamilton.org
SUMMARY:Wishfulfilling Jewel
DESCRIPTION:
URL:https://meditationinhamilton.org/event/wishfulfilling-jewel-7/
CATEGORIES:Chanted Prayers
END:VEVENT
BEGIN:VEVENT
DTSTART;TZID=America/Toronto:20230828T193000
DTEND;TZID=America/Toronto:20230828T210000
DTSTAMP:20260423T062757
CREATED:20230525T032345Z
LAST-MODIFIED:20230525T032345Z
UID:38459-1693251000-1693256400@meditationinhamilton.org
SUMMARY:General Program Class
DESCRIPTION:
URL:https://meditationinhamilton.org/event/general-program-class-158/
CATEGORIES:General Program Meditation Class
END:VEVENT
END:VCALENDAR