BEGIN:VCALENDAR
VERSION:2.0
PRODID:-//Samudra Kadampa Buddhist Centre - ECPv6.15.20//NONSGML v1.0//EN
CALSCALE:GREGORIAN
METHOD:PUBLISH
X-WR-CALNAME:Samudra Kadampa Buddhist Centre
X-ORIGINAL-URL:https://meditationinhamilton.org
X-WR-CALDESC:Events for Samudra Kadampa Buddhist Centre
REFRESH-INTERVAL;VALUE=DURATION:PT1H
X-Robots-Tag:noindex
X-PUBLISHED-TTL:PT1H
BEGIN:VTIMEZONE
TZID:America/Toronto
BEGIN:DAYLIGHT
TZOFFSETFROM:-0500
TZOFFSETTO:-0400
TZNAME:EDT
DTSTART:20240310T070000
END:DAYLIGHT
BEGIN:STANDARD
TZOFFSETFROM:-0400
TZOFFSETTO:-0500
TZNAME:EST
DTSTART:20241103T060000
END:STANDARD
BEGIN:DAYLIGHT
TZOFFSETFROM:-0500
TZOFFSETTO:-0400
TZNAME:EDT
DTSTART:20250309T070000
END:DAYLIGHT
BEGIN:STANDARD
TZOFFSETFROM:-0400
TZOFFSETTO:-0500
TZNAME:EST
DTSTART:20251102T060000
END:STANDARD
BEGIN:DAYLIGHT
TZOFFSETFROM:-0500
TZOFFSETTO:-0400
TZNAME:EDT
DTSTART:20260308T070000
END:DAYLIGHT
BEGIN:STANDARD
TZOFFSETFROM:-0400
TZOFFSETTO:-0500
TZNAME:EST
DTSTART:20261101T060000
END:STANDARD
END:VTIMEZONE
BEGIN:VEVENT
DTSTART;TZID=America/Toronto:20250908T193000
DTEND;TZID=America/Toronto:20250908T210000
DTSTAMP:20260419T141204
CREATED:20250819T001249Z
LAST-MODIFIED:20250819T001249Z
UID:40724-1757359800-1757365200@meditationinhamilton.org
SUMMARY:General Program Class
DESCRIPTION:
URL:https://meditationinhamilton.org/event/general-program-class-303/
CATEGORIES:General Program Meditation Class
END:VEVENT
BEGIN:VEVENT
DTSTART;TZID=America/Toronto:20250909T193000
DTEND;TZID=America/Toronto:20250909T210000
DTSTAMP:20260419T141204
CREATED:20250819T001827Z
LAST-MODIFIED:20250819T001827Z
UID:40732-1757446200-1757451600@meditationinhamilton.org
SUMMARY:General Program Class
DESCRIPTION:
URL:https://meditationinhamilton.org/event/general-program-class-323/
CATEGORIES:General Program Meditation Class
END:VEVENT
BEGIN:VEVENT
DTSTART;TZID=America/Toronto:20250910T193000
DTEND;TZID=America/Toronto:20250910T213000
DTSTAMP:20260419T141204
CREATED:20250108T033146Z
LAST-MODIFIED:20250108T033146Z
UID:40197-1757532600-1757539800@meditationinhamilton.org
SUMMARY:Offering to the Spiritual Guide
DESCRIPTION:
URL:https://meditationinhamilton.org/event/offering-to-the-spiritual-guide-154/
CATEGORIES:Chanted Prayers
END:VEVENT
BEGIN:VEVENT
DTSTART;TZID=America/Toronto:20250911T193000
DTEND;TZID=America/Toronto:20250911T201500
DTSTAMP:20260419T141204
CREATED:20250819T010445Z
LAST-MODIFIED:20250819T010445Z
UID:40804-1757619000-1757621700@meditationinhamilton.org
SUMMARY:Peace of Mind
DESCRIPTION:
URL:https://meditationinhamilton.org/event/peace-of-mind-101/
CATEGORIES:General Program Meditation Class
END:VEVENT
BEGIN:VEVENT
DTSTART;TZID=America/Toronto:20250915T193000
DTEND;TZID=America/Toronto:20250915T210000
DTSTAMP:20260419T141204
CREATED:20250819T001411Z
LAST-MODIFIED:20250819T001411Z
UID:40726-1757964600-1757970000@meditationinhamilton.org
SUMMARY:General Program Class
DESCRIPTION:
URL:https://meditationinhamilton.org/event/general-program-class-320/
CATEGORIES:General Program Meditation Class
END:VEVENT
BEGIN:VEVENT
DTSTART;TZID=America/Toronto:20250916T193000
DTEND;TZID=America/Toronto:20250916T210000
DTSTAMP:20260419T141204
CREATED:20250819T001925Z
LAST-MODIFIED:20250819T001925Z
UID:40734-1758051000-1758056400@meditationinhamilton.org
SUMMARY:General Program Class
DESCRIPTION:
URL:https://meditationinhamilton.org/event/general-program-class-324/
CATEGORIES:General Program Meditation Class
END:VEVENT
BEGIN:VEVENT
DTSTART;TZID=America/Toronto:20250917T190000
DTEND;TZID=America/Toronto:20250917T220000
DTSTAMP:20260419T141204
CREATED:20250430T205817Z
LAST-MODIFIED:20250430T210714Z
UID:40481-1758135600-1758146400@meditationinhamilton.org
SUMMARY:Foundation Program [begin new term]
DESCRIPTION:
URL:https://meditationinhamilton.org/event/foundation-program-begin-new-term-3/
CATEGORIES:Foundation Program
END:VEVENT
BEGIN:VEVENT
DTSTART;TZID=America/Toronto:20250918T193000
DTEND;TZID=America/Toronto:20250918T201500
DTSTAMP:20260419T141204
CREATED:20250819T010554Z
LAST-MODIFIED:20250819T010554Z
UID:40806-1758223800-1758226500@meditationinhamilton.org
SUMMARY:Peace of Mind
DESCRIPTION:
URL:https://meditationinhamilton.org/event/peace-of-mind-102/
CATEGORIES:General Program Meditation Class
END:VEVENT
BEGIN:VEVENT
DTSTART;TZID=America/Toronto:20250922T193000
DTEND;TZID=America/Toronto:20250922T210000
DTSTAMP:20260419T141204
CREATED:20250819T001555Z
LAST-MODIFIED:20250819T001555Z
UID:40728-1758569400-1758574800@meditationinhamilton.org
SUMMARY:General Program Class
DESCRIPTION:
URL:https://meditationinhamilton.org/event/general-program-class-321/
CATEGORIES:General Program Meditation Class
END:VEVENT
BEGIN:VEVENT
DTSTART;TZID=America/Toronto:20250923T193000
DTEND;TZID=America/Toronto:20250923T210000
DTSTAMP:20260419T141204
CREATED:20250819T002025Z
LAST-MODIFIED:20250819T002025Z
UID:40736-1758655800-1758661200@meditationinhamilton.org
SUMMARY:General Program Class
DESCRIPTION:
URL:https://meditationinhamilton.org/event/general-program-class-325/
CATEGORIES:General Program Meditation Class
END:VEVENT
BEGIN:VEVENT
DTSTART;TZID=America/Toronto:20250924T190000
DTEND;TZID=America/Toronto:20250924T220000
DTSTAMP:20260419T141204
CREATED:20250819T004945Z
LAST-MODIFIED:20250819T004945Z
UID:40782-1758740400-1758751200@meditationinhamilton.org
SUMMARY:Foundation Program
DESCRIPTION:
URL:https://meditationinhamilton.org/event/foundation-program-192/
CATEGORIES:Foundation Program
END:VEVENT
BEGIN:VEVENT
DTSTART;TZID=America/Toronto:20250925T120000
DTEND;TZID=America/Toronto:20250925T140000
DTSTAMP:20260419T141204
CREATED:20250108T033246Z
LAST-MODIFIED:20250108T033246Z
UID:40199-1758801600-1758808800@meditationinhamilton.org
SUMMARY:Offering to the Spiritual Guide
DESCRIPTION:
URL:https://meditationinhamilton.org/event/offering-to-the-spiritual-guide-155/
CATEGORIES:Chanted Prayers
END:VEVENT
BEGIN:VEVENT
DTSTART;TZID=America/Toronto:20250925T193000
DTEND;TZID=America/Toronto:20250925T201500
DTSTAMP:20260419T141204
CREATED:20250819T010713Z
LAST-MODIFIED:20250819T010713Z
UID:40808-1758828600-1758831300@meditationinhamilton.org
SUMMARY:Peace of Mind
DESCRIPTION:
URL:https://meditationinhamilton.org/event/peace-of-mind-103/
CATEGORIES:General Program Meditation Class
END:VEVENT
BEGIN:VEVENT
DTSTART;TZID=America/Toronto:20250927T100000
DTEND;TZID=America/Toronto:20250927T163000
DTSTAMP:20260419T141204
CREATED:20250603T155244Z
LAST-MODIFIED:20250603T155244Z
UID:40596-1758967200-1758990600@meditationinhamilton.org
SUMMARY:The Love & Ultimate Truth Retreat
DESCRIPTION:
URL:https://meditationinhamilton.org/event/the-love-ultimate-truth-retreat/
CATEGORIES:Meditation Retreat
END:VEVENT
BEGIN:VEVENT
DTSTART;TZID=America/Toronto:20250929T120000
DTEND;TZID=America/Toronto:20250929T130000
DTSTAMP:20260419T141204
CREATED:20250124T102740Z
LAST-MODIFIED:20250124T102740Z
UID:40249-1759147200-1759150800@meditationinhamilton.org
SUMMARY:Wishfulfilling Jewel
DESCRIPTION:
URL:https://meditationinhamilton.org/event/wishfulfilling-jewel-13/
CATEGORIES:Chanted Prayers
END:VEVENT
BEGIN:VEVENT
DTSTART;TZID=America/Toronto:20250929T193000
DTEND;TZID=America/Toronto:20250929T210000
DTSTAMP:20260419T141204
CREATED:20250819T001705Z
LAST-MODIFIED:20250819T001705Z
UID:40730-1759174200-1759179600@meditationinhamilton.org
SUMMARY:General Program Class
DESCRIPTION:
URL:https://meditationinhamilton.org/event/general-program-class-322/
CATEGORIES:General Program Meditation Class
END:VEVENT
BEGIN:VEVENT
DTSTART;TZID=America/Toronto:20250930T193000
DTEND;TZID=America/Toronto:20250930T210000
DTSTAMP:20260419T141204
CREATED:20250819T002122Z
LAST-MODIFIED:20250819T002122Z
UID:40738-1759260600-1759266000@meditationinhamilton.org
SUMMARY:General Program Class
DESCRIPTION:
URL:https://meditationinhamilton.org/event/general-program-class-326/
CATEGORIES:General Program Meditation Class
END:VEVENT
BEGIN:VEVENT
DTSTART;TZID=America/Toronto:20251001T190000
DTEND;TZID=America/Toronto:20251001T220000
DTSTAMP:20260419T141204
CREATED:20250819T005058Z
LAST-MODIFIED:20250819T005058Z
UID:40784-1759345200-1759356000@meditationinhamilton.org
SUMMARY:Foundation Program
DESCRIPTION:
URL:https://meditationinhamilton.org/event/foundation-program-193/
CATEGORIES:Foundation Program
END:VEVENT
BEGIN:VEVENT
DTSTART;TZID=America/Toronto:20251002T193000
DTEND;TZID=America/Toronto:20251002T201500
DTSTAMP:20260419T141204
CREATED:20250819T010828Z
LAST-MODIFIED:20250819T010828Z
UID:40810-1759433400-1759436100@meditationinhamilton.org
SUMMARY:Peace of Mind
DESCRIPTION:
URL:https://meditationinhamilton.org/event/peace-of-mind-104/
CATEGORIES:General Program Meditation Class
END:VEVENT
BEGIN:VEVENT
DTSTART;VALUE=DATE:20251003
DTEND;VALUE=DATE:20251010
DTSTAMP:20260419T141204
CREATED:20240523T152849Z
LAST-MODIFIED:20240523T153332Z
UID:39501-1759449600-1760054399@meditationinhamilton.org
SUMMARY:Fall Festival
DESCRIPTION:
URL:https://meditationinhamilton.org/event/fall-festival-4/
END:VEVENT
BEGIN:VEVENT
DTSTART;TZID=America/Toronto:20251006T193000
DTEND;TZID=America/Toronto:20251006T210000
DTSTAMP:20260419T141204
CREATED:20250819T002308Z
LAST-MODIFIED:20250819T002308Z
UID:40740-1759779000-1759784400@meditationinhamilton.org
SUMMARY:General Program Class
DESCRIPTION:
URL:https://meditationinhamilton.org/event/general-program-class-327/
CATEGORIES:General Program Meditation Class
END:VEVENT
BEGIN:VEVENT
DTSTART;TZID=America/Toronto:20251007T193000
DTEND;TZID=America/Toronto:20251007T210000
DTSTAMP:20260419T141204
CREATED:20250819T002628Z
LAST-MODIFIED:20250819T002628Z
UID:40746-1759865400-1759870800@meditationinhamilton.org
SUMMARY:General Program Class
DESCRIPTION:
URL:https://meditationinhamilton.org/event/general-program-class-330/
CATEGORIES:General Program Meditation Class
END:VEVENT
BEGIN:VEVENT
DTSTART;TZID=America/Toronto:20251008T190000
DTEND;TZID=America/Toronto:20251008T220000
DTSTAMP:20260419T141204
CREATED:20250819T005151Z
LAST-MODIFIED:20250819T005151Z
UID:40786-1759950000-1759960800@meditationinhamilton.org
SUMMARY:Foundation Program
DESCRIPTION:
URL:https://meditationinhamilton.org/event/foundation-program-194/
CATEGORIES:Foundation Program
END:VEVENT
BEGIN:VEVENT
DTSTART;TZID=America/Toronto:20251009T193000
DTEND;TZID=America/Toronto:20251009T201500
DTSTAMP:20260419T141204
CREATED:20250819T010951Z
LAST-MODIFIED:20250819T010951Z
UID:40812-1760038200-1760040900@meditationinhamilton.org
SUMMARY:Peace of Mind
DESCRIPTION:
URL:https://meditationinhamilton.org/event/peace-of-mind-105/
CATEGORIES:General Program Meditation Class
END:VEVENT
BEGIN:VEVENT
DTSTART;TZID=America/Toronto:20251010T193000
DTEND;TZID=America/Toronto:20251010T213000
DTSTAMP:20260419T141204
CREATED:20250108T033418Z
LAST-MODIFIED:20250108T033842Z
UID:40201-1760124600-1760131800@meditationinhamilton.org
SUMMARY:Offering to the Spiritual Guide
DESCRIPTION:
URL:https://meditationinhamilton.org/event/offering-to-the-spiritual-guide-156/
CATEGORIES:Chanted Prayers
END:VEVENT
BEGIN:VEVENT
DTSTART;TZID=America/Toronto:20251011T100000
DTEND;TZID=America/Toronto:20251011T163000
DTSTAMP:20260419T141204
CREATED:20250603T155535Z
LAST-MODIFIED:20250906T221755Z
UID:40598-1760176800-1760200200@meditationinhamilton.org
SUMMARY:The Refuge & Ultimate Truth Retreat
DESCRIPTION:
URL:https://meditationinhamilton.org/event/the-refuge-ultimate-truth-retreat/
CATEGORIES:Meditation Retreat
END:VEVENT
BEGIN:VEVENT
DTSTART;TZID=America/Toronto:20251014T193000
DTEND;TZID=America/Toronto:20251014T210000
DTSTAMP:20260419T141204
CREATED:20250819T002737Z
LAST-MODIFIED:20250819T002737Z
UID:40748-1760470200-1760475600@meditationinhamilton.org
SUMMARY:General Program Class
DESCRIPTION:
URL:https://meditationinhamilton.org/event/general-program-class-331/
CATEGORIES:General Program Meditation Class
END:VEVENT
BEGIN:VEVENT
DTSTART;TZID=America/Toronto:20251015T190000
DTEND;TZID=America/Toronto:20251015T220000
DTSTAMP:20260419T141204
CREATED:20250819T005257Z
LAST-MODIFIED:20250819T005257Z
UID:40788-1760554800-1760565600@meditationinhamilton.org
SUMMARY:Foundation Program
DESCRIPTION:
URL:https://meditationinhamilton.org/event/foundation-program-195/
CATEGORIES:Foundation Program
END:VEVENT
BEGIN:VEVENT
DTSTART;TZID=America/Toronto:20251016T193000
DTEND;TZID=America/Toronto:20251016T201500
DTSTAMP:20260419T141204
CREATED:20250819T011109Z
LAST-MODIFIED:20250819T011109Z
UID:40814-1760643000-1760645700@meditationinhamilton.org
SUMMARY:Peace of Mind
DESCRIPTION:
URL:https://meditationinhamilton.org/event/peace-of-mind-106/
CATEGORIES:General Program Meditation Class
END:VEVENT
BEGIN:VEVENT
DTSTART;TZID=America/Toronto:20251020T193000
DTEND;TZID=America/Toronto:20251020T210000
DTSTAMP:20260419T141204
CREATED:20250819T002413Z
LAST-MODIFIED:20250819T002413Z
UID:40742-1760988600-1760994000@meditationinhamilton.org
SUMMARY:General Program Class
DESCRIPTION:
URL:https://meditationinhamilton.org/event/general-program-class-328/
CATEGORIES:General Program Meditation Class
END:VEVENT
END:VCALENDAR