BEGIN:VCALENDAR
VERSION:2.0
PRODID:-//Samudra Kadampa Buddhist Centre - ECPv6.15.20//NONSGML v1.0//EN
CALSCALE:GREGORIAN
METHOD:PUBLISH
X-WR-CALNAME:Samudra Kadampa Buddhist Centre
X-ORIGINAL-URL:https://meditationinhamilton.org
X-WR-CALDESC:Events for Samudra Kadampa Buddhist Centre
REFRESH-INTERVAL;VALUE=DURATION:PT1H
X-Robots-Tag:noindex
X-PUBLISHED-TTL:PT1H
BEGIN:VTIMEZONE
TZID:America/Toronto
BEGIN:DAYLIGHT
TZOFFSETFROM:-0500
TZOFFSETTO:-0400
TZNAME:EDT
DTSTART:20220313T070000
END:DAYLIGHT
BEGIN:STANDARD
TZOFFSETFROM:-0400
TZOFFSETTO:-0500
TZNAME:EST
DTSTART:20221106T060000
END:STANDARD
BEGIN:DAYLIGHT
TZOFFSETFROM:-0500
TZOFFSETTO:-0400
TZNAME:EDT
DTSTART:20230312T070000
END:DAYLIGHT
BEGIN:STANDARD
TZOFFSETFROM:-0400
TZOFFSETTO:-0500
TZNAME:EST
DTSTART:20231105T060000
END:STANDARD
BEGIN:DAYLIGHT
TZOFFSETFROM:-0500
TZOFFSETTO:-0400
TZNAME:EDT
DTSTART:20240310T070000
END:DAYLIGHT
BEGIN:STANDARD
TZOFFSETFROM:-0400
TZOFFSETTO:-0500
TZNAME:EST
DTSTART:20241103T060000
END:STANDARD
END:VTIMEZONE
BEGIN:VEVENT
DTSTART;TZID=America/Toronto:20230429T120000
DTEND;TZID=America/Toronto:20230429T153000
DTSTAMP:20260423T201246
CREATED:20221010T235456Z
LAST-MODIFIED:20221010T235915Z
UID:37673-1682769600-1682782200@meditationinhamilton.org
SUMMARY:Melodious Drum
DESCRIPTION:
URL:https://meditationinhamilton.org/event/melodious-drum-42/
CATEGORIES:Chanted Prayers
END:VEVENT
BEGIN:VEVENT
DTSTART;TZID=America/Toronto:20230426T190000
DTEND;TZID=America/Toronto:20230426T220000
DTSTAMP:20260423T201246
CREATED:20221221T234508Z
LAST-MODIFIED:20221221T234508Z
UID:37932-1682535600-1682546400@meditationinhamilton.org
SUMMARY:Foundation Program
DESCRIPTION:
URL:https://meditationinhamilton.org/event/foundation-program-115/
CATEGORIES:Foundation Program
END:VEVENT
BEGIN:VEVENT
DTSTART;TZID=America/Toronto:20230425T193000
DTEND;TZID=America/Toronto:20230425T210000
DTSTAMP:20260423T201246
CREATED:20221011T001849Z
LAST-MODIFIED:20221011T001849Z
UID:37691-1682451000-1682456400@meditationinhamilton.org
SUMMARY:General Program Class
DESCRIPTION:
URL:https://meditationinhamilton.org/event/general-program-class-98/
CATEGORIES:General Program Meditation Class
END:VEVENT
BEGIN:VEVENT
DTSTART;TZID=America/Toronto:20230425T120000
DTEND;TZID=America/Toronto:20230425T140000
DTSTAMP:20260423T201246
CREATED:20221010T234604Z
LAST-MODIFIED:20221010T234604Z
UID:37661-1682424000-1682431200@meditationinhamilton.org
SUMMARY:Offering to the Spiritual Guide
DESCRIPTION:
URL:https://meditationinhamilton.org/event/offering-to-the-spiritual-guide-96/
CATEGORIES:Chanted Prayers
END:VEVENT
BEGIN:VEVENT
DTSTART;TZID=America/Toronto:20230424T193000
DTEND;TZID=America/Toronto:20230424T210000
DTSTAMP:20260423T201246
CREATED:20221011T001350Z
LAST-MODIFIED:20221011T001350Z
UID:37683-1682364600-1682370000@meditationinhamilton.org
SUMMARY:General Program Class
DESCRIPTION:
URL:https://meditationinhamilton.org/event/general-program-class-94/
CATEGORIES:General Program Meditation Class
END:VEVENT
BEGIN:VEVENT
DTSTART;TZID=America/Toronto:20230422T100000
DTEND;TZID=America/Toronto:20230422T130000
DTSTAMP:20260423T201246
CREATED:20221222T033653Z
LAST-MODIFIED:20230228T035047Z
UID:37950-1682157600-1682168400@meditationinhamilton.org
SUMMARY:Receiving Blessings
DESCRIPTION:
URL:https://meditationinhamilton.org/event/receiving-blessings/
CATEGORIES:Half Day Course
END:VEVENT
BEGIN:VEVENT
DTSTART;TZID=America/Toronto:20230419T190000
DTEND;TZID=America/Toronto:20230419T220000
DTSTAMP:20260423T201246
CREATED:20221221T234410Z
LAST-MODIFIED:20221221T234410Z
UID:37930-1681930800-1681941600@meditationinhamilton.org
SUMMARY:Foundation Program
DESCRIPTION:
URL:https://meditationinhamilton.org/event/foundation-program-114/
CATEGORIES:Foundation Program
END:VEVENT
BEGIN:VEVENT
DTSTART;TZID=America/Toronto:20230418T193000
DTEND;TZID=America/Toronto:20230418T210000
DTSTAMP:20260423T201246
CREATED:20221011T001618Z
LAST-MODIFIED:20221011T001618Z
UID:37687-1681846200-1681851600@meditationinhamilton.org
SUMMARY:General Program Class
DESCRIPTION:
URL:https://meditationinhamilton.org/event/general-program-class-96/
CATEGORIES:General Program Meditation Class
END:VEVENT
BEGIN:VEVENT
DTSTART;TZID=America/Toronto:20230417T193000
DTEND;TZID=America/Toronto:20230417T210000
DTSTAMP:20260423T201246
CREATED:20221011T001247Z
LAST-MODIFIED:20221011T001247Z
UID:37681-1681759800-1681765200@meditationinhamilton.org
SUMMARY:General Program Class
DESCRIPTION:
URL:https://meditationinhamilton.org/event/general-program-class-93/
CATEGORIES:General Program Meditation Class
END:VEVENT
BEGIN:VEVENT
DTSTART;TZID=America/Toronto:20230412T190000
DTEND;TZID=America/Toronto:20230412T220000
DTSTAMP:20260423T201246
CREATED:20221221T234321Z
LAST-MODIFIED:20221221T234321Z
UID:37928-1681326000-1681336800@meditationinhamilton.org
SUMMARY:Foundation Program
DESCRIPTION:
URL:https://meditationinhamilton.org/event/foundation-program-113/
CATEGORIES:Foundation Program
END:VEVENT
BEGIN:VEVENT
DTSTART;TZID=America/Toronto:20230411T193000
DTEND;TZID=America/Toronto:20230411T210000
DTSTAMP:20260423T201246
CREATED:20221011T001745Z
LAST-MODIFIED:20221011T001745Z
UID:37689-1681241400-1681246800@meditationinhamilton.org
SUMMARY:General Program Class
DESCRIPTION:
URL:https://meditationinhamilton.org/event/general-program-class-97/
CATEGORIES:General Program Meditation Class
END:VEVENT
BEGIN:VEVENT
DTSTART;TZID=America/Toronto:20230410T193000
DTEND;TZID=America/Toronto:20230410T210000
DTSTAMP:20260423T201246
CREATED:20221011T001146Z
LAST-MODIFIED:20221011T001146Z
UID:37679-1681155000-1681160400@meditationinhamilton.org
SUMMARY:General Program Class
DESCRIPTION:
URL:https://meditationinhamilton.org/event/general-program-class-92/
CATEGORIES:General Program Meditation Class
END:VEVENT
BEGIN:VEVENT
DTSTART;TZID=America/Toronto:20230410T120000
DTEND;TZID=America/Toronto:20230410T140000
DTSTAMP:20260423T201246
CREATED:20221010T234505Z
LAST-MODIFIED:20221010T234505Z
UID:37659-1681128000-1681135200@meditationinhamilton.org
SUMMARY:Offering to the Spiritual Guide
DESCRIPTION:
URL:https://meditationinhamilton.org/event/offering-to-the-spiritual-guide-95/
CATEGORIES:Chanted Prayers
END:VEVENT
BEGIN:VEVENT
DTSTART;TZID=America/Toronto:20230405T190000
DTEND;TZID=America/Toronto:20230405T220000
DTSTAMP:20260423T201246
CREATED:20221221T234230Z
LAST-MODIFIED:20221221T234230Z
UID:37926-1680721200-1680732000@meditationinhamilton.org
SUMMARY:Foundation Program
DESCRIPTION:
URL:https://meditationinhamilton.org/event/foundation-program-112/
CATEGORIES:Foundation Program
END:VEVENT
BEGIN:VEVENT
DTSTART;TZID=America/Toronto:20230404T193000
DTEND;TZID=America/Toronto:20230404T210000
DTSTAMP:20260423T201246
CREATED:20221011T001459Z
LAST-MODIFIED:20221011T001459Z
UID:37685-1680636600-1680642000@meditationinhamilton.org
SUMMARY:General Program Class
DESCRIPTION:
URL:https://meditationinhamilton.org/event/general-program-class-95/
CATEGORIES:General Program Meditation Class
END:VEVENT
BEGIN:VEVENT
DTSTART;TZID=America/Toronto:20230403T193000
DTEND;TZID=America/Toronto:20230403T210000
DTSTAMP:20260423T201246
CREATED:20221011T001024Z
LAST-MODIFIED:20221011T001024Z
UID:37677-1680550200-1680555600@meditationinhamilton.org
SUMMARY:General Program Class
DESCRIPTION:
URL:https://meditationinhamilton.org/event/general-program-class-91/
CATEGORIES:General Program Meditation Class
END:VEVENT
BEGIN:VEVENT
DTSTART;TZID=America/Toronto:20230401T100000
DTEND;TZID=America/Toronto:20230401T130000
DTSTAMP:20260423T201246
CREATED:20221221T233928Z
LAST-MODIFIED:20221221T233928Z
UID:37924-1680343200-1680354000@meditationinhamilton.org
SUMMARY:Accumulating Positive Karma
DESCRIPTION:
URL:https://meditationinhamilton.org/event/accumulating-positive-karma/
CATEGORIES:Half Day Course
END:VEVENT
BEGIN:VEVENT
DTSTART;TZID=America/Toronto:20230329T183000
DTEND;TZID=America/Toronto:20230329T220000
DTSTAMP:20260423T201246
CREATED:20221010T232216Z
LAST-MODIFIED:20221010T232216Z
UID:37635-1680114600-1680127200@meditationinhamilton.org
SUMMARY:Melodious Drum
DESCRIPTION:
URL:https://meditationinhamilton.org/event/melodious-drum-40/
CATEGORIES:Chanted Prayers
END:VEVENT
BEGIN:VEVENT
DTSTART;TZID=America/Toronto:20230328T193000
DTEND;TZID=America/Toronto:20230328T210000
DTSTAMP:20260423T201246
CREATED:20221010T232108Z
LAST-MODIFIED:20221010T232108Z
UID:37633-1680031800-1680037200@meditationinhamilton.org
SUMMARY:General Program Class
DESCRIPTION:
URL:https://meditationinhamilton.org/event/general-program-class-90/
CATEGORIES:General Program Meditation Class
END:VEVENT
BEGIN:VEVENT
DTSTART;TZID=America/Toronto:20230327T193000
DTEND;TZID=America/Toronto:20230327T210000
DTSTAMP:20260423T201246
CREATED:20221010T231526Z
LAST-MODIFIED:20221010T231526Z
UID:37625-1679945400-1679950800@meditationinhamilton.org
SUMMARY:General Program Class
DESCRIPTION:
URL:https://meditationinhamilton.org/event/general-program-class-86/
CATEGORIES:General Program Meditation Class
END:VEVENT
BEGIN:VEVENT
DTSTART;TZID=America/Toronto:20230325T120000
DTEND;TZID=America/Toronto:20230325T140000
DTSTAMP:20260423T201246
CREATED:20221010T233519Z
LAST-MODIFIED:20221010T233519Z
UID:37653-1679745600-1679752800@meditationinhamilton.org
SUMMARY:Offering to the Spiritual Guide
DESCRIPTION:
URL:https://meditationinhamilton.org/event/offering-to-the-spiritual-guide-92/
CATEGORIES:Chanted Prayers
END:VEVENT
BEGIN:VEVENT
DTSTART;TZID=America/Toronto:20230322T190000
DTEND;TZID=America/Toronto:20230322T220000
DTSTAMP:20260423T201246
CREATED:20221010T233106Z
LAST-MODIFIED:20221010T233106Z
UID:37647-1679511600-1679522400@meditationinhamilton.org
SUMMARY:Foundation Program
DESCRIPTION:
URL:https://meditationinhamilton.org/event/foundation-program-110/
CATEGORIES:Foundation Program
END:VEVENT
BEGIN:VEVENT
DTSTART;TZID=America/Toronto:20230321T193000
DTEND;TZID=America/Toronto:20230321T210000
DTSTAMP:20260423T201246
CREATED:20221010T231947Z
LAST-MODIFIED:20221010T231947Z
UID:37631-1679427000-1679432400@meditationinhamilton.org
SUMMARY:General Program Class
DESCRIPTION:
URL:https://meditationinhamilton.org/event/general-program-class-89/
CATEGORIES:General Program Meditation Class
END:VEVENT
BEGIN:VEVENT
DTSTART;TZID=America/Toronto:20230320T193000
DTEND;TZID=America/Toronto:20230320T210000
DTSTAMP:20260423T201246
CREATED:20221010T231426Z
LAST-MODIFIED:20221010T231426Z
UID:37623-1679340600-1679346000@meditationinhamilton.org
SUMMARY:General Program Class
DESCRIPTION:
URL:https://meditationinhamilton.org/event/general-program-class-85/
CATEGORIES:General Program Meditation Class
END:VEVENT
BEGIN:VEVENT
DTSTART;TZID=America/Toronto:20230315T190000
DTEND;TZID=America/Toronto:20230315T220000
DTSTAMP:20260423T201246
CREATED:20221010T233220Z
LAST-MODIFIED:20221010T233220Z
UID:37649-1678906800-1678917600@meditationinhamilton.org
SUMMARY:Foundation Program
DESCRIPTION:
URL:https://meditationinhamilton.org/event/foundation-program-111/
CATEGORIES:Foundation Program
END:VEVENT
BEGIN:VEVENT
DTSTART;TZID=America/Toronto:20230314T193000
DTEND;TZID=America/Toronto:20230314T210000
DTSTAMP:20260423T201246
CREATED:20221010T231837Z
LAST-MODIFIED:20221010T231837Z
UID:37629-1678822200-1678827600@meditationinhamilton.org
SUMMARY:General Program Class
DESCRIPTION:
URL:https://meditationinhamilton.org/event/general-program-class-88/
CATEGORIES:General Program Meditation Class
END:VEVENT
BEGIN:VEVENT
DTSTART;TZID=America/Toronto:20230313T193000
DTEND;TZID=America/Toronto:20230313T210000
DTSTAMP:20260423T201246
CREATED:20221010T231320Z
LAST-MODIFIED:20221010T231320Z
UID:37621-1678735800-1678741200@meditationinhamilton.org
SUMMARY:General Program Class
DESCRIPTION:
URL:https://meditationinhamilton.org/event/general-program-class-84/
CATEGORIES:General Program Meditation Class
END:VEVENT
BEGIN:VEVENT
DTSTART;TZID=America/Toronto:20230310T193000
DTEND;TZID=America/Toronto:20230310T213000
DTSTAMP:20260423T201246
CREATED:20221010T233421Z
LAST-MODIFIED:20221010T233421Z
UID:37651-1678476600-1678483800@meditationinhamilton.org
SUMMARY:Offering to the Spiritual Guide
DESCRIPTION:
URL:https://meditationinhamilton.org/event/offering-to-the-spiritual-guide-91/
CATEGORIES:Chanted Prayers
END:VEVENT
BEGIN:VEVENT
DTSTART;TZID=America/Toronto:20230308T190000
DTEND;TZID=America/Toronto:20230308T220000
DTSTAMP:20260423T201246
CREATED:20221010T232949Z
LAST-MODIFIED:20221010T232949Z
UID:37645-1678302000-1678312800@meditationinhamilton.org
SUMMARY:Foundation Program
DESCRIPTION:
URL:https://meditationinhamilton.org/event/foundation-program-97/
CATEGORIES:Foundation Program
END:VEVENT
BEGIN:VEVENT
DTSTART;TZID=America/Toronto:20230307T193000
DTEND;TZID=America/Toronto:20230307T210000
DTSTAMP:20260423T201246
CREATED:20221010T231705Z
LAST-MODIFIED:20221010T231705Z
UID:37627-1678217400-1678222800@meditationinhamilton.org
SUMMARY:General Program Class
DESCRIPTION:
URL:https://meditationinhamilton.org/event/general-program-class-87/
CATEGORIES:General Program Meditation Class
END:VEVENT
END:VCALENDAR