BEGIN:VCALENDAR
VERSION:2.0
PRODID:-//Samudra Kadampa Buddhist Centre - ECPv6.15.20//NONSGML v1.0//EN
CALSCALE:GREGORIAN
METHOD:PUBLISH
X-ORIGINAL-URL:https://meditationinhamilton.org
X-WR-CALDESC:Events for Samudra Kadampa Buddhist Centre
REFRESH-INTERVAL;VALUE=DURATION:PT1H
X-Robots-Tag:noindex
X-PUBLISHED-TTL:PT1H
BEGIN:VTIMEZONE
TZID:America/Toronto
BEGIN:DAYLIGHT
TZOFFSETFROM:-0500
TZOFFSETTO:-0400
TZNAME:EDT
DTSTART:20240310T070000
END:DAYLIGHT
BEGIN:STANDARD
TZOFFSETFROM:-0400
TZOFFSETTO:-0500
TZNAME:EST
DTSTART:20241103T060000
END:STANDARD
BEGIN:DAYLIGHT
TZOFFSETFROM:-0500
TZOFFSETTO:-0400
TZNAME:EDT
DTSTART:20250309T070000
END:DAYLIGHT
BEGIN:STANDARD
TZOFFSETFROM:-0400
TZOFFSETTO:-0500
TZNAME:EST
DTSTART:20251102T060000
END:STANDARD
BEGIN:DAYLIGHT
TZOFFSETFROM:-0500
TZOFFSETTO:-0400
TZNAME:EDT
DTSTART:20260308T070000
END:DAYLIGHT
BEGIN:STANDARD
TZOFFSETFROM:-0400
TZOFFSETTO:-0500
TZNAME:EST
DTSTART:20261101T060000
END:STANDARD
END:VTIMEZONE
BEGIN:VEVENT
DTSTART;TZID=America/Toronto:20251015T190000
DTEND;TZID=America/Toronto:20251015T220000
DTSTAMP:20260419T223353
CREATED:20250819T005257Z
LAST-MODIFIED:20250819T005257Z
UID:40788-1760554800-1760565600@meditationinhamilton.org
SUMMARY:Foundation Program
DESCRIPTION:
URL:https://meditationinhamilton.org/event/foundation-program-195/
CATEGORIES:Foundation Program
END:VEVENT
BEGIN:VEVENT
DTSTART;TZID=America/Toronto:20251016T193000
DTEND;TZID=America/Toronto:20251016T201500
DTSTAMP:20260419T223353
CREATED:20250819T011109Z
LAST-MODIFIED:20250819T011109Z
UID:40814-1760643000-1760645700@meditationinhamilton.org
SUMMARY:Peace of Mind
DESCRIPTION:
URL:https://meditationinhamilton.org/event/peace-of-mind-106/
CATEGORIES:General Program Meditation Class
END:VEVENT
BEGIN:VEVENT
DTSTART;TZID=America/Toronto:20251020T193000
DTEND;TZID=America/Toronto:20251020T210000
DTSTAMP:20260419T223353
CREATED:20250819T002413Z
LAST-MODIFIED:20250819T002413Z
UID:40742-1760988600-1760994000@meditationinhamilton.org
SUMMARY:General Program Class
DESCRIPTION:
URL:https://meditationinhamilton.org/event/general-program-class-328/
CATEGORIES:General Program Meditation Class
END:VEVENT
BEGIN:VEVENT
DTSTART;TZID=America/Toronto:20251021T193000
DTEND;TZID=America/Toronto:20251021T210000
DTSTAMP:20260419T223353
CREATED:20250819T002836Z
LAST-MODIFIED:20250819T002836Z
UID:40750-1761075000-1761080400@meditationinhamilton.org
SUMMARY:General Program Class
DESCRIPTION:
URL:https://meditationinhamilton.org/event/general-program-class-332/
CATEGORIES:General Program Meditation Class
END:VEVENT
BEGIN:VEVENT
DTSTART;TZID=America/Toronto:20251022T190000
DTEND;TZID=America/Toronto:20251022T220000
DTSTAMP:20260419T223353
CREATED:20250819T005403Z
LAST-MODIFIED:20250819T005403Z
UID:40790-1761159600-1761170400@meditationinhamilton.org
SUMMARY:Foundation Program
DESCRIPTION:
URL:https://meditationinhamilton.org/event/foundation-program-196/
CATEGORIES:Foundation Program
END:VEVENT
BEGIN:VEVENT
DTSTART;TZID=America/Toronto:20251023T193000
DTEND;TZID=America/Toronto:20251023T201500
DTSTAMP:20260419T223353
CREATED:20250819T011234Z
LAST-MODIFIED:20250819T011234Z
UID:40816-1761247800-1761250500@meditationinhamilton.org
SUMMARY:Peace of Mind
DESCRIPTION:
URL:https://meditationinhamilton.org/event/peace-of-mind-107/
CATEGORIES:General Program Meditation Class
END:VEVENT
BEGIN:VEVENT
DTSTART;TZID=America/Toronto:20251025T120000
DTEND;TZID=America/Toronto:20251025T140000
DTSTAMP:20260419T223353
CREATED:20250108T033751Z
LAST-MODIFIED:20250108T033751Z
UID:40203-1761393600-1761400800@meditationinhamilton.org
SUMMARY:Offering to the Spiritual Guide
DESCRIPTION:
URL:https://meditationinhamilton.org/event/offering-to-the-spiritual-guide-157/
CATEGORIES:Chanted Prayers
END:VEVENT
BEGIN:VEVENT
DTSTART;TZID=America/Toronto:20251027T193000
DTEND;TZID=America/Toronto:20251027T210000
DTSTAMP:20260419T223353
CREATED:20250819T002516Z
LAST-MODIFIED:20250819T002516Z
UID:40744-1761593400-1761598800@meditationinhamilton.org
SUMMARY:General Program Class
DESCRIPTION:
URL:https://meditationinhamilton.org/event/general-program-class-329/
CATEGORIES:General Program Meditation Class
END:VEVENT
BEGIN:VEVENT
DTSTART;TZID=America/Toronto:20251028T193000
DTEND;TZID=America/Toronto:20251028T210000
DTSTAMP:20260419T223353
CREATED:20250819T002945Z
LAST-MODIFIED:20250819T002945Z
UID:40752-1761679800-1761685200@meditationinhamilton.org
SUMMARY:General Program Class
DESCRIPTION:
URL:https://meditationinhamilton.org/event/general-program-class-333/
CATEGORIES:General Program Meditation Class
END:VEVENT
BEGIN:VEVENT
DTSTART;TZID=America/Toronto:20251029T183000
DTEND;TZID=America/Toronto:20251029T220000
DTSTAMP:20260419T223353
CREATED:20250124T102111Z
LAST-MODIFIED:20250124T102111Z
UID:40243-1761762600-1761775200@meditationinhamilton.org
SUMMARY:Melodious Drum
DESCRIPTION:
URL:https://meditationinhamilton.org/event/melodious-drum-60/
CATEGORIES:Chanted Prayers
END:VEVENT
BEGIN:VEVENT
DTSTART;TZID=America/Toronto:20251030T193000
DTEND;TZID=America/Toronto:20251030T201500
DTSTAMP:20260419T223353
CREATED:20250819T011401Z
LAST-MODIFIED:20250819T011401Z
UID:40818-1761852600-1761855300@meditationinhamilton.org
SUMMARY:Peace of Mind
DESCRIPTION:
URL:https://meditationinhamilton.org/event/peace-of-mind-108/
CATEGORIES:General Program Meditation Class
END:VEVENT
BEGIN:VEVENT
DTSTART;TZID=America/Toronto:20251101T100000
DTEND;TZID=America/Toronto:20251101T130000
DTSTAMP:20260419T223353
CREATED:20250608T034611Z
LAST-MODIFIED:20250608T034611Z
UID:40601-1761991200-1762002000@meditationinhamilton.org
SUMMARY:The Essential Wisdom Understanding Death & Dying
DESCRIPTION:
URL:https://meditationinhamilton.org/event/the-essential-wisdom-understanding-death-dying/
CATEGORIES:Half Day Course
END:VEVENT
BEGIN:VEVENT
DTSTART;TZID=America/Toronto:20251103T193000
DTEND;TZID=America/Toronto:20251103T210000
DTSTAMP:20260419T223353
CREATED:20250819T003119Z
LAST-MODIFIED:20250819T003119Z
UID:40754-1762198200-1762203600@meditationinhamilton.org
SUMMARY:General Program Class
DESCRIPTION:
URL:https://meditationinhamilton.org/event/general-program-class-334/
CATEGORIES:General Program Meditation Class
END:VEVENT
BEGIN:VEVENT
DTSTART;TZID=America/Toronto:20251104T193000
DTEND;TZID=America/Toronto:20251104T210000
DTSTAMP:20260419T223353
CREATED:20250819T003548Z
LAST-MODIFIED:20250819T003548Z
UID:40762-1762284600-1762290000@meditationinhamilton.org
SUMMARY:General Program Class
DESCRIPTION:
URL:https://meditationinhamilton.org/event/general-program-class-338/
CATEGORIES:General Program Meditation Class
END:VEVENT
BEGIN:VEVENT
DTSTART;TZID=America/Toronto:20251105T190000
DTEND;TZID=America/Toronto:20251105T220000
DTSTAMP:20260419T223353
CREATED:20250819T005524Z
LAST-MODIFIED:20250819T005524Z
UID:40792-1762369200-1762380000@meditationinhamilton.org
SUMMARY:Foundation Program
DESCRIPTION:
URL:https://meditationinhamilton.org/event/foundation-program-197/
CATEGORIES:Foundation Program
END:VEVENT
BEGIN:VEVENT
DTSTART;TZID=America/Toronto:20251106T193000
DTEND;TZID=America/Toronto:20251106T201500
DTSTAMP:20260419T223353
CREATED:20250819T011551Z
LAST-MODIFIED:20250819T011551Z
UID:40820-1762457400-1762460100@meditationinhamilton.org
SUMMARY:Peace of Mind
DESCRIPTION:
URL:https://meditationinhamilton.org/event/peace-of-mind-109/
CATEGORIES:General Program Meditation Class
END:VEVENT
BEGIN:VEVENT
DTSTART;TZID=America/Toronto:20251108T090000
DTEND;TZID=America/Toronto:20251108T160000
DTSTAMP:20260419T223353
CREATED:20250102T230423Z
LAST-MODIFIED:20250102T230423Z
UID:40172-1762592400-1762617600@meditationinhamilton.org
SUMMARY:Buddha Tara Retreat
DESCRIPTION:‘Liberation From Sorrow’ chanted prayers and meditation.
URL:https://meditationinhamilton.org/event/buddha-tara-retreat-2/
CATEGORIES:Meditation Retreat
END:VEVENT
BEGIN:VEVENT
DTSTART;TZID=America/Toronto:20251110T120000
DTEND;TZID=America/Toronto:20251110T140000
DTSTAMP:20260419T223353
CREATED:20250108T033955Z
LAST-MODIFIED:20250108T033955Z
UID:40205-1762776000-1762783200@meditationinhamilton.org
SUMMARY:Offering to the Spiritual Guide
DESCRIPTION:
URL:https://meditationinhamilton.org/event/offering-to-the-spiritual-guide-158/
CATEGORIES:Chanted Prayers
END:VEVENT
BEGIN:VEVENT
DTSTART;TZID=America/Toronto:20251110T193000
DTEND;TZID=America/Toronto:20251110T210000
DTSTAMP:20260419T223353
CREATED:20250819T003222Z
LAST-MODIFIED:20250819T003222Z
UID:40756-1762803000-1762808400@meditationinhamilton.org
SUMMARY:General Program Class
DESCRIPTION:
URL:https://meditationinhamilton.org/event/general-program-class-335/
CATEGORIES:General Program Meditation Class
END:VEVENT
BEGIN:VEVENT
DTSTART;TZID=America/Toronto:20251111T193000
DTEND;TZID=America/Toronto:20251111T210000
DTSTAMP:20260419T223353
CREATED:20250819T003713Z
LAST-MODIFIED:20250819T003713Z
UID:40764-1762889400-1762894800@meditationinhamilton.org
SUMMARY:General Program Class
DESCRIPTION:
URL:https://meditationinhamilton.org/event/general-program-class-339/
CATEGORIES:General Program Meditation Class
END:VEVENT
BEGIN:VEVENT
DTSTART;TZID=America/Toronto:20251112T190000
DTEND;TZID=America/Toronto:20251112T220000
DTSTAMP:20260419T223353
CREATED:20250819T005703Z
LAST-MODIFIED:20250819T005703Z
UID:40794-1762974000-1762984800@meditationinhamilton.org
SUMMARY:Foundation Program
DESCRIPTION:
URL:https://meditationinhamilton.org/event/foundation-program-198/
CATEGORIES:Foundation Program
END:VEVENT
BEGIN:VEVENT
DTSTART;TZID=America/Toronto:20251113T193000
DTEND;TZID=America/Toronto:20251113T201500
DTSTAMP:20260419T223353
CREATED:20250819T011708Z
LAST-MODIFIED:20250819T011708Z
UID:40822-1763062200-1763064900@meditationinhamilton.org
SUMMARY:Peace of Mind
DESCRIPTION:
URL:https://meditationinhamilton.org/event/peace-of-mind-110/
CATEGORIES:General Program Meditation Class
END:VEVENT
BEGIN:VEVENT
DTSTART;TZID=America/Toronto:20251117T193000
DTEND;TZID=America/Toronto:20251117T210000
DTSTAMP:20260419T223353
CREATED:20250819T003326Z
LAST-MODIFIED:20250819T003326Z
UID:40758-1763407800-1763413200@meditationinhamilton.org
SUMMARY:General Program Class
DESCRIPTION:
URL:https://meditationinhamilton.org/event/general-program-class-336/
CATEGORIES:General Program Meditation Class
END:VEVENT
BEGIN:VEVENT
DTSTART;TZID=America/Toronto:20251118T193000
DTEND;TZID=America/Toronto:20251118T210000
DTSTAMP:20260419T223353
CREATED:20250819T003819Z
LAST-MODIFIED:20250819T003819Z
UID:40766-1763494200-1763499600@meditationinhamilton.org
SUMMARY:General Program Class
DESCRIPTION:
URL:https://meditationinhamilton.org/event/general-program-class-340/
CATEGORIES:General Program Meditation Class
END:VEVENT
BEGIN:VEVENT
DTSTART;TZID=America/Toronto:20251119T190000
DTEND;TZID=America/Toronto:20251119T220000
DTSTAMP:20260419T223353
CREATED:20250819T005814Z
LAST-MODIFIED:20250819T005814Z
UID:40796-1763578800-1763589600@meditationinhamilton.org
SUMMARY:Foundation Program
DESCRIPTION:
URL:https://meditationinhamilton.org/event/foundation-program-199/
CATEGORIES:Foundation Program
END:VEVENT
BEGIN:VEVENT
DTSTART;TZID=America/Toronto:20251120T193000
DTEND;TZID=America/Toronto:20251120T201500
DTSTAMP:20260419T223353
CREATED:20250819T011829Z
LAST-MODIFIED:20250819T011829Z
UID:40824-1763667000-1763669700@meditationinhamilton.org
SUMMARY:Peace of Mind
DESCRIPTION:
URL:https://meditationinhamilton.org/event/peace-of-mind-111/
CATEGORIES:General Program Meditation Class
END:VEVENT
BEGIN:VEVENT
DTSTART;VALUE=DATE:20251121
DTEND;VALUE=DATE:20251124
DTSTAMP:20260419T223353
CREATED:20240613T211342Z
LAST-MODIFIED:20240613T211342Z
UID:39518-1763683200-1763942399@meditationinhamilton.org
SUMMARY:Ontario Dharma Celebration
DESCRIPTION:
URL:https://meditationinhamilton.org/event/ontario-dharma-celebration-6/
END:VEVENT
BEGIN:VEVENT
DTSTART;TZID=America/Toronto:20251124T193000
DTEND;TZID=America/Toronto:20251124T210000
DTSTAMP:20260419T223353
CREATED:20250819T003432Z
LAST-MODIFIED:20250819T003432Z
UID:40760-1764012600-1764018000@meditationinhamilton.org
SUMMARY:General Program Class
DESCRIPTION:
URL:https://meditationinhamilton.org/event/general-program-class-337/
CATEGORIES:General Program Meditation Class
END:VEVENT
BEGIN:VEVENT
DTSTART;TZID=America/Toronto:20251125T120000
DTEND;TZID=America/Toronto:20251125T140000
DTSTAMP:20260419T223353
CREATED:20250108T034103Z
LAST-MODIFIED:20250108T034103Z
UID:40207-1764072000-1764079200@meditationinhamilton.org
SUMMARY:Offering to the Spiritual Guide
DESCRIPTION:
URL:https://meditationinhamilton.org/event/offering-to-the-spiritual-guide-159/
CATEGORIES:Chanted Prayers
END:VEVENT
BEGIN:VEVENT
DTSTART;TZID=America/Toronto:20251125T193000
DTEND;TZID=America/Toronto:20251125T210000
DTSTAMP:20260419T223353
CREATED:20250819T003925Z
LAST-MODIFIED:20250819T003925Z
UID:40768-1764099000-1764104400@meditationinhamilton.org
SUMMARY:General Program Class
DESCRIPTION:
URL:https://meditationinhamilton.org/event/general-program-class-341/
CATEGORIES:General Program Meditation Class
END:VEVENT
END:VCALENDAR