BEGIN:VCALENDAR
VERSION:2.0
PRODID:-//Samudra Kadampa Buddhist Centre - ECPv6.15.20//NONSGML v1.0//EN
CALSCALE:GREGORIAN
METHOD:PUBLISH
X-WR-CALNAME:Samudra Kadampa Buddhist Centre
X-ORIGINAL-URL:https://meditationinhamilton.org
X-WR-CALDESC:Events for Samudra Kadampa Buddhist Centre
REFRESH-INTERVAL;VALUE=DURATION:PT1H
X-Robots-Tag:noindex
X-PUBLISHED-TTL:PT1H
BEGIN:VTIMEZONE
TZID:America/Toronto
BEGIN:DAYLIGHT
TZOFFSETFROM:-0500
TZOFFSETTO:-0400
TZNAME:EDT
DTSTART:20250309T070000
END:DAYLIGHT
BEGIN:STANDARD
TZOFFSETFROM:-0400
TZOFFSETTO:-0500
TZNAME:EST
DTSTART:20251102T060000
END:STANDARD
BEGIN:DAYLIGHT
TZOFFSETFROM:-0500
TZOFFSETTO:-0400
TZNAME:EDT
DTSTART:20260308T070000
END:DAYLIGHT
BEGIN:STANDARD
TZOFFSETFROM:-0400
TZOFFSETTO:-0500
TZNAME:EST
DTSTART:20261101T060000
END:STANDARD
BEGIN:DAYLIGHT
TZOFFSETFROM:-0500
TZOFFSETTO:-0400
TZNAME:EDT
DTSTART:20270314T070000
END:DAYLIGHT
BEGIN:STANDARD
TZOFFSETFROM:-0400
TZOFFSETTO:-0500
TZNAME:EST
DTSTART:20271107T060000
END:STANDARD
END:VTIMEZONE
BEGIN:VEVENT
DTSTART;TZID=America/Toronto:20260120T193000
DTEND;TZID=America/Toronto:20260120T210000
DTSTAMP:20260420T094839
CREATED:20251001T201102Z
LAST-MODIFIED:20251001T201102Z
UID:40880-1768937400-1768942800@meditationinhamilton.org
SUMMARY:General Program Class
DESCRIPTION:
URL:https://meditationinhamilton.org/event/general-program-class-354/
CATEGORIES:General Program Meditation Class
END:VEVENT
BEGIN:VEVENT
DTSTART;TZID=America/Toronto:20260121T190000
DTEND;TZID=America/Toronto:20260121T220000
DTSTAMP:20260420T094839
CREATED:20251001T204027Z
LAST-MODIFIED:20251001T204027Z
UID:40924-1769022000-1769032800@meditationinhamilton.org
SUMMARY:Foundation Program
DESCRIPTION:
URL:https://meditationinhamilton.org/event/foundation-program-205/
CATEGORIES:Foundation Program
END:VEVENT
BEGIN:VEVENT
DTSTART;TZID=America/Toronto:20260122T193000
DTEND;TZID=America/Toronto:20260122T201500
DTSTAMP:20260420T094839
CREATED:20251001T210448Z
LAST-MODIFIED:20251001T210448Z
UID:40958-1769110200-1769112900@meditationinhamilton.org
SUMMARY:Peace of Mind
DESCRIPTION:
URL:https://meditationinhamilton.org/event/peace-of-mind-118/
CATEGORIES:General Program Meditation Class
END:VEVENT
BEGIN:VEVENT
DTSTART;TZID=America/Toronto:20260125T120000
DTEND;TZID=America/Toronto:20260125T140000
DTSTAMP:20260420T094839
CREATED:20251001T205416Z
LAST-MODIFIED:20251001T205416Z
UID:40944-1769342400-1769349600@meditationinhamilton.org
SUMMARY:Offering to the Spiritual Guide
DESCRIPTION:
URL:https://meditationinhamilton.org/event/offering-to-the-spiritual-guide-163/
CATEGORIES:Chanted Prayers
END:VEVENT
BEGIN:VEVENT
DTSTART;TZID=America/Toronto:20260126T193000
DTEND;TZID=America/Toronto:20260126T210000
DTSTAMP:20260420T094839
CREATED:20251001T200607Z
LAST-MODIFIED:20251001T200607Z
UID:40874-1769455800-1769461200@meditationinhamilton.org
SUMMARY:General Program Class
DESCRIPTION:
URL:https://meditationinhamilton.org/event/general-program-class-351/
CATEGORIES:General Program Meditation Class
END:VEVENT
BEGIN:VEVENT
DTSTART;TZID=America/Toronto:20260127T193000
DTEND;TZID=America/Toronto:20260127T210000
DTSTAMP:20260420T094839
CREATED:20251001T201215Z
LAST-MODIFIED:20251001T201215Z
UID:40882-1769542200-1769547600@meditationinhamilton.org
SUMMARY:General Program Class
DESCRIPTION:
URL:https://meditationinhamilton.org/event/general-program-class-355/
CATEGORIES:General Program Meditation Class
END:VEVENT
BEGIN:VEVENT
DTSTART;TZID=America/Toronto:20260128T190000
DTEND;TZID=America/Toronto:20260128T220000
DTSTAMP:20260420T094839
CREATED:20251001T204135Z
LAST-MODIFIED:20251001T204135Z
UID:40926-1769626800-1769637600@meditationinhamilton.org
SUMMARY:Foundation Program
DESCRIPTION:
URL:https://meditationinhamilton.org/event/foundation-program-206/
CATEGORIES:Foundation Program
END:VEVENT
BEGIN:VEVENT
DTSTART;TZID=America/Toronto:20260129T120000
DTEND;TZID=America/Toronto:20260129T130000
DTSTAMP:20260420T094839
CREATED:20251001T212557Z
LAST-MODIFIED:20251001T212557Z
UID:40984-1769688000-1769691600@meditationinhamilton.org
SUMMARY:Wishfulfilling Jewel
DESCRIPTION:
URL:https://meditationinhamilton.org/event/wishfulfilling-jewel-16/
CATEGORIES:Chanted Prayers
END:VEVENT
BEGIN:VEVENT
DTSTART;TZID=America/Toronto:20260129T193000
DTEND;TZID=America/Toronto:20260129T201500
DTSTAMP:20260420T094839
CREATED:20251001T210625Z
LAST-MODIFIED:20251001T210625Z
UID:40960-1769715000-1769717700@meditationinhamilton.org
SUMMARY:Peace of Mind
DESCRIPTION:
URL:https://meditationinhamilton.org/event/peace-of-mind-119/
CATEGORIES:General Program Meditation Class
END:VEVENT
BEGIN:VEVENT
DTSTART;TZID=America/Toronto:20260131T100000
DTEND;TZID=America/Toronto:20260131T130000
DTSTAMP:20260420T094839
CREATED:20251124T005454Z
LAST-MODIFIED:20251124T005454Z
UID:41096-1769853600-1769864400@meditationinhamilton.org
SUMMARY:Why Relationships Are Often Problematic
DESCRIPTION:
URL:https://meditationinhamilton.org/event/why-relationships-are-often-problematic/
CATEGORIES:Half Day Course
END:VEVENT
BEGIN:VEVENT
DTSTART;TZID=America/Toronto:20260202T193000
DTEND;TZID=America/Toronto:20260202T210000
DTSTAMP:20260420T094839
CREATED:20251001T201330Z
LAST-MODIFIED:20251001T201330Z
UID:40884-1770060600-1770066000@meditationinhamilton.org
SUMMARY:General Program Class
DESCRIPTION:
URL:https://meditationinhamilton.org/event/general-program-class-356/
CATEGORIES:General Program Meditation Class
END:VEVENT
BEGIN:VEVENT
DTSTART;TZID=America/Toronto:20260203T193000
DTEND;TZID=America/Toronto:20260203T210000
DTSTAMP:20260420T094839
CREATED:20251001T201757Z
LAST-MODIFIED:20251001T201757Z
UID:40892-1770147000-1770152400@meditationinhamilton.org
SUMMARY:General Program Class
DESCRIPTION:
URL:https://meditationinhamilton.org/event/general-program-class-360/
CATEGORIES:General Program Meditation Class
END:VEVENT
BEGIN:VEVENT
DTSTART;TZID=America/Toronto:20260204T190000
DTEND;TZID=America/Toronto:20260204T220000
DTSTAMP:20260420T094839
CREATED:20251001T204321Z
LAST-MODIFIED:20251001T204321Z
UID:40928-1770231600-1770242400@meditationinhamilton.org
SUMMARY:Foundation Program
DESCRIPTION:
URL:https://meditationinhamilton.org/event/foundation-program-207/
CATEGORIES:Foundation Program
END:VEVENT
BEGIN:VEVENT
DTSTART;TZID=America/Toronto:20260205T193000
DTEND;TZID=America/Toronto:20260205T201500
DTSTAMP:20260420T094839
CREATED:20251001T210750Z
LAST-MODIFIED:20251001T210750Z
UID:40962-1770319800-1770322500@meditationinhamilton.org
SUMMARY:Peace of Mind
DESCRIPTION:
URL:https://meditationinhamilton.org/event/peace-of-mind-120/
CATEGORIES:General Program Meditation Class
END:VEVENT
BEGIN:VEVENT
DTSTART;TZID=America/Toronto:20260209T193000
DTEND;TZID=America/Toronto:20260209T210000
DTSTAMP:20260420T094839
CREATED:20251001T201434Z
LAST-MODIFIED:20251001T201434Z
UID:40886-1770665400-1770670800@meditationinhamilton.org
SUMMARY:General Program Class
DESCRIPTION:
URL:https://meditationinhamilton.org/event/general-program-class-357/
CATEGORIES:General Program Meditation Class
END:VEVENT
BEGIN:VEVENT
DTSTART;TZID=America/Toronto:20260210T120000
DTEND;TZID=America/Toronto:20260210T140000
DTSTAMP:20260420T094839
CREATED:20251001T205539Z
LAST-MODIFIED:20251001T205539Z
UID:40946-1770724800-1770732000@meditationinhamilton.org
SUMMARY:Offering to the Spiritual Guide
DESCRIPTION:
URL:https://meditationinhamilton.org/event/offering-to-the-spiritual-guide-164/
CATEGORIES:Chanted Prayers
END:VEVENT
BEGIN:VEVENT
DTSTART;TZID=America/Toronto:20260210T193000
DTEND;TZID=America/Toronto:20260210T210000
DTSTAMP:20260420T094839
CREATED:20251001T201911Z
LAST-MODIFIED:20251001T201911Z
UID:40894-1770751800-1770757200@meditationinhamilton.org
SUMMARY:General Program Class
DESCRIPTION:
URL:https://meditationinhamilton.org/event/general-program-class-361/
CATEGORIES:General Program Meditation Class
END:VEVENT
BEGIN:VEVENT
DTSTART;TZID=America/Toronto:20260211T190000
DTEND;TZID=America/Toronto:20260211T220000
DTSTAMP:20260420T094839
CREATED:20251001T204419Z
LAST-MODIFIED:20251001T204419Z
UID:40930-1770836400-1770847200@meditationinhamilton.org
SUMMARY:Foundation Program
DESCRIPTION:
URL:https://meditationinhamilton.org/event/foundation-program-208/
CATEGORIES:Foundation Program
END:VEVENT
BEGIN:VEVENT
DTSTART;TZID=America/Toronto:20260212T193000
DTEND;TZID=America/Toronto:20260212T201500
DTSTAMP:20260420T094839
CREATED:20251001T210955Z
LAST-MODIFIED:20251001T210955Z
UID:40964-1770924600-1770927300@meditationinhamilton.org
SUMMARY:Peace of Mind
DESCRIPTION:
URL:https://meditationinhamilton.org/event/peace-of-mind-121/
CATEGORIES:General Program Meditation Class
END:VEVENT
BEGIN:VEVENT
DTSTART;TZID=America/Toronto:20260212T203000
DTEND;TZID=America/Toronto:20260212T211500
DTSTAMP:20260420T094839
CREATED:20260211T211623Z
LAST-MODIFIED:20260211T211623Z
UID:41394-1770928200-1770930900@meditationinhamilton.org
SUMMARY:Solitary Vajrasattva Prayers
DESCRIPTION:
URL:https://meditationinhamilton.org/event/solitary-vajrasattva-prayers/
CATEGORIES:Chanted Prayers
END:VEVENT
BEGIN:VEVENT
DTSTART;TZID=America/Toronto:20260217T193000
DTEND;TZID=America/Toronto:20260217T210000
DTSTAMP:20260420T094839
CREATED:20251001T202017Z
LAST-MODIFIED:20251001T202017Z
UID:40896-1771356600-1771362000@meditationinhamilton.org
SUMMARY:General Program Class
DESCRIPTION:
URL:https://meditationinhamilton.org/event/general-program-class-362/
CATEGORIES:General Program Meditation Class
END:VEVENT
BEGIN:VEVENT
DTSTART;TZID=America/Toronto:20260218T190000
DTEND;TZID=America/Toronto:20260218T220000
DTSTAMP:20260420T094839
CREATED:20251001T204519Z
LAST-MODIFIED:20251001T204519Z
UID:40932-1771441200-1771452000@meditationinhamilton.org
SUMMARY:Foundation Program
DESCRIPTION:
URL:https://meditationinhamilton.org/event/foundation-program-209/
CATEGORIES:Foundation Program
END:VEVENT
BEGIN:VEVENT
DTSTART;TZID=America/Toronto:20260219T193000
DTEND;TZID=America/Toronto:20260219T201500
DTSTAMP:20260420T094839
CREATED:20251001T211115Z
LAST-MODIFIED:20251001T211115Z
UID:40966-1771529400-1771532100@meditationinhamilton.org
SUMMARY:Peace of Mind
DESCRIPTION:
URL:https://meditationinhamilton.org/event/peace-of-mind-122/
CATEGORIES:General Program Meditation Class
END:VEVENT
BEGIN:VEVENT
DTSTART;TZID=America/Toronto:20260219T203000
DTEND;TZID=America/Toronto:20260219T211500
DTSTAMP:20260420T094839
CREATED:20260211T211739Z
LAST-MODIFIED:20260211T211739Z
UID:41396-1771533000-1771535700@meditationinhamilton.org
SUMMARY:Solitary Vajrasattva Prayers
DESCRIPTION:
URL:https://meditationinhamilton.org/event/solitary-vajrasattva-prayers-2/
CATEGORIES:Chanted Prayers
END:VEVENT
BEGIN:VEVENT
DTSTART;TZID=America/Toronto:20260223T193000
DTEND;TZID=America/Toronto:20260223T210000
DTSTAMP:20260420T094839
CREATED:20251001T201648Z
LAST-MODIFIED:20251001T201648Z
UID:40890-1771875000-1771880400@meditationinhamilton.org
SUMMARY:General Program Class
DESCRIPTION:
URL:https://meditationinhamilton.org/event/general-program-class-359/
CATEGORIES:General Program Meditation Class
END:VEVENT
BEGIN:VEVENT
DTSTART;TZID=America/Toronto:20260224T193000
DTEND;TZID=America/Toronto:20260224T210000
DTSTAMP:20260420T094839
CREATED:20251001T202124Z
LAST-MODIFIED:20251001T202124Z
UID:40898-1771961400-1771966800@meditationinhamilton.org
SUMMARY:General Program Class
DESCRIPTION:
URL:https://meditationinhamilton.org/event/general-program-class-363/
CATEGORIES:General Program Meditation Class
END:VEVENT
BEGIN:VEVENT
DTSTART;TZID=America/Toronto:20260225T193000
DTEND;TZID=America/Toronto:20260225T213000
DTSTAMP:20260420T094839
CREATED:20251001T205639Z
LAST-MODIFIED:20251001T205639Z
UID:40948-1772047800-1772055000@meditationinhamilton.org
SUMMARY:Offering to the Spiritual Guide
DESCRIPTION:
URL:https://meditationinhamilton.org/event/offering-to-the-spiritual-guide-165/
CATEGORIES:Chanted Prayers
END:VEVENT
BEGIN:VEVENT
DTSTART;TZID=America/Toronto:20260226T193000
DTEND;TZID=America/Toronto:20260226T201500
DTSTAMP:20260420T094839
CREATED:20251001T211238Z
LAST-MODIFIED:20251001T211238Z
UID:40968-1772134200-1772136900@meditationinhamilton.org
SUMMARY:Peace of Mind
DESCRIPTION:
URL:https://meditationinhamilton.org/event/peace-of-mind-123/
CATEGORIES:General Program Meditation Class
END:VEVENT
BEGIN:VEVENT
DTSTART;TZID=America/Toronto:20260226T203000
DTEND;TZID=America/Toronto:20260226T211500
DTSTAMP:20260420T094839
CREATED:20260211T211855Z
LAST-MODIFIED:20260211T211855Z
UID:41398-1772137800-1772140500@meditationinhamilton.org
SUMMARY:Solitary Vajrasattva Prayers
DESCRIPTION:
URL:https://meditationinhamilton.org/event/solitary-vajrasattva-prayers-3/
CATEGORIES:Chanted Prayers
END:VEVENT
BEGIN:VEVENT
DTSTART;TZID=America/Toronto:20260228T100000
DTEND;TZID=America/Toronto:20260228T163000
DTSTAMP:20260420T094839
CREATED:20251001T212335Z
LAST-MODIFIED:20251001T213004Z
UID:40982-1772272800-1772296200@meditationinhamilton.org
SUMMARY:Manjushri Empowerment
DESCRIPTION:
URL:https://meditationinhamilton.org/event/melodious-drum-64/
END:VEVENT
END:VCALENDAR