BEGIN:VCALENDAR
VERSION:2.0
PRODID:-//Samudra Kadampa Buddhist Centre - ECPv6.15.20//NONSGML v1.0//EN
CALSCALE:GREGORIAN
METHOD:PUBLISH
X-WR-CALNAME:Samudra Kadampa Buddhist Centre
X-ORIGINAL-URL:https://meditationinhamilton.org
X-WR-CALDESC:Events for Samudra Kadampa Buddhist Centre
REFRESH-INTERVAL;VALUE=DURATION:PT1H
X-Robots-Tag:noindex
X-PUBLISHED-TTL:PT1H
BEGIN:VTIMEZONE
TZID:America/Toronto
BEGIN:DAYLIGHT
TZOFFSETFROM:-0500
TZOFFSETTO:-0400
TZNAME:EDT
DTSTART:20210314T070000
END:DAYLIGHT
BEGIN:STANDARD
TZOFFSETFROM:-0400
TZOFFSETTO:-0500
TZNAME:EST
DTSTART:20211107T060000
END:STANDARD
BEGIN:DAYLIGHT
TZOFFSETFROM:-0500
TZOFFSETTO:-0400
TZNAME:EDT
DTSTART:20220313T070000
END:DAYLIGHT
BEGIN:STANDARD
TZOFFSETFROM:-0400
TZOFFSETTO:-0500
TZNAME:EST
DTSTART:20221106T060000
END:STANDARD
BEGIN:DAYLIGHT
TZOFFSETFROM:-0500
TZOFFSETTO:-0400
TZNAME:EDT
DTSTART:20230312T070000
END:DAYLIGHT
BEGIN:STANDARD
TZOFFSETFROM:-0400
TZOFFSETTO:-0500
TZNAME:EST
DTSTART:20231105T060000
END:STANDARD
BEGIN:DAYLIGHT
TZOFFSETFROM:-0500
TZOFFSETTO:-0400
TZNAME:EDT
DTSTART:20240310T070000
END:DAYLIGHT
BEGIN:STANDARD
TZOFFSETFROM:-0400
TZOFFSETTO:-0500
TZNAME:EST
DTSTART:20241103T060000
END:STANDARD
END:VTIMEZONE
BEGIN:VEVENT
DTSTART;TZID=America/Toronto:20230206T193000
DTEND;TZID=America/Toronto:20230206T210000
DTSTAMP:20260424T074305
CREATED:20221010T224723Z
LAST-MODIFIED:20221010T224723Z
UID:37600-1675711800-1675717200@meditationinhamilton.org
SUMMARY:General Program Class
DESCRIPTION:
URL:https://meditationinhamilton.org/event/general-program-class-76/
CATEGORIES:General Program Meditation Class
END:VEVENT
BEGIN:VEVENT
DTSTART;TZID=America/Toronto:20230204T100000
DTEND;TZID=America/Toronto:20230204T130000
DTSTAMP:20260424T074305
CREATED:20221109T121055Z
LAST-MODIFIED:20221109T121055Z
UID:37798-1675504800-1675515600@meditationinhamilton.org
SUMMARY:Purifying Accumulated Negative Karma
DESCRIPTION:
URL:https://meditationinhamilton.org/event/purifying-accumulated-negative-karma/
CATEGORIES:Half Day Course
END:VEVENT
BEGIN:VEVENT
DTSTART;TZID=America/Toronto:20230201T190000
DTEND;TZID=America/Toronto:20230201T220000
DTSTAMP:20260424T074305
CREATED:20221010T232533Z
LAST-MODIFIED:20221010T232533Z
UID:37637-1675278000-1675288800@meditationinhamilton.org
SUMMARY:Foundation Program
DESCRIPTION:
URL:https://meditationinhamilton.org/event/foundation-program-58/
CATEGORIES:Foundation Program
END:VEVENT
BEGIN:VEVENT
DTSTART;TZID=America/Toronto:20230131T193000
DTEND;TZID=America/Toronto:20230131T210000
DTSTAMP:20260424T074305
CREATED:20220916T214206Z
LAST-MODIFIED:20220916T214206Z
UID:37516-1675193400-1675198800@meditationinhamilton.org
SUMMARY:General Program Class
DESCRIPTION:
URL:https://meditationinhamilton.org/event/general-program-class-73/
CATEGORIES:General Program Meditation Class
END:VEVENT
BEGIN:VEVENT
DTSTART;TZID=America/Toronto:20230130T193000
DTEND;TZID=America/Toronto:20230130T210000
DTSTAMP:20260424T074305
CREATED:20220916T214056Z
LAST-MODIFIED:20220916T214056Z
UID:37514-1675107000-1675112400@meditationinhamilton.org
SUMMARY:General Program Class
DESCRIPTION:
URL:https://meditationinhamilton.org/event/general-program-class-72/
CATEGORIES:General Program Meditation Class
END:VEVENT
BEGIN:VEVENT
DTSTART;TZID=America/Toronto:20230129T120000
DTEND;TZID=America/Toronto:20230129T153000
DTSTAMP:20260424T074305
CREATED:20220916T212705Z
LAST-MODIFIED:20221010T224056Z
UID:37496-1674993600-1675006200@meditationinhamilton.org
SUMMARY:Melodious Drum
DESCRIPTION:
URL:https://meditationinhamilton.org/event/melodious-drum-39/
CATEGORIES:Chanted Prayers
END:VEVENT
BEGIN:VEVENT
DTSTART;TZID=America/Toronto:20230125T193000
DTEND;TZID=America/Toronto:20230125T213000
DTSTAMP:20260424T074305
CREATED:20220916T212538Z
LAST-MODIFIED:20220916T212538Z
UID:37494-1674675000-1674682200@meditationinhamilton.org
SUMMARY:Offering to the Spiritual Guide
DESCRIPTION:
URL:https://meditationinhamilton.org/event/offering-to-the-spiritual-guide-90/
CATEGORIES:Chanted Prayers
END:VEVENT
BEGIN:VEVENT
DTSTART;TZID=America/Toronto:20230124T193000
DTEND;TZID=America/Toronto:20230124T210000
DTSTAMP:20260424T074305
CREATED:20220916T213950Z
LAST-MODIFIED:20220916T213950Z
UID:37512-1674588600-1674594000@meditationinhamilton.org
SUMMARY:General Program Class
DESCRIPTION:
URL:https://meditationinhamilton.org/event/general-program-class-71/
CATEGORIES:General Program Meditation Class
END:VEVENT
BEGIN:VEVENT
DTSTART;TZID=America/Toronto:20230123T193000
DTEND;TZID=America/Toronto:20230123T210000
DTSTAMP:20260424T074305
CREATED:20220916T213849Z
LAST-MODIFIED:20220916T213849Z
UID:37510-1674502200-1674507600@meditationinhamilton.org
SUMMARY:General Program Class
DESCRIPTION:
URL:https://meditationinhamilton.org/event/general-program-class-70/
CATEGORIES:General Program Meditation Class
END:VEVENT
BEGIN:VEVENT
DTSTART;TZID=America/Toronto:20230121T100000
DTEND;TZID=America/Toronto:20230121T130000
DTSTAMP:20260424T074305
CREATED:20220916T222906Z
LAST-MODIFIED:20221212T044239Z
UID:37518-1674295200-1674306000@meditationinhamilton.org
SUMMARY:The Yoga of Equalizing Samsara & Nirvana
DESCRIPTION:
URL:https://meditationinhamilton.org/event/equalizing-samsara-nirvana-day-course/
CATEGORIES:Half Day Course
END:VEVENT
BEGIN:VEVENT
DTSTART;TZID=America/Toronto:20230118T190000
DTEND;TZID=America/Toronto:20230118T220000
DTSTAMP:20260424T074305
CREATED:20220916T213041Z
LAST-MODIFIED:20220916T213041Z
UID:37500-1674068400-1674079200@meditationinhamilton.org
SUMMARY:Foundation Program
DESCRIPTION:
URL:https://meditationinhamilton.org/event/foundation-program-75/
CATEGORIES:Foundation Program
END:VEVENT
BEGIN:VEVENT
DTSTART;TZID=America/Toronto:20230117T193000
DTEND;TZID=America/Toronto:20230117T210000
DTSTAMP:20260424T074305
CREATED:20220916T213744Z
LAST-MODIFIED:20220916T213744Z
UID:37508-1673983800-1673989200@meditationinhamilton.org
SUMMARY:General Program Class
DESCRIPTION:
URL:https://meditationinhamilton.org/event/general-program-class-69/
CATEGORIES:General Program Meditation Class
END:VEVENT
BEGIN:VEVENT
DTSTART;TZID=America/Toronto:20230116T193000
DTEND;TZID=America/Toronto:20230116T210000
DTSTAMP:20260424T074305
CREATED:20221010T224552Z
LAST-MODIFIED:20221010T224552Z
UID:37598-1673897400-1673902800@meditationinhamilton.org
SUMMARY:General Program Class
DESCRIPTION:
URL:https://meditationinhamilton.org/event/general-program-class-75/
CATEGORIES:General Program Meditation Class
END:VEVENT
BEGIN:VEVENT
DTSTART;TZID=America/Toronto:20230111T190000
DTEND;TZID=America/Toronto:20230111T220000
DTSTAMP:20260424T074305
CREATED:20220916T212932Z
LAST-MODIFIED:20220916T212932Z
UID:37498-1673463600-1673474400@meditationinhamilton.org
SUMMARY:Foundation Program
DESCRIPTION:
URL:https://meditationinhamilton.org/event/foundation-program-73/
CATEGORIES:Foundation Program
END:VEVENT
BEGIN:VEVENT
DTSTART;TZID=America/Toronto:20230110T193000
DTEND;TZID=America/Toronto:20230110T210000
DTSTAMP:20260424T074305
CREATED:20220916T213521Z
LAST-MODIFIED:20220916T213521Z
UID:37504-1673379000-1673384400@meditationinhamilton.org
SUMMARY:General Program Class
DESCRIPTION:
URL:https://meditationinhamilton.org/event/general-program-class-67/
CATEGORIES:General Program Meditation Class
END:VEVENT
BEGIN:VEVENT
DTSTART;TZID=America/Toronto:20230110T120000
DTEND;TZID=America/Toronto:20230110T140000
DTSTAMP:20260424T074305
CREATED:20220916T212341Z
LAST-MODIFIED:20220916T212341Z
UID:37490-1673352000-1673359200@meditationinhamilton.org
SUMMARY:Offering to the Spiritual Guide
DESCRIPTION:
URL:https://meditationinhamilton.org/event/offering-to-the-spiritual-guide-89/
CATEGORIES:Chanted Prayers
END:VEVENT
BEGIN:VEVENT
DTSTART;TZID=America/Toronto:20230109T193000
DTEND;TZID=America/Toronto:20230109T210000
DTSTAMP:20260424T074305
CREATED:20221010T224420Z
LAST-MODIFIED:20221010T224420Z
UID:37596-1673292600-1673298000@meditationinhamilton.org
SUMMARY:General Program Class
DESCRIPTION:
URL:https://meditationinhamilton.org/event/general-program-class-74/
CATEGORIES:General Program Meditation Class
END:VEVENT
BEGIN:VEVENT
DTSTART;TZID=America/Toronto:20230107T090000
DTEND;TZID=America/Toronto:20230107T173000
DTSTAMP:20260424T074305
CREATED:20221010T223552Z
LAST-MODIFIED:20221010T223552Z
UID:37594-1673082000-1673112600@meditationinhamilton.org
SUMMARY:Quick Path to Great Bliss Retreat
DESCRIPTION:
URL:https://meditationinhamilton.org/event/quick-path-to-great-bliss-retreat/
CATEGORIES:Meditation Retreat
END:VEVENT
BEGIN:VEVENT
DTSTART;TZID=America/Toronto:20221231T190000
DTEND;TZID=America/Toronto:20221231T200000
DTSTAMP:20260424T074305
CREATED:20220316T115617Z
LAST-MODIFIED:20221120T154025Z
UID:36938-1672513200-1672516800@meditationinhamilton.org
SUMMARY:Request to the Holy Spiritual Guide  Prayers for World Peace
DESCRIPTION:
URL:https://meditationinhamilton.org/event/the-yoga-of-buddha-amitayus-2/
CATEGORIES:Chanted Prayers
END:VEVENT
BEGIN:VEVENT
DTSTART;TZID=America/Toronto:20221229T183000
DTEND;TZID=America/Toronto:20221229T220000
DTSTAMP:20260424T074305
CREATED:20220316T115726Z
LAST-MODIFIED:20220316T115726Z
UID:36940-1672338600-1672351200@meditationinhamilton.org
SUMMARY:Melodious Drum
DESCRIPTION:
URL:https://meditationinhamilton.org/event/melodious-drum-24/
CATEGORIES:Chanted Prayers
END:VEVENT
BEGIN:VEVENT
DTSTART;TZID=America/Toronto:20221225T193000
DTEND;TZID=America/Toronto:20221225T213000
DTSTAMP:20260424T074305
CREATED:20220316T115411Z
LAST-MODIFIED:20220316T115411Z
UID:36936-1671996600-1672003800@meditationinhamilton.org
SUMMARY:Offering to the Spiritual Guide
DESCRIPTION:
URL:https://meditationinhamilton.org/event/offering-to-the-spiritual-guide-88/
CATEGORIES:Chanted Prayers
END:VEVENT
BEGIN:VEVENT
DTSTART;TZID=America/Toronto:20221220T193000
DTEND;TZID=America/Toronto:20221220T210000
DTSTAMP:20260424T074305
CREATED:20220528T165621Z
LAST-MODIFIED:20220824T150222Z
UID:37178-1671564600-1671570000@meditationinhamilton.org
SUMMARY:General Program Class
DESCRIPTION:
URL:https://meditationinhamilton.org/event/general-program-class-51/
CATEGORIES:General Program Meditation Class
END:VEVENT
BEGIN:VEVENT
DTSTART;TZID=America/Toronto:20221219T193000
DTEND;TZID=America/Toronto:20221219T210000
DTSTAMP:20260424T074305
CREATED:20220824T145603Z
LAST-MODIFIED:20220824T145603Z
UID:37393-1671478200-1671483600@meditationinhamilton.org
SUMMARY:General Program Class
DESCRIPTION:
URL:https://meditationinhamilton.org/event/general-program-class-65/
CATEGORIES:General Program Meditation Class
END:VEVENT
BEGIN:VEVENT
DTSTART;TZID=America/Toronto:20221217T120000
DTEND;TZID=America/Toronto:20221217T150000
DTSTAMP:20260424T074305
CREATED:20221024T232431Z
LAST-MODIFIED:20221024T232431Z
UID:37775-1671278400-1671289200@meditationinhamilton.org
SUMMARY:Happy Holidays Fete
DESCRIPTION:
URL:https://meditationinhamilton.org/event/happy-holidays-fete-2/
END:VEVENT
BEGIN:VEVENT
DTSTART;TZID=America/Toronto:20221214T190000
DTEND;TZID=America/Toronto:20221214T220000
DTSTAMP:20260424T074305
CREATED:20220316T123051Z
LAST-MODIFIED:20220316T123051Z
UID:36976-1671044400-1671055200@meditationinhamilton.org
SUMMARY:Foundation Program
DESCRIPTION:
URL:https://meditationinhamilton.org/event/foundation-program-72/
CATEGORIES:Foundation Program
END:VEVENT
BEGIN:VEVENT
DTSTART;TZID=America/Toronto:20221213T193000
DTEND;TZID=America/Toronto:20221213T210000
DTSTAMP:20260424T074305
CREATED:20220528T165511Z
LAST-MODIFIED:20220824T150137Z
UID:37176-1670959800-1670965200@meditationinhamilton.org
SUMMARY:General Program Class
DESCRIPTION:
URL:https://meditationinhamilton.org/event/general-program-class-50/
CATEGORIES:General Program Meditation Class
END:VEVENT
BEGIN:VEVENT
DTSTART;TZID=America/Toronto:20221212T193000
DTEND;TZID=America/Toronto:20221212T210000
DTSTAMP:20260424T074305
CREATED:20220824T145446Z
LAST-MODIFIED:20220824T145446Z
UID:37391-1670873400-1670878800@meditationinhamilton.org
SUMMARY:General Program Class
DESCRIPTION:
URL:https://meditationinhamilton.org/event/general-program-class-64/
CATEGORIES:General Program Meditation Class
END:VEVENT
BEGIN:VEVENT
DTSTART;TZID=America/Toronto:20221210T120000
DTEND;TZID=America/Toronto:20221210T140000
DTSTAMP:20260424T074305
CREATED:20220316T115302Z
LAST-MODIFIED:20221024T232716Z
UID:36934-1670673600-1670680800@meditationinhamilton.org
SUMMARY:Offering to the Spiritual Guide
DESCRIPTION:
URL:https://meditationinhamilton.org/event/offering-to-the-spiritual-guide-87/
CATEGORIES:Chanted Prayers
END:VEVENT
BEGIN:VEVENT
DTSTART;TZID=America/Toronto:20221207T190000
DTEND;TZID=America/Toronto:20221207T220000
DTSTAMP:20260424T074305
CREATED:20220316T122956Z
LAST-MODIFIED:20220316T122956Z
UID:36974-1670439600-1670450400@meditationinhamilton.org
SUMMARY:Foundation Program
DESCRIPTION:
URL:https://meditationinhamilton.org/event/foundation-program-71/
CATEGORIES:Foundation Program
END:VEVENT
BEGIN:VEVENT
DTSTART;TZID=America/Toronto:20221206T193000
DTEND;TZID=America/Toronto:20221206T210000
DTSTAMP:20260424T074305
CREATED:20220528T165350Z
LAST-MODIFIED:20220824T150058Z
UID:37174-1670355000-1670360400@meditationinhamilton.org
SUMMARY:General Program Class
DESCRIPTION:
URL:https://meditationinhamilton.org/event/general-program-class-49/
CATEGORIES:General Program Meditation Class
END:VEVENT
END:VCALENDAR