BEGIN:VCALENDAR
VERSION:2.0
PRODID:-//Samudra Kadampa Buddhist Centre - ECPv6.15.20//NONSGML v1.0//EN
CALSCALE:GREGORIAN
METHOD:PUBLISH
X-ORIGINAL-URL:https://meditationinhamilton.org
X-WR-CALDESC:Events for Samudra Kadampa Buddhist Centre
REFRESH-INTERVAL;VALUE=DURATION:PT1H
X-Robots-Tag:noindex
X-PUBLISHED-TTL:PT1H
BEGIN:VTIMEZONE
TZID:America/Toronto
BEGIN:DAYLIGHT
TZOFFSETFROM:-0500
TZOFFSETTO:-0400
TZNAME:EDT
DTSTART:20250309T070000
END:DAYLIGHT
BEGIN:STANDARD
TZOFFSETFROM:-0400
TZOFFSETTO:-0500
TZNAME:EST
DTSTART:20251102T060000
END:STANDARD
BEGIN:DAYLIGHT
TZOFFSETFROM:-0500
TZOFFSETTO:-0400
TZNAME:EDT
DTSTART:20260308T070000
END:DAYLIGHT
BEGIN:STANDARD
TZOFFSETFROM:-0400
TZOFFSETTO:-0500
TZNAME:EST
DTSTART:20261101T060000
END:STANDARD
BEGIN:DAYLIGHT
TZOFFSETFROM:-0500
TZOFFSETTO:-0400
TZNAME:EDT
DTSTART:20270314T070000
END:DAYLIGHT
BEGIN:STANDARD
TZOFFSETFROM:-0400
TZOFFSETTO:-0500
TZNAME:EST
DTSTART:20271107T060000
END:STANDARD
END:VTIMEZONE
BEGIN:VEVENT
DTSTART;TZID=America/Toronto:20260305T193000
DTEND;TZID=America/Toronto:20260305T201500
DTSTAMP:20260420T133752
CREATED:20251001T211436Z
LAST-MODIFIED:20251001T211436Z
UID:40970-1772739000-1772741700@meditationinhamilton.org
SUMMARY:Peace of Mind
DESCRIPTION:
URL:https://meditationinhamilton.org/event/peace-of-mind-124/
CATEGORIES:General Program Meditation Class
END:VEVENT
BEGIN:VEVENT
DTSTART;TZID=America/Toronto:20260309T193000
DTEND;TZID=America/Toronto:20260309T210000
DTSTAMP:20260420T133752
CREATED:20251001T202600Z
LAST-MODIFIED:20251001T202600Z
UID:40902-1773084600-1773090000@meditationinhamilton.org
SUMMARY:General Program Class
DESCRIPTION:
URL:https://meditationinhamilton.org/event/general-program-class-365/
CATEGORIES:General Program Meditation Class
END:VEVENT
BEGIN:VEVENT
DTSTART;TZID=America/Toronto:20260310T120000
DTEND;TZID=America/Toronto:20260310T140000
DTSTAMP:20260420T133752
CREATED:20251001T205741Z
LAST-MODIFIED:20251001T205741Z
UID:40950-1773144000-1773151200@meditationinhamilton.org
SUMMARY:Offering to the Spiritual Guide
DESCRIPTION:
URL:https://meditationinhamilton.org/event/offering-to-the-spiritual-guide-166/
CATEGORIES:Chanted Prayers
END:VEVENT
BEGIN:VEVENT
DTSTART;TZID=America/Toronto:20260310T193000
DTEND;TZID=America/Toronto:20260310T210000
DTSTAMP:20260420T133752
CREATED:20251001T203511Z
LAST-MODIFIED:20251001T203511Z
UID:40916-1773171000-1773176400@meditationinhamilton.org
SUMMARY:General Program Class
DESCRIPTION:
URL:https://meditationinhamilton.org/event/general-program-class-372/
CATEGORIES:General Program Meditation Class
END:VEVENT
BEGIN:VEVENT
DTSTART;TZID=America/Toronto:20260311T190000
DTEND;TZID=America/Toronto:20260311T220000
DTSTAMP:20260420T133752
CREATED:20251001T204800Z
LAST-MODIFIED:20251001T204800Z
UID:40936-1773255600-1773266400@meditationinhamilton.org
SUMMARY:Foundation Program
DESCRIPTION:
URL:https://meditationinhamilton.org/event/foundation-program-211/
CATEGORIES:Foundation Program
END:VEVENT
BEGIN:VEVENT
DTSTART;TZID=America/Toronto:20260312T193000
DTEND;TZID=America/Toronto:20260312T201500
DTSTAMP:20260420T133752
CREATED:20251001T211547Z
LAST-MODIFIED:20251001T211547Z
UID:40972-1773343800-1773346500@meditationinhamilton.org
SUMMARY:Peace of Mind
DESCRIPTION:
URL:https://meditationinhamilton.org/event/peace-of-mind-125/
CATEGORIES:General Program Meditation Class
END:VEVENT
BEGIN:VEVENT
DTSTART;TZID=America/Toronto:20260314T100000
DTEND;TZID=America/Toronto:20260314T130000
DTSTAMP:20260420T133752
CREATED:20251206T204122Z
LAST-MODIFIED:20251206T204310Z
UID:41151-1773482400-1773493200@meditationinhamilton.org
SUMMARY:Recognizing & Avoiding Spiritual Self-Sabotage
DESCRIPTION:
URL:https://meditationinhamilton.org/event/recognizing-avoiding-spiritual-self-sabotage/
CATEGORIES:Half Day Course
END:VEVENT
BEGIN:VEVENT
DTSTART;TZID=America/Toronto:20260316T193000
DTEND;TZID=America/Toronto:20260316T210000
DTSTAMP:20260420T133752
CREATED:20251001T202713Z
LAST-MODIFIED:20251001T202713Z
UID:40904-1773689400-1773694800@meditationinhamilton.org
SUMMARY:General Program Class
DESCRIPTION:
URL:https://meditationinhamilton.org/event/general-program-class-366/
CATEGORIES:General Program Meditation Class
END:VEVENT
BEGIN:VEVENT
DTSTART;TZID=America/Toronto:20260317T193000
DTEND;TZID=America/Toronto:20260317T210000
DTSTAMP:20260420T133752
CREATED:20251001T203632Z
LAST-MODIFIED:20251001T203632Z
UID:40918-1773775800-1773781200@meditationinhamilton.org
SUMMARY:General Program Class
DESCRIPTION:
URL:https://meditationinhamilton.org/event/general-program-class-373/
CATEGORIES:General Program Meditation Class
END:VEVENT
BEGIN:VEVENT
DTSTART;TZID=America/Toronto:20260318T190000
DTEND;TZID=America/Toronto:20260318T220000
DTSTAMP:20260420T133752
CREATED:20251001T204913Z
LAST-MODIFIED:20251001T204913Z
UID:40938-1773860400-1773871200@meditationinhamilton.org
SUMMARY:Foundation Program
DESCRIPTION:
URL:https://meditationinhamilton.org/event/foundation-program-212/
CATEGORIES:Foundation Program
END:VEVENT
BEGIN:VEVENT
DTSTART;TZID=America/Toronto:20260319T193000
DTEND;TZID=America/Toronto:20260319T201500
DTSTAMP:20260420T133752
CREATED:20251001T211708Z
LAST-MODIFIED:20251001T211708Z
UID:40974-1773948600-1773951300@meditationinhamilton.org
SUMMARY:Peace of Mind
DESCRIPTION:
URL:https://meditationinhamilton.org/event/peace-of-mind-126/
CATEGORIES:General Program Meditation Class
END:VEVENT
BEGIN:VEVENT
DTSTART;TZID=America/Toronto:20260323T193000
DTEND;TZID=America/Toronto:20260323T210000
DTSTAMP:20260420T133752
CREATED:20251001T202819Z
LAST-MODIFIED:20251001T202819Z
UID:40906-1774294200-1774299600@meditationinhamilton.org
SUMMARY:General Program Class
DESCRIPTION:
URL:https://meditationinhamilton.org/event/general-program-class-367/
CATEGORIES:General Program Meditation Class
END:VEVENT
BEGIN:VEVENT
DTSTART;TZID=America/Toronto:20260324T193000
DTEND;TZID=America/Toronto:20260324T210000
DTSTAMP:20260420T133752
CREATED:20251001T203343Z
LAST-MODIFIED:20251001T203343Z
UID:40914-1774380600-1774386000@meditationinhamilton.org
SUMMARY:General Program Class
DESCRIPTION:
URL:https://meditationinhamilton.org/event/general-program-class-371/
CATEGORIES:General Program Meditation Class
END:VEVENT
BEGIN:VEVENT
DTSTART;TZID=America/Toronto:20260325T193000
DTEND;TZID=America/Toronto:20260325T213000
DTSTAMP:20260420T133752
CREATED:20251001T205836Z
LAST-MODIFIED:20251001T205836Z
UID:40952-1774467000-1774474200@meditationinhamilton.org
SUMMARY:Offering to the Spiritual Guide
DESCRIPTION:
URL:https://meditationinhamilton.org/event/offering-to-the-spiritual-guide-167/
CATEGORIES:Chanted Prayers
END:VEVENT
BEGIN:VEVENT
DTSTART;TZID=America/Toronto:20260326T193000
DTEND;TZID=America/Toronto:20260326T201500
DTSTAMP:20260420T133752
CREATED:20251001T211825Z
LAST-MODIFIED:20251001T211825Z
UID:40976-1774553400-1774556100@meditationinhamilton.org
SUMMARY:Peace of Mind
DESCRIPTION:
URL:https://meditationinhamilton.org/event/peace-of-mind-127/
CATEGORIES:General Program Meditation Class
END:VEVENT
BEGIN:VEVENT
DTSTART;TZID=America/Toronto:20260329T120000
DTEND;TZID=America/Toronto:20260329T150000
DTSTAMP:20260420T133752
CREATED:20251001T212205Z
LAST-MODIFIED:20251001T212205Z
UID:40980-1774785600-1774796400@meditationinhamilton.org
SUMMARY:Melodious Drum
DESCRIPTION:
URL:https://meditationinhamilton.org/event/melodious-drum-63/
CATEGORIES:Chanted Prayers
END:VEVENT
BEGIN:VEVENT
DTSTART;TZID=America/Toronto:20260330T193000
DTEND;TZID=America/Toronto:20260330T210000
DTSTAMP:20260420T133752
CREATED:20251001T202929Z
LAST-MODIFIED:20251001T202929Z
UID:40908-1774899000-1774904400@meditationinhamilton.org
SUMMARY:General Program Class
DESCRIPTION:
URL:https://meditationinhamilton.org/event/general-program-class-368/
CATEGORIES:General Program Meditation Class
END:VEVENT
BEGIN:VEVENT
DTSTART;TZID=America/Toronto:20260331T193000
DTEND;TZID=America/Toronto:20260331T210000
DTSTAMP:20260420T133752
CREATED:20251001T203237Z
LAST-MODIFIED:20251001T203237Z
UID:40912-1774985400-1774990800@meditationinhamilton.org
SUMMARY:General Program Class
DESCRIPTION:
URL:https://meditationinhamilton.org/event/general-program-class-370/
CATEGORIES:General Program Meditation Class
END:VEVENT
BEGIN:VEVENT
DTSTART;TZID=America/Toronto:20260401T190000
DTEND;TZID=America/Toronto:20260401T220000
DTSTAMP:20260420T133752
CREATED:20251001T205043Z
LAST-MODIFIED:20251001T205043Z
UID:40940-1775070000-1775080800@meditationinhamilton.org
SUMMARY:Foundation Program
DESCRIPTION:
URL:https://meditationinhamilton.org/event/foundation-program-213/
CATEGORIES:Foundation Program
END:VEVENT
BEGIN:VEVENT
DTSTART;TZID=America/Toronto:20260402T193000
DTEND;TZID=America/Toronto:20260402T201500
DTSTAMP:20260420T133752
CREATED:20251001T211939Z
LAST-MODIFIED:20251001T211939Z
UID:40978-1775158200-1775160900@meditationinhamilton.org
SUMMARY:Peace of Mind
DESCRIPTION:
URL:https://meditationinhamilton.org/event/peace-of-mind-128/
CATEGORIES:General Program Meditation Class
END:VEVENT
BEGIN:VEVENT
DTSTART;VALUE=DATE:20260403
DTEND;VALUE=DATE:20260406
DTSTAMP:20260420T133752
CREATED:20251211T191746Z
LAST-MODIFIED:20260118T024026Z
UID:41156-1775174400-1775433599@meditationinhamilton.org
SUMMARY:The Healing Power of Compassion Retreat
DESCRIPTION:Location: Five Oaks Retreat Centre –  Brantford\nPreregistration required
URL:https://meditationinhamilton.org/event/the-three-principal-aspects-of-the-path-retreat/
CATEGORIES:Meditation Retreat
END:VEVENT
BEGIN:VEVENT
DTSTART;TZID=America/Toronto:20260406T193000
DTEND;TZID=America/Toronto:20260406T210000
DTSTAMP:20260420T133752
CREATED:20251226T081920Z
LAST-MODIFIED:20251226T081920Z
UID:41227-1775503800-1775509200@meditationinhamilton.org
SUMMARY:General Program Class
DESCRIPTION:
URL:https://meditationinhamilton.org/event/general-program-class-358/
CATEGORIES:General Program Meditation Class
END:VEVENT
BEGIN:VEVENT
DTSTART;TZID=America/Toronto:20260407T193000
DTEND;TZID=America/Toronto:20260407T210000
DTSTAMP:20260420T133752
CREATED:20251226T082703Z
LAST-MODIFIED:20251226T082703Z
UID:41236-1775590200-1775595600@meditationinhamilton.org
SUMMARY:General Program Class
DESCRIPTION:
URL:https://meditationinhamilton.org/event/general-program-class-377/
CATEGORIES:General Program Meditation Class
END:VEVENT
BEGIN:VEVENT
DTSTART;TZID=America/Toronto:20260408T190000
DTEND;TZID=America/Toronto:20260408T220000
DTSTAMP:20260420T133752
CREATED:20251226T085711Z
LAST-MODIFIED:20251226T085711Z
UID:41278-1775674800-1775685600@meditationinhamilton.org
SUMMARY:Foundation Program
DESCRIPTION:
URL:https://meditationinhamilton.org/event/foundation-program-214/
CATEGORIES:Foundation Program
END:VEVENT
BEGIN:VEVENT
DTSTART;TZID=America/Toronto:20260409T193000
DTEND;TZID=America/Toronto:20260409T201500
DTSTAMP:20260420T133752
CREATED:20251226T163308Z
LAST-MODIFIED:20251226T163308Z
UID:41299-1775763000-1775765700@meditationinhamilton.org
SUMMARY:Peace of Mind
DESCRIPTION:
URL:https://meditationinhamilton.org/event/peace-of-mind-129/
CATEGORIES:General Program Meditation Class
END:VEVENT
BEGIN:VEVENT
DTSTART;TZID=America/Toronto:20260410T193000
DTEND;TZID=America/Toronto:20260410T213000
DTSTAMP:20260420T133752
CREATED:20251225T224200Z
LAST-MODIFIED:20251225T224200Z
UID:41173-1775849400-1775856600@meditationinhamilton.org
SUMMARY:Offering to The Spiritual Guide
DESCRIPTION:
URL:https://meditationinhamilton.org/event/offering-to-the-spiritual-guide-169/
CATEGORIES:Chanted Prayers
END:VEVENT
BEGIN:VEVENT
DTSTART;TZID=America/Toronto:20260413T193000
DTEND;TZID=America/Toronto:20260413T210000
DTSTAMP:20260420T133752
CREATED:20251226T082058Z
LAST-MODIFIED:20251226T082058Z
UID:41230-1776108600-1776114000@meditationinhamilton.org
SUMMARY:General Program Class
DESCRIPTION:
URL:https://meditationinhamilton.org/event/general-program-class-374/
CATEGORIES:General Program Meditation Class
END:VEVENT
BEGIN:VEVENT
DTSTART;TZID=America/Toronto:20260414T193000
DTEND;TZID=America/Toronto:20260414T210000
DTSTAMP:20260420T133752
CREATED:20251226T082813Z
LAST-MODIFIED:20251226T082813Z
UID:41238-1776195000-1776200400@meditationinhamilton.org
SUMMARY:General Program Class
DESCRIPTION:
URL:https://meditationinhamilton.org/event/general-program-class-378/
CATEGORIES:General Program Meditation Class
END:VEVENT
BEGIN:VEVENT
DTSTART;TZID=America/Toronto:20260415T190000
DTEND;TZID=America/Toronto:20260415T220000
DTSTAMP:20260420T133752
CREATED:20251226T085825Z
LAST-MODIFIED:20251226T085825Z
UID:41280-1776279600-1776290400@meditationinhamilton.org
SUMMARY:Foundation Program
DESCRIPTION:
URL:https://meditationinhamilton.org/event/foundation-program-215/
CATEGORIES:Foundation Program
END:VEVENT
BEGIN:VEVENT
DTSTART;TZID=America/Toronto:20260416T193000
DTEND;TZID=America/Toronto:20260416T201500
DTSTAMP:20260420T133752
CREATED:20251226T163438Z
LAST-MODIFIED:20251226T163438Z
UID:41301-1776367800-1776370500@meditationinhamilton.org
SUMMARY:Peace of Mind
DESCRIPTION:
URL:https://meditationinhamilton.org/event/peace-of-mind-130/
CATEGORIES:General Program Meditation Class
END:VEVENT
END:VCALENDAR