BEGIN:VCALENDAR
VERSION:2.0
PRODID:-//Samudra Kadampa Buddhist Centre - ECPv6.15.20//NONSGML v1.0//EN
CALSCALE:GREGORIAN
METHOD:PUBLISH
X-WR-CALNAME:Samudra Kadampa Buddhist Centre
X-ORIGINAL-URL:https://meditationinhamilton.org
X-WR-CALDESC:Events for Samudra Kadampa Buddhist Centre
REFRESH-INTERVAL;VALUE=DURATION:PT1H
X-Robots-Tag:noindex
X-PUBLISHED-TTL:PT1H
BEGIN:VTIMEZONE
TZID:America/Toronto
BEGIN:DAYLIGHT
TZOFFSETFROM:-0500
TZOFFSETTO:-0400
TZNAME:EDT
DTSTART:20210314T070000
END:DAYLIGHT
BEGIN:STANDARD
TZOFFSETFROM:-0400
TZOFFSETTO:-0500
TZNAME:EST
DTSTART:20211107T060000
END:STANDARD
BEGIN:DAYLIGHT
TZOFFSETFROM:-0500
TZOFFSETTO:-0400
TZNAME:EDT
DTSTART:20220313T070000
END:DAYLIGHT
BEGIN:STANDARD
TZOFFSETFROM:-0400
TZOFFSETTO:-0500
TZNAME:EST
DTSTART:20221106T060000
END:STANDARD
BEGIN:DAYLIGHT
TZOFFSETFROM:-0500
TZOFFSETTO:-0400
TZNAME:EDT
DTSTART:20230312T070000
END:DAYLIGHT
BEGIN:STANDARD
TZOFFSETFROM:-0400
TZOFFSETTO:-0500
TZNAME:EST
DTSTART:20231105T060000
END:STANDARD
END:VTIMEZONE
BEGIN:VEVENT
DTSTART;TZID=America/Toronto:20221225T193000
DTEND;TZID=America/Toronto:20221225T213000
DTSTAMP:20260424T110428
CREATED:20220316T115411Z
LAST-MODIFIED:20220316T115411Z
UID:36936-1671996600-1672003800@meditationinhamilton.org
SUMMARY:Offering to the Spiritual Guide
DESCRIPTION:
URL:https://meditationinhamilton.org/event/offering-to-the-spiritual-guide-88/
CATEGORIES:Chanted Prayers
END:VEVENT
BEGIN:VEVENT
DTSTART;TZID=America/Toronto:20221220T193000
DTEND;TZID=America/Toronto:20221220T210000
DTSTAMP:20260424T110428
CREATED:20220528T165621Z
LAST-MODIFIED:20220824T150222Z
UID:37178-1671564600-1671570000@meditationinhamilton.org
SUMMARY:General Program Class
DESCRIPTION:
URL:https://meditationinhamilton.org/event/general-program-class-51/
CATEGORIES:General Program Meditation Class
END:VEVENT
BEGIN:VEVENT
DTSTART;TZID=America/Toronto:20221219T193000
DTEND;TZID=America/Toronto:20221219T210000
DTSTAMP:20260424T110428
CREATED:20220824T145603Z
LAST-MODIFIED:20220824T145603Z
UID:37393-1671478200-1671483600@meditationinhamilton.org
SUMMARY:General Program Class
DESCRIPTION:
URL:https://meditationinhamilton.org/event/general-program-class-65/
CATEGORIES:General Program Meditation Class
END:VEVENT
BEGIN:VEVENT
DTSTART;TZID=America/Toronto:20221217T120000
DTEND;TZID=America/Toronto:20221217T150000
DTSTAMP:20260424T110428
CREATED:20221024T232431Z
LAST-MODIFIED:20221024T232431Z
UID:37775-1671278400-1671289200@meditationinhamilton.org
SUMMARY:Happy Holidays Fete
DESCRIPTION:
URL:https://meditationinhamilton.org/event/happy-holidays-fete-2/
END:VEVENT
BEGIN:VEVENT
DTSTART;TZID=America/Toronto:20221214T190000
DTEND;TZID=America/Toronto:20221214T220000
DTSTAMP:20260424T110428
CREATED:20220316T123051Z
LAST-MODIFIED:20220316T123051Z
UID:36976-1671044400-1671055200@meditationinhamilton.org
SUMMARY:Foundation Program
DESCRIPTION:
URL:https://meditationinhamilton.org/event/foundation-program-72/
CATEGORIES:Foundation Program
END:VEVENT
BEGIN:VEVENT
DTSTART;TZID=America/Toronto:20221213T193000
DTEND;TZID=America/Toronto:20221213T210000
DTSTAMP:20260424T110428
CREATED:20220528T165511Z
LAST-MODIFIED:20220824T150137Z
UID:37176-1670959800-1670965200@meditationinhamilton.org
SUMMARY:General Program Class
DESCRIPTION:
URL:https://meditationinhamilton.org/event/general-program-class-50/
CATEGORIES:General Program Meditation Class
END:VEVENT
BEGIN:VEVENT
DTSTART;TZID=America/Toronto:20221212T193000
DTEND;TZID=America/Toronto:20221212T210000
DTSTAMP:20260424T110428
CREATED:20220824T145446Z
LAST-MODIFIED:20220824T145446Z
UID:37391-1670873400-1670878800@meditationinhamilton.org
SUMMARY:General Program Class
DESCRIPTION:
URL:https://meditationinhamilton.org/event/general-program-class-64/
CATEGORIES:General Program Meditation Class
END:VEVENT
BEGIN:VEVENT
DTSTART;TZID=America/Toronto:20221210T120000
DTEND;TZID=America/Toronto:20221210T140000
DTSTAMP:20260424T110428
CREATED:20220316T115302Z
LAST-MODIFIED:20221024T232716Z
UID:36934-1670673600-1670680800@meditationinhamilton.org
SUMMARY:Offering to the Spiritual Guide
DESCRIPTION:
URL:https://meditationinhamilton.org/event/offering-to-the-spiritual-guide-87/
CATEGORIES:Chanted Prayers
END:VEVENT
BEGIN:VEVENT
DTSTART;TZID=America/Toronto:20221207T190000
DTEND;TZID=America/Toronto:20221207T220000
DTSTAMP:20260424T110428
CREATED:20220316T122956Z
LAST-MODIFIED:20220316T122956Z
UID:36974-1670439600-1670450400@meditationinhamilton.org
SUMMARY:Foundation Program
DESCRIPTION:
URL:https://meditationinhamilton.org/event/foundation-program-71/
CATEGORIES:Foundation Program
END:VEVENT
BEGIN:VEVENT
DTSTART;TZID=America/Toronto:20221206T193000
DTEND;TZID=America/Toronto:20221206T210000
DTSTAMP:20260424T110428
CREATED:20220528T165350Z
LAST-MODIFIED:20220824T150058Z
UID:37174-1670355000-1670360400@meditationinhamilton.org
SUMMARY:General Program Class
DESCRIPTION:
URL:https://meditationinhamilton.org/event/general-program-class-49/
CATEGORIES:General Program Meditation Class
END:VEVENT
BEGIN:VEVENT
DTSTART;TZID=America/Toronto:20221205T193000
DTEND;TZID=America/Toronto:20221205T210000
DTSTAMP:20260424T110428
CREATED:20220824T145327Z
LAST-MODIFIED:20220824T145327Z
UID:37389-1670268600-1670274000@meditationinhamilton.org
SUMMARY:General Program Class
DESCRIPTION:
URL:https://meditationinhamilton.org/event/general-program-class-63/
CATEGORIES:General Program Meditation Class
END:VEVENT
BEGIN:VEVENT
DTSTART;TZID=America/Toronto:20221203T093000
DTEND;TZID=America/Toronto:20221203T110000
DTSTAMP:20260424T110428
CREATED:20220805T191154Z
LAST-MODIFIED:20220805T191154Z
UID:37335-1670059800-1670065200@meditationinhamilton.org
SUMMARY:Centre Cherishing Day
DESCRIPTION:
URL:https://meditationinhamilton.org/event/centre-cherishing-day-5/
END:VEVENT
BEGIN:VEVENT
DTSTART;TZID=America/Toronto:20221130T190000
DTEND;TZID=America/Toronto:20221130T220000
DTSTAMP:20260424T110428
CREATED:20220316T122838Z
LAST-MODIFIED:20220316T122838Z
UID:36972-1669834800-1669845600@meditationinhamilton.org
SUMMARY:Foundation Program
DESCRIPTION:
URL:https://meditationinhamilton.org/event/foundation-program-70/
CATEGORIES:Foundation Program
END:VEVENT
BEGIN:VEVENT
DTSTART;TZID=America/Toronto:20221129T193000
DTEND;TZID=America/Toronto:20221129T210000
DTSTAMP:20260424T110428
CREATED:20220528T165211Z
LAST-MODIFIED:20220824T150016Z
UID:37172-1669750200-1669755600@meditationinhamilton.org
SUMMARY:General Program Class
DESCRIPTION:
URL:https://meditationinhamilton.org/event/general-program-class-48/
CATEGORIES:General Program Meditation Class
END:VEVENT
BEGIN:VEVENT
DTSTART;TZID=America/Toronto:20221129T120000
DTEND;TZID=America/Toronto:20221129T130000
DTSTAMP:20260424T110428
CREATED:20220316T115937Z
LAST-MODIFIED:20220316T115937Z
UID:36942-1669723200-1669726800@meditationinhamilton.org
SUMMARY:Wishfulfilling Jewel
DESCRIPTION:
URL:https://meditationinhamilton.org/event/wishfulfilling-jewel-4/
CATEGORIES:Chanted Prayers
END:VEVENT
BEGIN:VEVENT
DTSTART;TZID=America/Toronto:20221128T193000
DTEND;TZID=America/Toronto:20221128T210000
DTSTAMP:20260424T110428
CREATED:20220824T142826Z
LAST-MODIFIED:20220824T142826Z
UID:37386-1669663800-1669669200@meditationinhamilton.org
SUMMARY:General Program Class
DESCRIPTION:
URL:https://meditationinhamilton.org/event/general-program-class-62/
CATEGORIES:General Program Meditation Class
END:VEVENT
BEGIN:VEVENT
DTSTART;TZID=America/Toronto:20221125T120000
DTEND;TZID=America/Toronto:20221125T140000
DTSTAMP:20260424T110428
CREATED:20220316T115146Z
LAST-MODIFIED:20220511T125601Z
UID:36932-1669377600-1669384800@meditationinhamilton.org
SUMMARY:Offering to the Spiritual Guide
DESCRIPTION:
URL:https://meditationinhamilton.org/event/offering-to-the-spiritual-guide-86/
CATEGORIES:Chanted Prayers
END:VEVENT
BEGIN:VEVENT
DTSTART;VALUE=DATE:20221125
DTEND;VALUE=DATE:20221128
DTSTAMP:20260424T110428
CREATED:20220305T175935Z
LAST-MODIFIED:20220511T125313Z
UID:36841-1669334400-1669593599@meditationinhamilton.org
SUMMARY:Ontario Dharma Celebration
DESCRIPTION:
URL:https://meditationinhamilton.org/event/ontario-dharma-celebration-3/
LOCATION:Kadampa Meditation Centre Canada\, 631 Crawford St\, Toronto\, Ontario\, M6G 3K1
END:VEVENT
BEGIN:VEVENT
DTSTART;VALUE=DATE:20221123
DTEND;VALUE=DATE:20221124
DTSTAMP:20260424T110428
CREATED:20220316T122725Z
LAST-MODIFIED:20221123T152408Z
UID:36970-1669161600-1669247999@meditationinhamilton.org
SUMMARY:Public Talk with Gen Thekchen
DESCRIPTION:https://meditationinhamilton.org/special-events-2/
URL:https://meditationinhamilton.org/event/foundation-program-69/
END:VEVENT
BEGIN:VEVENT
DTSTART;TZID=America/Toronto:20221122T193000
DTEND;TZID=America/Toronto:20221122T210000
DTSTAMP:20260424T110428
CREATED:20220528T165057Z
LAST-MODIFIED:20220824T145933Z
UID:37170-1669145400-1669150800@meditationinhamilton.org
SUMMARY:General Program Class
DESCRIPTION:
URL:https://meditationinhamilton.org/event/general-program-class-47/
CATEGORIES:General Program Meditation Class
END:VEVENT
BEGIN:VEVENT
DTSTART;TZID=America/Toronto:20221121T193000
DTEND;TZID=America/Toronto:20221121T210000
DTSTAMP:20260424T110428
CREATED:20220824T142704Z
LAST-MODIFIED:20220824T142704Z
UID:37384-1669059000-1669064400@meditationinhamilton.org
SUMMARY:General Program Class
DESCRIPTION:
URL:https://meditationinhamilton.org/event/general-program-class-61/
CATEGORIES:General Program Meditation Class
END:VEVENT
BEGIN:VEVENT
DTSTART;TZID=America/Toronto:20221119T100000
DTEND;TZID=America/Toronto:20221119T163000
DTSTAMP:20260424T110428
CREATED:20220608T105714Z
LAST-MODIFIED:20220608T110650Z
UID:37195-1668852000-1668875400@meditationinhamilton.org
SUMMARY:Mirror of Dharma Retreat Pt 3
DESCRIPTION:
URL:https://meditationinhamilton.org/event/mirror-of-dharma-day-retreat-pt-3/
CATEGORIES:Meditation Retreat
END:VEVENT
BEGIN:VEVENT
DTSTART;TZID=America/Toronto:20221116T190000
DTEND;TZID=America/Toronto:20221116T220000
DTSTAMP:20260424T110428
CREATED:20220316T122545Z
LAST-MODIFIED:20220316T122545Z
UID:36968-1668625200-1668636000@meditationinhamilton.org
SUMMARY:Foundation Program
DESCRIPTION:
URL:https://meditationinhamilton.org/event/foundation-program-68/
CATEGORIES:Foundation Program
END:VEVENT
BEGIN:VEVENT
DTSTART;TZID=America/Toronto:20221115T193000
DTEND;TZID=America/Toronto:20221115T210000
DTSTAMP:20260424T110428
CREATED:20220528T164935Z
LAST-MODIFIED:20220824T145858Z
UID:37168-1668540600-1668546000@meditationinhamilton.org
SUMMARY:General Program Class
DESCRIPTION:
URL:https://meditationinhamilton.org/event/general-program-class-46/
CATEGORIES:General Program Meditation Class
END:VEVENT
BEGIN:VEVENT
DTSTART;TZID=America/Toronto:20221114T193000
DTEND;TZID=America/Toronto:20221114T210000
DTSTAMP:20260424T110428
CREATED:20220824T142553Z
LAST-MODIFIED:20220824T142553Z
UID:37382-1668454200-1668459600@meditationinhamilton.org
SUMMARY:General Program Class
DESCRIPTION:
URL:https://meditationinhamilton.org/event/general-program-class-60/
CATEGORIES:General Program Meditation Class
END:VEVENT
BEGIN:VEVENT
DTSTART;TZID=America/Toronto:20221112T093000
DTEND;TZID=America/Toronto:20221112T110000
DTSTAMP:20260424T110428
CREATED:20220805T191056Z
LAST-MODIFIED:20220805T191056Z
UID:37333-1668245400-1668250800@meditationinhamilton.org
SUMMARY:Centre Cherishing Day
DESCRIPTION:
URL:https://meditationinhamilton.org/event/centre-cherishing-day-4/
END:VEVENT
BEGIN:VEVENT
DTSTART;TZID=America/Toronto:20221110T193000
DTEND;TZID=America/Toronto:20221110T213000
DTSTAMP:20260424T110428
CREATED:20220316T115047Z
LAST-MODIFIED:20220820T230448Z
UID:36930-1668108600-1668115800@meditationinhamilton.org
SUMMARY:Offering to the Spiritual Guide
DESCRIPTION:
URL:https://meditationinhamilton.org/event/offering-to-the-spiritual-guide-85/
CATEGORIES:Chanted Prayers
END:VEVENT
BEGIN:VEVENT
DTSTART;TZID=America/Toronto:20221109T190000
DTEND;TZID=America/Toronto:20221109T220000
DTSTAMP:20260424T110428
CREATED:20220316T122444Z
LAST-MODIFIED:20220316T122444Z
UID:36966-1668020400-1668031200@meditationinhamilton.org
SUMMARY:Foundation Program
DESCRIPTION:
URL:https://meditationinhamilton.org/event/foundation-program-67/
CATEGORIES:Foundation Program
END:VEVENT
BEGIN:VEVENT
DTSTART;TZID=America/Toronto:20221108T193000
DTEND;TZID=America/Toronto:20221108T210000
DTSTAMP:20260424T110428
CREATED:20220528T164810Z
LAST-MODIFIED:20220824T145813Z
UID:37166-1667935800-1667941200@meditationinhamilton.org
SUMMARY:General Program Class
DESCRIPTION:
URL:https://meditationinhamilton.org/event/general-program-class-45/
CATEGORIES:General Program Meditation Class
END:VEVENT
BEGIN:VEVENT
DTSTART;TZID=America/Toronto:20221107T193000
DTEND;TZID=America/Toronto:20221107T210000
DTSTAMP:20260424T110428
CREATED:20220824T142329Z
LAST-MODIFIED:20220824T142329Z
UID:37380-1667849400-1667854800@meditationinhamilton.org
SUMMARY:General Program Class
DESCRIPTION:
URL:https://meditationinhamilton.org/event/general-program-class-59/
CATEGORIES:General Program Meditation Class
END:VEVENT
END:VCALENDAR