BEGIN:VCALENDAR
VERSION:2.0
PRODID:-//Samudra Kadampa Buddhist Centre - ECPv6.15.20//NONSGML v1.0//EN
CALSCALE:GREGORIAN
METHOD:PUBLISH
X-WR-CALNAME:Samudra Kadampa Buddhist Centre
X-ORIGINAL-URL:https://meditationinhamilton.org
X-WR-CALDESC:Events for Samudra Kadampa Buddhist Centre
REFRESH-INTERVAL;VALUE=DURATION:PT1H
X-Robots-Tag:noindex
X-PUBLISHED-TTL:PT1H
BEGIN:VTIMEZONE
TZID:America/Toronto
BEGIN:DAYLIGHT
TZOFFSETFROM:-0500
TZOFFSETTO:-0400
TZNAME:EDT
DTSTART:20210314T070000
END:DAYLIGHT
BEGIN:STANDARD
TZOFFSETFROM:-0400
TZOFFSETTO:-0500
TZNAME:EST
DTSTART:20211107T060000
END:STANDARD
BEGIN:DAYLIGHT
TZOFFSETFROM:-0500
TZOFFSETTO:-0400
TZNAME:EDT
DTSTART:20220313T070000
END:DAYLIGHT
BEGIN:STANDARD
TZOFFSETFROM:-0400
TZOFFSETTO:-0500
TZNAME:EST
DTSTART:20221106T060000
END:STANDARD
BEGIN:DAYLIGHT
TZOFFSETFROM:-0500
TZOFFSETTO:-0400
TZNAME:EDT
DTSTART:20230312T070000
END:DAYLIGHT
BEGIN:STANDARD
TZOFFSETFROM:-0400
TZOFFSETTO:-0500
TZNAME:EST
DTSTART:20231105T060000
END:STANDARD
END:VTIMEZONE
BEGIN:VEVENT
DTSTART;TZID=America/Toronto:20220627T193000
DTEND;TZID=America/Toronto:20220627T204000
DTSTAMP:20260425T092843
CREATED:20220528T155750Z
LAST-MODIFIED:20220528T155750Z
UID:37110-1656358200-1656362400@meditationinhamilton.org
SUMMARY:General Program Class
DESCRIPTION:
URL:https://meditationinhamilton.org/event/general-program-class-17/
CATEGORIES:General Program Meditation Class
END:VEVENT
BEGIN:VEVENT
DTSTART;TZID=America/Toronto:20220625T190000
DTEND;TZID=America/Toronto:20220625T210000
DTSTAMP:20260425T092843
CREATED:20211030T191211Z
LAST-MODIFIED:20211030T191211Z
UID:36471-1656183600-1656190800@meditationinhamilton.org
SUMMARY:Offering to the Spiritual Guide
DESCRIPTION:
URL:https://meditationinhamilton.org/event/offering-to-the-spiritual-guide-75/
CATEGORIES:Chanted Prayers
END:VEVENT
BEGIN:VEVENT
DTSTART;TZID=America/Toronto:20220622T190000
DTEND;TZID=America/Toronto:20220622T220000
DTSTAMP:20260425T092843
CREATED:20220316T113413Z
LAST-MODIFIED:20220316T113413Z
UID:36912-1655924400-1655935200@meditationinhamilton.org
SUMMARY:Foundation Program End of Term
DESCRIPTION:
URL:https://meditationinhamilton.org/event/foundation-program-end-of-term-4/
CATEGORIES:Foundation Program
END:VEVENT
BEGIN:VEVENT
DTSTART;TZID=America/Toronto:20220621T193000
DTEND;TZID=America/Toronto:20220621T204000
DTSTAMP:20260425T092843
CREATED:20220305T143232Z
LAST-MODIFIED:20220305T181434Z
UID:36817-1655839800-1655844000@meditationinhamilton.org
SUMMARY:General Program Class
DESCRIPTION:
URL:https://meditationinhamilton.org/event/general-program-class-14/
CATEGORIES:General Program Meditation Class
END:VEVENT
BEGIN:VEVENT
DTSTART;TZID=America/Toronto:20220620T193000
DTEND;TZID=America/Toronto:20220620T204000
DTSTAMP:20260425T092843
CREATED:20220305T190853Z
LAST-MODIFIED:20220305T190853Z
UID:36846-1655753400-1655757600@meditationinhamilton.org
SUMMARY:General Program Class
DESCRIPTION:
URL:https://meditationinhamilton.org/event/general-program-class-16/
CATEGORIES:General Program Meditation Class
END:VEVENT
BEGIN:VEVENT
DTSTART;TZID=America/Toronto:20220615T190000
DTEND;TZID=America/Toronto:20220615T220000
DTSTAMP:20260425T092843
CREATED:20220316T113135Z
LAST-MODIFIED:20220316T113135Z
UID:36910-1655319600-1655330400@meditationinhamilton.org
SUMMARY:Foundation Program
DESCRIPTION:
URL:https://meditationinhamilton.org/event/foundation-program-60/
CATEGORIES:Foundation Program
END:VEVENT
BEGIN:VEVENT
DTSTART;TZID=America/Toronto:20220614T193000
DTEND;TZID=America/Toronto:20220614T204000
DTSTAMP:20260425T092843
CREATED:20220305T143129Z
LAST-MODIFIED:20220305T181515Z
UID:36815-1655235000-1655239200@meditationinhamilton.org
SUMMARY:General Program Class
DESCRIPTION:
URL:https://meditationinhamilton.org/event/general-program-class-13/
CATEGORIES:General Program Meditation Class
END:VEVENT
BEGIN:VEVENT
DTSTART;TZID=America/Toronto:20220613T193000
DTEND;TZID=America/Toronto:20220613T204000
DTSTAMP:20260425T092843
CREATED:20220305T141201Z
LAST-MODIFIED:20220305T181617Z
UID:36792-1655148600-1655152800@meditationinhamilton.org
SUMMARY:General Program Class
DESCRIPTION:
URL:https://meditationinhamilton.org/event/general-program-class-6/
CATEGORIES:General Program Meditation Class
END:VEVENT
BEGIN:VEVENT
DTSTART;TZID=America/Toronto:20220610T120000
DTEND;TZID=America/Toronto:20220610T140000
DTSTAMP:20260425T092843
CREATED:20211030T191109Z
LAST-MODIFIED:20211030T191542Z
UID:36469-1654862400-1654869600@meditationinhamilton.org
SUMMARY:Offering to the Spiritual Guide
DESCRIPTION:
URL:https://meditationinhamilton.org/event/offering-to-the-spiritual-guide-72/
CATEGORIES:Chanted Prayers
END:VEVENT
BEGIN:VEVENT
DTSTART;VALUE=DATE:20220610
DTEND;VALUE=DATE:20220617
DTSTAMP:20260425T092843
CREATED:20211015T153216Z
LAST-MODIFIED:20211101T175148Z
UID:36368-1654819200-1655423999@meditationinhamilton.org
SUMMARY:NKT Spring Festival
DESCRIPTION:This year the Spring Festival will be held in Malaga Spain\, to celebrate the opening of a new Kadampa Temple.
URL:https://meditationinhamilton.org/event/nkt-spring-festival-4/
END:VEVENT
BEGIN:VEVENT
DTSTART;TZID=America/Toronto:20220608T190000
DTEND;TZID=America/Toronto:20220608T220000
DTSTAMP:20260425T092843
CREATED:20220316T113037Z
LAST-MODIFIED:20220316T113037Z
UID:36908-1654714800-1654725600@meditationinhamilton.org
SUMMARY:Foundation Program
DESCRIPTION:
URL:https://meditationinhamilton.org/event/foundation-program-59/
CATEGORIES:Foundation Program
END:VEVENT
BEGIN:VEVENT
DTSTART;TZID=America/Toronto:20220607T193000
DTEND;TZID=America/Toronto:20220607T204000
DTSTAMP:20260425T092843
CREATED:20220305T143027Z
LAST-MODIFIED:20220305T181715Z
UID:36813-1654630200-1654634400@meditationinhamilton.org
SUMMARY:General Program Class
DESCRIPTION:
URL:https://meditationinhamilton.org/event/general-program-class-12/
CATEGORIES:General Program Meditation Class
END:VEVENT
BEGIN:VEVENT
DTSTART;TZID=America/Toronto:20220606T193000
DTEND;TZID=America/Toronto:20220606T204000
DTSTAMP:20260425T092843
CREATED:20220305T140941Z
LAST-MODIFIED:20220305T181804Z
UID:36790-1654543800-1654548000@meditationinhamilton.org
SUMMARY:General Program Class
DESCRIPTION:
URL:https://meditationinhamilton.org/event/general-program-class-5/
CATEGORIES:General Program Meditation Class
END:VEVENT
BEGIN:VEVENT
DTSTART;TZID=America/Toronto:20220604T190000
DTEND;TZID=America/Toronto:20220604T210000
DTSTAMP:20260425T092843
CREATED:20220219T210320Z
LAST-MODIFIED:20220219T210320Z
UID:36740-1654369200-1654376400@meditationinhamilton.org
SUMMARY:Geshe Kelsang Gyatso's Birthday
DESCRIPTION:
URL:https://meditationinhamilton.org/event/geshe-kelsang-gyatsos-birthday/
CATEGORIES:Chanted Prayers
END:VEVENT
BEGIN:VEVENT
DTSTART;TZID=America/Toronto:20220601T190000
DTEND;TZID=America/Toronto:20220601T220000
DTSTAMP:20260425T092843
CREATED:20220316T112845Z
LAST-MODIFIED:20220316T112845Z
UID:36904-1654110000-1654120800@meditationinhamilton.org
SUMMARY:Foundation Program
DESCRIPTION:
URL:https://meditationinhamilton.org/event/foundation-program-57/
CATEGORIES:Foundation Program
END:VEVENT
BEGIN:VEVENT
DTSTART;TZID=America/Toronto:20220531T193000
DTEND;TZID=America/Toronto:20220531T204000
DTSTAMP:20260425T092843
CREATED:20220305T142754Z
LAST-MODIFIED:20220305T181853Z
UID:36809-1654025400-1654029600@meditationinhamilton.org
SUMMARY:General Program Class
DESCRIPTION:
URL:https://meditationinhamilton.org/event/general-program-class-10/
CATEGORIES:General Program Meditation Class
END:VEVENT
BEGIN:VEVENT
DTSTART;TZID=America/Toronto:20220530T193000
DTEND;TZID=America/Toronto:20220530T204000
DTSTAMP:20260425T092843
CREATED:20220305T135935Z
LAST-MODIFIED:20220305T181948Z
UID:36788-1653939000-1653943200@meditationinhamilton.org
SUMMARY:General Program Class
DESCRIPTION:
URL:https://meditationinhamilton.org/event/general-program-class-4/
CATEGORIES:General Program Meditation Class
END:VEVENT
BEGIN:VEVENT
DTSTART;TZID=America/Toronto:20220529T100000
DTEND;TZID=America/Toronto:20220529T130000
DTSTAMP:20260425T092843
CREATED:20211030T193737Z
LAST-MODIFIED:20211030T193737Z
UID:36483-1653818400-1653829200@meditationinhamilton.org
SUMMARY:Melodious Drum
DESCRIPTION:
URL:https://meditationinhamilton.org/event/melodious-drum-22/
CATEGORIES:Chanted Prayers
END:VEVENT
BEGIN:VEVENT
DTSTART;TZID=America/Toronto:20220525T190000
DTEND;TZID=America/Toronto:20220525T210000
DTSTAMP:20260425T092843
CREATED:20211030T190914Z
LAST-MODIFIED:20211030T190914Z
UID:36467-1653505200-1653512400@meditationinhamilton.org
SUMMARY:Offering to the Spiritual Guide
DESCRIPTION:
URL:https://meditationinhamilton.org/event/offering-to-the-spiritual-guide-52/
CATEGORIES:Chanted Prayers
END:VEVENT
BEGIN:VEVENT
DTSTART;TZID=America/Toronto:20220524T193000
DTEND;TZID=America/Toronto:20220524T204000
DTSTAMP:20260425T092843
CREATED:20220305T142908Z
LAST-MODIFIED:20220305T182054Z
UID:36811-1653420600-1653424800@meditationinhamilton.org
SUMMARY:General Program Class
DESCRIPTION:
URL:https://meditationinhamilton.org/event/general-program-class-11/
CATEGORIES:General Program Meditation Class
END:VEVENT
BEGIN:VEVENT
DTSTART;TZID=America/Toronto:20220518T190000
DTEND;TZID=America/Toronto:20220518T220000
DTSTAMP:20260425T092843
CREATED:20220316T112702Z
LAST-MODIFIED:20220316T112702Z
UID:36902-1652900400-1652911200@meditationinhamilton.org
SUMMARY:Foundation Program
DESCRIPTION:
URL:https://meditationinhamilton.org/event/foundation-program-56/
CATEGORIES:Foundation Program
END:VEVENT
BEGIN:VEVENT
DTSTART;TZID=America/Toronto:20220517T193000
DTEND;TZID=America/Toronto:20220517T204000
DTSTAMP:20260425T092843
CREATED:20220305T142642Z
LAST-MODIFIED:20220305T182147Z
UID:36807-1652815800-1652820000@meditationinhamilton.org
SUMMARY:General Program Class
DESCRIPTION:
URL:https://meditationinhamilton.org/event/general-program-class-9/
CATEGORIES:General Program Meditation Class
END:VEVENT
BEGIN:VEVENT
DTSTART;TZID=America/Toronto:20220516T193000
DTEND;TZID=America/Toronto:20220516T204000
DTSTAMP:20260425T092843
CREATED:20220305T135835Z
LAST-MODIFIED:20220305T182228Z
UID:36786-1652729400-1652733600@meditationinhamilton.org
SUMMARY:General Program Class
DESCRIPTION:
URL:https://meditationinhamilton.org/event/general-program-class-3/
CATEGORIES:General Program Meditation Class
END:VEVENT
BEGIN:VEVENT
DTSTART;VALUE=DATE:20220513
DTEND;VALUE=DATE:20220518
DTSTAMP:20260425T092843
CREATED:20211101T174205Z
LAST-MODIFIED:20211101T174205Z
UID:36529-1652400000-1652831999@meditationinhamilton.org
SUMMARY:Canadian Dharma Festival
DESCRIPTION:This year the Festival will be held at Five Oaks Retreat Centre near Brantford ON.
URL:https://meditationinhamilton.org/event/canadian-dharma-festival/
END:VEVENT
BEGIN:VEVENT
DTSTART;TZID=America/Toronto:20220511T190000
DTEND;TZID=America/Toronto:20220511T220000
DTSTAMP:20260425T092843
CREATED:20220316T112602Z
LAST-MODIFIED:20220316T112602Z
UID:36900-1652295600-1652306400@meditationinhamilton.org
SUMMARY:Foundation Program
DESCRIPTION:
URL:https://meditationinhamilton.org/event/foundation-program-55/
CATEGORIES:Foundation Program
END:VEVENT
BEGIN:VEVENT
DTSTART;TZID=America/Toronto:20220510T193000
DTEND;TZID=America/Toronto:20220510T204000
DTSTAMP:20260425T092843
CREATED:20220305T142508Z
LAST-MODIFIED:20220305T182325Z
UID:36805-1652211000-1652215200@meditationinhamilton.org
SUMMARY:General Program Class
DESCRIPTION:
URL:https://meditationinhamilton.org/event/general-program-class-8/
CATEGORIES:General Program Meditation Class
END:VEVENT
BEGIN:VEVENT
DTSTART;TZID=America/Toronto:20220510T120000
DTEND;TZID=America/Toronto:20220510T140000
DTSTAMP:20260425T092843
CREATED:20211030T190806Z
LAST-MODIFIED:20211030T190806Z
UID:36465-1652184000-1652191200@meditationinhamilton.org
SUMMARY:Offering to the Spiritual Guide
DESCRIPTION:
URL:https://meditationinhamilton.org/event/offering-to-the-spiritual-guide-51/
CATEGORIES:Chanted Prayers
END:VEVENT
BEGIN:VEVENT
DTSTART;TZID=America/Toronto:20220509T193000
DTEND;TZID=America/Toronto:20220509T204000
DTSTAMP:20260425T092843
CREATED:20220305T135740Z
LAST-MODIFIED:20220305T182409Z
UID:36784-1652124600-1652128800@meditationinhamilton.org
SUMMARY:General Program Class
DESCRIPTION:
URL:https://meditationinhamilton.org/event/general-program-class-2/
CATEGORIES:General Program Meditation Class
END:VEVENT
BEGIN:VEVENT
DTSTART;TZID=America/Toronto:20220504T190000
DTEND;TZID=America/Toronto:20220504T220000
DTSTAMP:20260425T092843
CREATED:20220316T112506Z
LAST-MODIFIED:20220316T112506Z
UID:36898-1651690800-1651701600@meditationinhamilton.org
SUMMARY:Foundation Program
DESCRIPTION:
URL:https://meditationinhamilton.org/event/foundation-program-54/
CATEGORIES:Foundation Program
END:VEVENT
BEGIN:VEVENT
DTSTART;TZID=America/Toronto:20220503T193000
DTEND;TZID=America/Toronto:20220503T204000
DTSTAMP:20260425T092843
CREATED:20220305T142341Z
LAST-MODIFIED:20220305T182505Z
UID:36803-1651606200-1651610400@meditationinhamilton.org
SUMMARY:General Program Class
DESCRIPTION:
URL:https://meditationinhamilton.org/event/general-program-class-7/
CATEGORIES:General Program Meditation Class
END:VEVENT
END:VCALENDAR