BEGIN:VCALENDAR
VERSION:2.0
PRODID:-//Samudra Kadampa Buddhist Centre - ECPv6.15.20//NONSGML v1.0//EN
CALSCALE:GREGORIAN
METHOD:PUBLISH
X-WR-CALNAME:Samudra Kadampa Buddhist Centre
X-ORIGINAL-URL:https://meditationinhamilton.org
X-WR-CALDESC:Events for Samudra Kadampa Buddhist Centre
REFRESH-INTERVAL;VALUE=DURATION:PT1H
X-Robots-Tag:noindex
X-PUBLISHED-TTL:PT1H
BEGIN:VTIMEZONE
TZID:America/Toronto
BEGIN:DAYLIGHT
TZOFFSETFROM:-0500
TZOFFSETTO:-0400
TZNAME:EDT
DTSTART:20210314T070000
END:DAYLIGHT
BEGIN:STANDARD
TZOFFSETFROM:-0400
TZOFFSETTO:-0500
TZNAME:EST
DTSTART:20211107T060000
END:STANDARD
BEGIN:DAYLIGHT
TZOFFSETFROM:-0500
TZOFFSETTO:-0400
TZNAME:EDT
DTSTART:20220313T070000
END:DAYLIGHT
BEGIN:STANDARD
TZOFFSETFROM:-0400
TZOFFSETTO:-0500
TZNAME:EST
DTSTART:20221106T060000
END:STANDARD
BEGIN:DAYLIGHT
TZOFFSETFROM:-0500
TZOFFSETTO:-0400
TZNAME:EDT
DTSTART:20230312T070000
END:DAYLIGHT
BEGIN:STANDARD
TZOFFSETFROM:-0400
TZOFFSETTO:-0500
TZNAME:EST
DTSTART:20231105T060000
END:STANDARD
END:VTIMEZONE
BEGIN:VEVENT
DTSTART;TZID=America/Toronto:20220530T193000
DTEND;TZID=America/Toronto:20220530T204000
DTSTAMP:20260425T090715
CREATED:20220305T135935Z
LAST-MODIFIED:20220305T181948Z
UID:36788-1653939000-1653943200@meditationinhamilton.org
SUMMARY:General Program Class
DESCRIPTION:
URL:https://meditationinhamilton.org/event/general-program-class-4/
CATEGORIES:General Program Meditation Class
END:VEVENT
BEGIN:VEVENT
DTSTART;TZID=America/Toronto:20220529T100000
DTEND;TZID=America/Toronto:20220529T130000
DTSTAMP:20260425T090715
CREATED:20211030T193737Z
LAST-MODIFIED:20211030T193737Z
UID:36483-1653818400-1653829200@meditationinhamilton.org
SUMMARY:Melodious Drum
DESCRIPTION:
URL:https://meditationinhamilton.org/event/melodious-drum-22/
CATEGORIES:Chanted Prayers
END:VEVENT
BEGIN:VEVENT
DTSTART;TZID=America/Toronto:20220525T190000
DTEND;TZID=America/Toronto:20220525T210000
DTSTAMP:20260425T090715
CREATED:20211030T190914Z
LAST-MODIFIED:20211030T190914Z
UID:36467-1653505200-1653512400@meditationinhamilton.org
SUMMARY:Offering to the Spiritual Guide
DESCRIPTION:
URL:https://meditationinhamilton.org/event/offering-to-the-spiritual-guide-52/
CATEGORIES:Chanted Prayers
END:VEVENT
BEGIN:VEVENT
DTSTART;TZID=America/Toronto:20220524T193000
DTEND;TZID=America/Toronto:20220524T204000
DTSTAMP:20260425T090715
CREATED:20220305T142908Z
LAST-MODIFIED:20220305T182054Z
UID:36811-1653420600-1653424800@meditationinhamilton.org
SUMMARY:General Program Class
DESCRIPTION:
URL:https://meditationinhamilton.org/event/general-program-class-11/
CATEGORIES:General Program Meditation Class
END:VEVENT
BEGIN:VEVENT
DTSTART;TZID=America/Toronto:20220518T190000
DTEND;TZID=America/Toronto:20220518T220000
DTSTAMP:20260425T090715
CREATED:20220316T112702Z
LAST-MODIFIED:20220316T112702Z
UID:36902-1652900400-1652911200@meditationinhamilton.org
SUMMARY:Foundation Program
DESCRIPTION:
URL:https://meditationinhamilton.org/event/foundation-program-56/
CATEGORIES:Foundation Program
END:VEVENT
BEGIN:VEVENT
DTSTART;TZID=America/Toronto:20220517T193000
DTEND;TZID=America/Toronto:20220517T204000
DTSTAMP:20260425T090715
CREATED:20220305T142642Z
LAST-MODIFIED:20220305T182147Z
UID:36807-1652815800-1652820000@meditationinhamilton.org
SUMMARY:General Program Class
DESCRIPTION:
URL:https://meditationinhamilton.org/event/general-program-class-9/
CATEGORIES:General Program Meditation Class
END:VEVENT
BEGIN:VEVENT
DTSTART;TZID=America/Toronto:20220516T193000
DTEND;TZID=America/Toronto:20220516T204000
DTSTAMP:20260425T090715
CREATED:20220305T135835Z
LAST-MODIFIED:20220305T182228Z
UID:36786-1652729400-1652733600@meditationinhamilton.org
SUMMARY:General Program Class
DESCRIPTION:
URL:https://meditationinhamilton.org/event/general-program-class-3/
CATEGORIES:General Program Meditation Class
END:VEVENT
BEGIN:VEVENT
DTSTART;VALUE=DATE:20220513
DTEND;VALUE=DATE:20220518
DTSTAMP:20260425T090715
CREATED:20211101T174205Z
LAST-MODIFIED:20211101T174205Z
UID:36529-1652400000-1652831999@meditationinhamilton.org
SUMMARY:Canadian Dharma Festival
DESCRIPTION:This year the Festival will be held at Five Oaks Retreat Centre near Brantford ON.
URL:https://meditationinhamilton.org/event/canadian-dharma-festival/
END:VEVENT
BEGIN:VEVENT
DTSTART;TZID=America/Toronto:20220511T190000
DTEND;TZID=America/Toronto:20220511T220000
DTSTAMP:20260425T090715
CREATED:20220316T112602Z
LAST-MODIFIED:20220316T112602Z
UID:36900-1652295600-1652306400@meditationinhamilton.org
SUMMARY:Foundation Program
DESCRIPTION:
URL:https://meditationinhamilton.org/event/foundation-program-55/
CATEGORIES:Foundation Program
END:VEVENT
BEGIN:VEVENT
DTSTART;TZID=America/Toronto:20220510T193000
DTEND;TZID=America/Toronto:20220510T204000
DTSTAMP:20260425T090715
CREATED:20220305T142508Z
LAST-MODIFIED:20220305T182325Z
UID:36805-1652211000-1652215200@meditationinhamilton.org
SUMMARY:General Program Class
DESCRIPTION:
URL:https://meditationinhamilton.org/event/general-program-class-8/
CATEGORIES:General Program Meditation Class
END:VEVENT
BEGIN:VEVENT
DTSTART;TZID=America/Toronto:20220510T120000
DTEND;TZID=America/Toronto:20220510T140000
DTSTAMP:20260425T090715
CREATED:20211030T190806Z
LAST-MODIFIED:20211030T190806Z
UID:36465-1652184000-1652191200@meditationinhamilton.org
SUMMARY:Offering to the Spiritual Guide
DESCRIPTION:
URL:https://meditationinhamilton.org/event/offering-to-the-spiritual-guide-51/
CATEGORIES:Chanted Prayers
END:VEVENT
BEGIN:VEVENT
DTSTART;TZID=America/Toronto:20220509T193000
DTEND;TZID=America/Toronto:20220509T204000
DTSTAMP:20260425T090715
CREATED:20220305T135740Z
LAST-MODIFIED:20220305T182409Z
UID:36784-1652124600-1652128800@meditationinhamilton.org
SUMMARY:General Program Class
DESCRIPTION:
URL:https://meditationinhamilton.org/event/general-program-class-2/
CATEGORIES:General Program Meditation Class
END:VEVENT
BEGIN:VEVENT
DTSTART;TZID=America/Toronto:20220504T190000
DTEND;TZID=America/Toronto:20220504T220000
DTSTAMP:20260425T090715
CREATED:20220316T112506Z
LAST-MODIFIED:20220316T112506Z
UID:36898-1651690800-1651701600@meditationinhamilton.org
SUMMARY:Foundation Program
DESCRIPTION:
URL:https://meditationinhamilton.org/event/foundation-program-54/
CATEGORIES:Foundation Program
END:VEVENT
BEGIN:VEVENT
DTSTART;TZID=America/Toronto:20220503T193000
DTEND;TZID=America/Toronto:20220503T204000
DTSTAMP:20260425T090715
CREATED:20220305T142341Z
LAST-MODIFIED:20220305T182505Z
UID:36803-1651606200-1651610400@meditationinhamilton.org
SUMMARY:General Program Class
DESCRIPTION:
URL:https://meditationinhamilton.org/event/general-program-class-7/
CATEGORIES:General Program Meditation Class
END:VEVENT
BEGIN:VEVENT
DTSTART;TZID=America/Toronto:20220502T193000
DTEND;TZID=America/Toronto:20220502T204000
DTSTAMP:20260425T090715
CREATED:20220305T135520Z
LAST-MODIFIED:20220305T182615Z
UID:36782-1651519800-1651524000@meditationinhamilton.org
SUMMARY:General Program Class
DESCRIPTION:
URL:https://meditationinhamilton.org/event/general-program-class/
CATEGORIES:General Program Meditation Class
END:VEVENT
BEGIN:VEVENT
DTSTART;TZID=America/Toronto:20220430T110000
DTEND;TZID=America/Toronto:20220430T120000
DTSTAMP:20260425T090715
CREATED:20220216T144504Z
LAST-MODIFIED:20220425T034850Z
UID:36729-1651316400-1651320000@meditationinhamilton.org
SUMMARY:Create Your Own Buddhist Shrine
DESCRIPTION:
URL:https://meditationinhamilton.org/event/create-your-own-buddhist-shrine/
CATEGORIES:Half Day Course
END:VEVENT
BEGIN:VEVENT
DTSTART;TZID=America/Toronto:20220429T183000
DTEND;TZID=America/Toronto:20220429T213000
DTSTAMP:20260425T090715
CREATED:20211030T193609Z
LAST-MODIFIED:20211030T193609Z
UID:36481-1651257000-1651267800@meditationinhamilton.org
SUMMARY:Melodious Drum
DESCRIPTION:
URL:https://meditationinhamilton.org/event/melodious-drum-21/
CATEGORIES:Chanted Prayers
END:VEVENT
BEGIN:VEVENT
DTSTART;TZID=America/Toronto:20220427T190000
DTEND;TZID=America/Toronto:20220427T220000
DTSTAMP:20260425T090715
CREATED:20220316T112237Z
LAST-MODIFIED:20220316T112237Z
UID:36896-1651086000-1651096800@meditationinhamilton.org
SUMMARY:Foundation Program
DESCRIPTION:
URL:https://meditationinhamilton.org/event/foundation-program-53/
CATEGORIES:Foundation Program
END:VEVENT
BEGIN:VEVENT
DTSTART;TZID=America/Toronto:20220426T193000
DTEND;TZID=America/Toronto:20220426T204000
DTSTAMP:20260425T090715
CREATED:20220305T142025Z
LAST-MODIFIED:20220305T182713Z
UID:36801-1651001400-1651005600@meditationinhamilton.org
SUMMARY:General Program Online Class
DESCRIPTION:
URL:https://meditationinhamilton.org/event/general-program-online-class-16/
CATEGORIES:General Program Meditation Class
END:VEVENT
BEGIN:VEVENT
DTSTART;TZID=America/Toronto:20220425T193000
DTEND;TZID=America/Toronto:20220425T204000
DTSTAMP:20260425T090715
CREATED:20220305T135358Z
LAST-MODIFIED:20220305T182803Z
UID:36780-1650915000-1650919200@meditationinhamilton.org
SUMMARY:General Program Online Class
DESCRIPTION:
URL:https://meditationinhamilton.org/event/general-program-online-class-12/
CATEGORIES:General Program Meditation Class
END:VEVENT
BEGIN:VEVENT
DTSTART;TZID=America/Toronto:20220425T120000
DTEND;TZID=America/Toronto:20220425T140000
DTSTAMP:20260425T090715
CREATED:20211030T190659Z
LAST-MODIFIED:20211030T190659Z
UID:36463-1650888000-1650895200@meditationinhamilton.org
SUMMARY:Offering to the Spiritual Guide
DESCRIPTION:
URL:https://meditationinhamilton.org/event/offering-to-the-spiritual-guide-49/
CATEGORIES:Chanted Prayers
END:VEVENT
BEGIN:VEVENT
DTSTART;TZID=America/Toronto:20220420T190000
DTEND;TZID=America/Toronto:20220420T220000
DTSTAMP:20260425T090715
CREATED:20220316T112140Z
LAST-MODIFIED:20220316T112140Z
UID:36894-1650481200-1650492000@meditationinhamilton.org
SUMMARY:Foundation Program
DESCRIPTION:
URL:https://meditationinhamilton.org/event/foundation-program-52/
CATEGORIES:Foundation Program
END:VEVENT
BEGIN:VEVENT
DTSTART;TZID=America/Toronto:20220419T193000
DTEND;TZID=America/Toronto:20220419T204000
DTSTAMP:20260425T090715
CREATED:20220305T141907Z
LAST-MODIFIED:20220305T183024Z
UID:36799-1650396600-1650400800@meditationinhamilton.org
SUMMARY:General Program Online Class
DESCRIPTION:
URL:https://meditationinhamilton.org/event/general-program-online-class-15/
CATEGORIES:General Program Meditation Class
END:VEVENT
BEGIN:VEVENT
DTSTART;TZID=America/Toronto:20220418T193000
DTEND;TZID=America/Toronto:20220418T204000
DTSTAMP:20260425T090715
CREATED:20220305T135302Z
LAST-MODIFIED:20220305T183112Z
UID:36778-1650310200-1650314400@meditationinhamilton.org
SUMMARY:General Program Online Class
DESCRIPTION:
URL:https://meditationinhamilton.org/event/general-program-online-class-11/
CATEGORIES:General Program Meditation Class
END:VEVENT
BEGIN:VEVENT
DTSTART;TZID=America/Toronto:20220415T193000
DTEND;TZID=America/Toronto:20220415T203000
DTSTAMP:20260425T090715
CREATED:20220219T210038Z
LAST-MODIFIED:20220219T210038Z
UID:36738-1650051000-1650054600@meditationinhamilton.org
SUMMARY:Buddha's Enlightenment Day
DESCRIPTION:
URL:https://meditationinhamilton.org/event/buddhas-enlightenment-day/
END:VEVENT
BEGIN:VEVENT
DTSTART;TZID=America/Toronto:20220413T190000
DTEND;TZID=America/Toronto:20220413T220000
DTSTAMP:20260425T090715
CREATED:20220316T112047Z
LAST-MODIFIED:20220316T112047Z
UID:36892-1649876400-1649887200@meditationinhamilton.org
SUMMARY:Foundation Program
DESCRIPTION:
URL:https://meditationinhamilton.org/event/foundation-program-51/
CATEGORIES:Foundation Program
END:VEVENT
BEGIN:VEVENT
DTSTART;TZID=America/Toronto:20220412T193000
DTEND;TZID=America/Toronto:20220412T204000
DTSTAMP:20260425T090715
CREATED:20220305T141806Z
LAST-MODIFIED:20220305T183212Z
UID:36797-1649791800-1649796000@meditationinhamilton.org
SUMMARY:General Program Online Class
DESCRIPTION:
URL:https://meditationinhamilton.org/event/general-program-online-class-14/
CATEGORIES:General Program Meditation Class
END:VEVENT
BEGIN:VEVENT
DTSTART;TZID=America/Toronto:20220411T193000
DTEND;TZID=America/Toronto:20220411T204000
DTSTAMP:20260425T090715
CREATED:20220305T135138Z
LAST-MODIFIED:20220305T183257Z
UID:36776-1649705400-1649709600@meditationinhamilton.org
SUMMARY:General Program Online Class
DESCRIPTION:
URL:https://meditationinhamilton.org/event/general-program-online-class-10/
CATEGORIES:General Program Meditation Class
END:VEVENT
BEGIN:VEVENT
DTSTART;TZID=America/Toronto:20220410T120000
DTEND;TZID=America/Toronto:20220410T140000
DTSTAMP:20260425T090715
CREATED:20211030T190547Z
LAST-MODIFIED:20211030T190547Z
UID:36461-1649592000-1649599200@meditationinhamilton.org
SUMMARY:Offering to the Spiritual Guide
DESCRIPTION:
URL:https://meditationinhamilton.org/event/offering-to-the-spiritual-guide-48/
CATEGORIES:Chanted Prayers
END:VEVENT
BEGIN:VEVENT
DTSTART;TZID=America/Toronto:20220409T100000
DTEND;TZID=America/Toronto:20220409T163000
DTSTAMP:20260425T090715
CREATED:20211102T173804Z
LAST-MODIFIED:20220218T223303Z
UID:36539-1649498400-1649521800@meditationinhamilton.org
SUMMARY:Power of Compassion Day Retreat
DESCRIPTION:
URL:https://meditationinhamilton.org/event/power-of-compassion-day-retreat/
CATEGORIES:Meditation Retreat
END:VEVENT
END:VCALENDAR