BEGIN:VCALENDAR
VERSION:2.0
PRODID:-//Samudra Kadampa Buddhist Centre - ECPv6.15.20//NONSGML v1.0//EN
CALSCALE:GREGORIAN
METHOD:PUBLISH
X-WR-CALNAME:Samudra Kadampa Buddhist Centre
X-ORIGINAL-URL:https://meditationinhamilton.org
X-WR-CALDESC:Events for Samudra Kadampa Buddhist Centre
REFRESH-INTERVAL;VALUE=DURATION:PT1H
X-Robots-Tag:noindex
X-PUBLISHED-TTL:PT1H
BEGIN:VTIMEZONE
TZID:America/Toronto
BEGIN:DAYLIGHT
TZOFFSETFROM:-0500
TZOFFSETTO:-0400
TZNAME:EDT
DTSTART:20210314T070000
END:DAYLIGHT
BEGIN:STANDARD
TZOFFSETFROM:-0400
TZOFFSETTO:-0500
TZNAME:EST
DTSTART:20211107T060000
END:STANDARD
BEGIN:DAYLIGHT
TZOFFSETFROM:-0500
TZOFFSETTO:-0400
TZNAME:EDT
DTSTART:20220313T070000
END:DAYLIGHT
BEGIN:STANDARD
TZOFFSETFROM:-0400
TZOFFSETTO:-0500
TZNAME:EST
DTSTART:20221106T060000
END:STANDARD
BEGIN:DAYLIGHT
TZOFFSETFROM:-0500
TZOFFSETTO:-0400
TZNAME:EDT
DTSTART:20230312T070000
END:DAYLIGHT
BEGIN:STANDARD
TZOFFSETFROM:-0400
TZOFFSETTO:-0500
TZNAME:EST
DTSTART:20231105T060000
END:STANDARD
END:VTIMEZONE
BEGIN:VEVENT
DTSTART;TZID=America/Toronto:20221005T190000
DTEND;TZID=America/Toronto:20221005T220000
DTSTAMP:20260425T090725
CREATED:20220316T121903Z
LAST-MODIFIED:20220316T121903Z
UID:36956-1664996400-1665007200@meditationinhamilton.org
SUMMARY:Foundation Program
DESCRIPTION:
URL:https://meditationinhamilton.org/event/foundation-program-62/
CATEGORIES:Foundation Program
END:VEVENT
BEGIN:VEVENT
DTSTART;TZID=America/Toronto:20221004T193000
DTEND;TZID=America/Toronto:20221004T210000
DTSTAMP:20260425T090725
CREATED:20220528T164157Z
LAST-MODIFIED:20220824T141146Z
UID:37156-1664911800-1664917200@meditationinhamilton.org
SUMMARY:General Program Class
DESCRIPTION:
URL:https://meditationinhamilton.org/event/general-program-class-40/
CATEGORIES:General Program Meditation Class
END:VEVENT
BEGIN:VEVENT
DTSTART;TZID=America/Toronto:20221003T193000
DTEND;TZID=America/Toronto:20221003T210000
DTSTAMP:20260425T090725
CREATED:20220824T141448Z
LAST-MODIFIED:20220824T141448Z
UID:37371-1664825400-1664830800@meditationinhamilton.org
SUMMARY:General Program Class
DESCRIPTION:
URL:https://meditationinhamilton.org/event/general-program-class-55/
CATEGORIES:General Program Meditation Class
END:VEVENT
BEGIN:VEVENT
DTSTART;TZID=America/Toronto:20221001T100000
DTEND;TZID=America/Toronto:20221001T130000
DTSTAMP:20260425T090725
CREATED:20220804T225456Z
LAST-MODIFIED:20220804T225456Z
UID:37327-1664618400-1664629200@meditationinhamilton.org
SUMMARY:Overcome Fear Day Course
DESCRIPTION:
URL:https://meditationinhamilton.org/event/overcome-fear-day-course/
CATEGORIES:Half Day Course
END:VEVENT
BEGIN:VEVENT
DTSTART;TZID=America/Toronto:20220929T183000
DTEND;TZID=America/Toronto:20220929T220000
DTSTAMP:20260425T090725
CREATED:20220316T120120Z
LAST-MODIFIED:20220316T120120Z
UID:36944-1664476200-1664488800@meditationinhamilton.org
SUMMARY:Melodious Drum
DESCRIPTION:
URL:https://meditationinhamilton.org/event/melodious-drum-25/
CATEGORIES:Chanted Prayers
END:VEVENT
BEGIN:VEVENT
DTSTART;TZID=America/Toronto:20220928T190000
DTEND;TZID=America/Toronto:20220928T220000
DTSTAMP:20260425T090725
CREATED:20220316T121744Z
LAST-MODIFIED:20220316T121744Z
UID:36954-1664391600-1664402400@meditationinhamilton.org
SUMMARY:Foundation Program
DESCRIPTION:
URL:https://meditationinhamilton.org/event/foundation-program-61/
CATEGORIES:Foundation Program
END:VEVENT
BEGIN:VEVENT
DTSTART;TZID=America/Toronto:20220927T193000
DTEND;TZID=America/Toronto:20220927T210000
DTSTAMP:20260425T090725
CREATED:20220528T164020Z
LAST-MODIFIED:20220824T140522Z
UID:37154-1664307000-1664312400@meditationinhamilton.org
SUMMARY:General Program Class
DESCRIPTION:
URL:https://meditationinhamilton.org/event/general-program-class-39/
CATEGORIES:General Program Meditation Class
END:VEVENT
BEGIN:VEVENT
DTSTART;TZID=America/Toronto:20220926T193000
DTEND;TZID=America/Toronto:20220926T210000
DTSTAMP:20260425T090725
CREATED:20220824T135850Z
LAST-MODIFIED:20220824T135850Z
UID:37366-1664220600-1664226000@meditationinhamilton.org
SUMMARY:General Program Class
DESCRIPTION:
URL:https://meditationinhamilton.org/event/general-program-class-54/
CATEGORIES:General Program Meditation Class
END:VEVENT
BEGIN:VEVENT
DTSTART;TZID=America/Toronto:20220925T120000
DTEND;TZID=America/Toronto:20220925T140000
DTSTAMP:20260425T090725
CREATED:20220316T114317Z
LAST-MODIFIED:20220316T114317Z
UID:36924-1664107200-1664114400@meditationinhamilton.org
SUMMARY:Offering to the Spiritual Guide
DESCRIPTION:
URL:https://meditationinhamilton.org/event/offering-to-the-spiritual-guide-82/
CATEGORIES:Chanted Prayers
END:VEVENT
BEGIN:VEVENT
DTSTART;VALUE=DATE:20220920
DTEND;VALUE=DATE:20220922
DTSTAMP:20260425T090725
CREATED:20220528T163910Z
LAST-MODIFIED:20220919T172349Z
UID:37152-1663632000-1663804799@meditationinhamilton.org
SUMMARY:Retreat for Venerable Geshe-la
DESCRIPTION:
URL:https://meditationinhamilton.org/event/general-program-class-38/
CATEGORIES:General Program Meditation Class
END:VEVENT
BEGIN:VEVENT
DTSTART;TZID=America/Toronto:20220919T193000
DTEND;TZID=America/Toronto:20220919T210000
DTSTAMP:20260425T090725
CREATED:20220824T135750Z
LAST-MODIFIED:20220824T135750Z
UID:37364-1663615800-1663621200@meditationinhamilton.org
SUMMARY:General Program Class
DESCRIPTION:
URL:https://meditationinhamilton.org/event/general-program-class-53/
CATEGORIES:General Program Meditation Class
END:VEVENT
BEGIN:VEVENT
DTSTART;TZID=America/Toronto:20220917T100000
DTEND;TZID=America/Toronto:20220917T163000
DTSTAMP:20260425T090725
CREATED:20220608T110045Z
LAST-MODIFIED:20220608T110755Z
UID:37199-1663408800-1663432200@meditationinhamilton.org
SUMMARY:Mirror of Dharma Retreat Pt 1
DESCRIPTION:
URL:https://meditationinhamilton.org/event/mirror-of-dharma-day-retreat-pt-1/
CATEGORIES:Meditation Retreat
END:VEVENT
BEGIN:VEVENT
DTSTART;TZID=America/Toronto:20220914T190000
DTEND;TZID=America/Toronto:20220914T220000
DTSTAMP:20260425T090725
CREATED:20220316T121451Z
LAST-MODIFIED:20220316T121451Z
UID:36950-1663182000-1663192800@meditationinhamilton.org
SUMMARY:Foundation Program Begin new term
DESCRIPTION:
URL:https://meditationinhamilton.org/event/foundation-program-begin-new-term/
CATEGORIES:Foundation Program
END:VEVENT
BEGIN:VEVENT
DTSTART;TZID=America/Toronto:20220913T193000
DTEND;TZID=America/Toronto:20220913T210000
DTSTAMP:20260425T090725
CREATED:20220528T163756Z
LAST-MODIFIED:20220824T140141Z
UID:37150-1663097400-1663102800@meditationinhamilton.org
SUMMARY:General Program Class
DESCRIPTION:
URL:https://meditationinhamilton.org/event/general-program-class-37/
CATEGORIES:General Program Meditation Class
END:VEVENT
BEGIN:VEVENT
DTSTART;TZID=America/Toronto:20220912T193000
DTEND;TZID=America/Toronto:20220912T210000
DTSTAMP:20260425T090725
CREATED:20220824T135639Z
LAST-MODIFIED:20220824T135639Z
UID:37362-1663011000-1663016400@meditationinhamilton.org
SUMMARY:General Program Class
DESCRIPTION:
URL:https://meditationinhamilton.org/event/general-program-class-52/
CATEGORIES:General Program Meditation Class
END:VEVENT
BEGIN:VEVENT
DTSTART;TZID=America/Toronto:20220910T190000
DTEND;TZID=America/Toronto:20220910T210000
DTSTAMP:20260425T090725
CREATED:20220316T114203Z
LAST-MODIFIED:20220316T114203Z
UID:36922-1662836400-1662843600@meditationinhamilton.org
SUMMARY:Offering to the Spiritual Guide
DESCRIPTION:
URL:https://meditationinhamilton.org/event/offering-to-the-spiritual-guide-81/
CATEGORIES:Chanted Prayers
END:VEVENT
BEGIN:VEVENT
DTSTART;TZID=America/Toronto:20220910T093000
DTEND;TZID=America/Toronto:20220910T110000
DTSTAMP:20260425T090725
CREATED:20220805T190823Z
LAST-MODIFIED:20220805T190823Z
UID:37329-1662802200-1662807600@meditationinhamilton.org
SUMMARY:Centre Cherishing Day
DESCRIPTION:
URL:https://meditationinhamilton.org/event/centre-cherishing-day-2/
END:VEVENT
BEGIN:VEVENT
DTSTART;TZID=America/Toronto:20220906T193000
DTEND;TZID=America/Toronto:20220906T210000
DTSTAMP:20260425T090725
CREATED:20220528T163644Z
LAST-MODIFIED:20220824T140315Z
UID:37148-1662492600-1662498000@meditationinhamilton.org
SUMMARY:General Program Class
DESCRIPTION:
URL:https://meditationinhamilton.org/event/general-program-class-36/
CATEGORIES:General Program Meditation Class
END:VEVENT
BEGIN:VEVENT
DTSTART;TZID=America/Toronto:20220831T193000
DTEND;TZID=America/Toronto:20220831T213000
DTSTAMP:20260425T090725
CREATED:20220305T144246Z
LAST-MODIFIED:20220305T144246Z
UID:36837-1661974200-1661981400@meditationinhamilton.org
SUMMARY:Book Club
DESCRIPTION:
URL:https://meditationinhamilton.org/event/book-club-18/
END:VEVENT
BEGIN:VEVENT
DTSTART;TZID=America/Toronto:20220830T193000
DTEND;TZID=America/Toronto:20220830T204000
DTSTAMP:20260425T090725
CREATED:20220528T163006Z
LAST-MODIFIED:20220528T163006Z
UID:37146-1661887800-1661892000@meditationinhamilton.org
SUMMARY:General Program Class
DESCRIPTION:
URL:https://meditationinhamilton.org/event/general-program-class-35/
CATEGORIES:General Program Meditation Class
END:VEVENT
BEGIN:VEVENT
DTSTART;TZID=America/Toronto:20220829T193000
DTEND;TZID=America/Toronto:20220829T204000
DTSTAMP:20260425T090725
CREATED:20220528T161535Z
LAST-MODIFIED:20220528T161535Z
UID:37128-1661801400-1661805600@meditationinhamilton.org
SUMMARY:General Program Class
DESCRIPTION:
URL:https://meditationinhamilton.org/event/general-program-class-26/
CATEGORIES:General Program Meditation Class
END:VEVENT
BEGIN:VEVENT
DTSTART;TZID=America/Toronto:20220829T120000
DTEND;TZID=America/Toronto:20220829T130000
DTSTAMP:20260425T090725
CREATED:20220316T120252Z
LAST-MODIFIED:20220316T120252Z
UID:36946-1661774400-1661778000@meditationinhamilton.org
SUMMARY:Wishfulfilling Jewel
DESCRIPTION:
URL:https://meditationinhamilton.org/event/wishfulfilling-jewel-5/
CATEGORIES:Chanted Prayers
END:VEVENT
BEGIN:VEVENT
DTSTART;TZID=America/Toronto:20220825T193000
DTEND;TZID=America/Toronto:20220825T213000
DTSTAMP:20260425T090725
CREATED:20220316T114103Z
LAST-MODIFIED:20220820T230858Z
UID:36920-1661455800-1661463000@meditationinhamilton.org
SUMMARY:Offering to the Spiritual Guide
DESCRIPTION:
URL:https://meditationinhamilton.org/event/offering-to-the-spiritual-guide-80/
CATEGORIES:Chanted Prayers
END:VEVENT
BEGIN:VEVENT
DTSTART;TZID=America/Toronto:20220824T193000
DTEND;TZID=America/Toronto:20220824T213000
DTSTAMP:20260425T090725
CREATED:20220305T144147Z
LAST-MODIFIED:20220305T144147Z
UID:36835-1661369400-1661376600@meditationinhamilton.org
SUMMARY:Book Club
DESCRIPTION:
URL:https://meditationinhamilton.org/event/book-club-17/
END:VEVENT
BEGIN:VEVENT
DTSTART;TZID=America/Toronto:20220823T193000
DTEND;TZID=America/Toronto:20220823T204000
DTSTAMP:20260425T090725
CREATED:20220528T162849Z
LAST-MODIFIED:20220528T162849Z
UID:37144-1661283000-1661287200@meditationinhamilton.org
SUMMARY:General Program Class
DESCRIPTION:
URL:https://meditationinhamilton.org/event/general-program-class-34/
CATEGORIES:General Program Meditation Class
END:VEVENT
BEGIN:VEVENT
DTSTART;TZID=America/Toronto:20220822T193000
DTEND;TZID=America/Toronto:20220822T204000
DTSTAMP:20260425T090725
CREATED:20220528T161359Z
LAST-MODIFIED:20220528T161359Z
UID:37126-1661196600-1661200800@meditationinhamilton.org
SUMMARY:General Program Class
DESCRIPTION:
URL:https://meditationinhamilton.org/event/general-program-class-25/
CATEGORIES:General Program Meditation Class
END:VEVENT
BEGIN:VEVENT
DTSTART;TZID=America/Toronto:20220820T100000
DTEND;TZID=America/Toronto:20220820T163000
DTSTAMP:20260425T090725
CREATED:20220408T160010Z
LAST-MODIFIED:20220608T110236Z
UID:37027-1660989600-1661013000@meditationinhamilton.org
SUMMARY:The Secrets of Self Generation Retreat
DESCRIPTION:
URL:https://meditationinhamilton.org/event/the-secrets-of-self-generation-retreat/
CATEGORIES:Meditation Retreat
END:VEVENT
BEGIN:VEVENT
DTSTART;TZID=America/Toronto:20220817T193000
DTEND;TZID=America/Toronto:20220817T213000
DTSTAMP:20260425T090725
CREATED:20220305T144058Z
LAST-MODIFIED:20220305T144058Z
UID:36833-1660764600-1660771800@meditationinhamilton.org
SUMMARY:Book Club
DESCRIPTION:
URL:https://meditationinhamilton.org/event/book-club-16/
END:VEVENT
BEGIN:VEVENT
DTSTART;TZID=America/Toronto:20220816T193000
DTEND;TZID=America/Toronto:20220816T204000
DTSTAMP:20260425T090725
CREATED:20220528T162722Z
LAST-MODIFIED:20220528T162722Z
UID:37142-1660678200-1660682400@meditationinhamilton.org
SUMMARY:General Program Class
DESCRIPTION:
URL:https://meditationinhamilton.org/event/general-program-class-33/
CATEGORIES:General Program Meditation Class
END:VEVENT
BEGIN:VEVENT
DTSTART;TZID=America/Toronto:20220815T193000
DTEND;TZID=America/Toronto:20220815T204000
DTSTAMP:20260425T090725
CREATED:20220528T161213Z
LAST-MODIFIED:20220528T161213Z
UID:37124-1660591800-1660596000@meditationinhamilton.org
SUMMARY:General Program Class
DESCRIPTION:
URL:https://meditationinhamilton.org/event/general-program-class-24/
CATEGORIES:General Program Meditation Class
END:VEVENT
END:VCALENDAR