BEGIN:VCALENDAR
VERSION:2.0
PRODID:-//Samudra Kadampa Buddhist Centre - ECPv6.15.20//NONSGML v1.0//EN
CALSCALE:GREGORIAN
METHOD:PUBLISH
X-WR-CALNAME:Samudra Kadampa Buddhist Centre
X-ORIGINAL-URL:https://meditationinhamilton.org
X-WR-CALDESC:Events for Samudra Kadampa Buddhist Centre
REFRESH-INTERVAL;VALUE=DURATION:PT1H
X-Robots-Tag:noindex
X-PUBLISHED-TTL:PT1H
BEGIN:VTIMEZONE
TZID:America/Toronto
BEGIN:DAYLIGHT
TZOFFSETFROM:-0500
TZOFFSETTO:-0400
TZNAME:EDT
DTSTART:20210314T070000
END:DAYLIGHT
BEGIN:STANDARD
TZOFFSETFROM:-0400
TZOFFSETTO:-0500
TZNAME:EST
DTSTART:20211107T060000
END:STANDARD
BEGIN:DAYLIGHT
TZOFFSETFROM:-0500
TZOFFSETTO:-0400
TZNAME:EDT
DTSTART:20220313T070000
END:DAYLIGHT
BEGIN:STANDARD
TZOFFSETFROM:-0400
TZOFFSETTO:-0500
TZNAME:EST
DTSTART:20221106T060000
END:STANDARD
BEGIN:DAYLIGHT
TZOFFSETFROM:-0500
TZOFFSETTO:-0400
TZNAME:EDT
DTSTART:20230312T070000
END:DAYLIGHT
BEGIN:STANDARD
TZOFFSETFROM:-0400
TZOFFSETTO:-0500
TZNAME:EST
DTSTART:20231105T060000
END:STANDARD
END:VTIMEZONE
BEGIN:VEVENT
DTSTART;TZID=America/Toronto:20220829T193000
DTEND;TZID=America/Toronto:20220829T204000
DTSTAMP:20260425T125016
CREATED:20220528T161535Z
LAST-MODIFIED:20220528T161535Z
UID:37128-1661801400-1661805600@meditationinhamilton.org
SUMMARY:General Program Class
DESCRIPTION:
URL:https://meditationinhamilton.org/event/general-program-class-26/
CATEGORIES:General Program Meditation Class
END:VEVENT
BEGIN:VEVENT
DTSTART;TZID=America/Toronto:20220829T120000
DTEND;TZID=America/Toronto:20220829T130000
DTSTAMP:20260425T125016
CREATED:20220316T120252Z
LAST-MODIFIED:20220316T120252Z
UID:36946-1661774400-1661778000@meditationinhamilton.org
SUMMARY:Wishfulfilling Jewel
DESCRIPTION:
URL:https://meditationinhamilton.org/event/wishfulfilling-jewel-5/
CATEGORIES:Chanted Prayers
END:VEVENT
BEGIN:VEVENT
DTSTART;TZID=America/Toronto:20220825T193000
DTEND;TZID=America/Toronto:20220825T213000
DTSTAMP:20260425T125016
CREATED:20220316T114103Z
LAST-MODIFIED:20220820T230858Z
UID:36920-1661455800-1661463000@meditationinhamilton.org
SUMMARY:Offering to the Spiritual Guide
DESCRIPTION:
URL:https://meditationinhamilton.org/event/offering-to-the-spiritual-guide-80/
CATEGORIES:Chanted Prayers
END:VEVENT
BEGIN:VEVENT
DTSTART;TZID=America/Toronto:20220824T193000
DTEND;TZID=America/Toronto:20220824T213000
DTSTAMP:20260425T125016
CREATED:20220305T144147Z
LAST-MODIFIED:20220305T144147Z
UID:36835-1661369400-1661376600@meditationinhamilton.org
SUMMARY:Book Club
DESCRIPTION:
URL:https://meditationinhamilton.org/event/book-club-17/
END:VEVENT
BEGIN:VEVENT
DTSTART;TZID=America/Toronto:20220823T193000
DTEND;TZID=America/Toronto:20220823T204000
DTSTAMP:20260425T125016
CREATED:20220528T162849Z
LAST-MODIFIED:20220528T162849Z
UID:37144-1661283000-1661287200@meditationinhamilton.org
SUMMARY:General Program Class
DESCRIPTION:
URL:https://meditationinhamilton.org/event/general-program-class-34/
CATEGORIES:General Program Meditation Class
END:VEVENT
BEGIN:VEVENT
DTSTART;TZID=America/Toronto:20220822T193000
DTEND;TZID=America/Toronto:20220822T204000
DTSTAMP:20260425T125016
CREATED:20220528T161359Z
LAST-MODIFIED:20220528T161359Z
UID:37126-1661196600-1661200800@meditationinhamilton.org
SUMMARY:General Program Class
DESCRIPTION:
URL:https://meditationinhamilton.org/event/general-program-class-25/
CATEGORIES:General Program Meditation Class
END:VEVENT
BEGIN:VEVENT
DTSTART;TZID=America/Toronto:20220820T100000
DTEND;TZID=America/Toronto:20220820T163000
DTSTAMP:20260425T125016
CREATED:20220408T160010Z
LAST-MODIFIED:20220608T110236Z
UID:37027-1660989600-1661013000@meditationinhamilton.org
SUMMARY:The Secrets of Self Generation Retreat
DESCRIPTION:
URL:https://meditationinhamilton.org/event/the-secrets-of-self-generation-retreat/
CATEGORIES:Meditation Retreat
END:VEVENT
BEGIN:VEVENT
DTSTART;TZID=America/Toronto:20220817T193000
DTEND;TZID=America/Toronto:20220817T213000
DTSTAMP:20260425T125016
CREATED:20220305T144058Z
LAST-MODIFIED:20220305T144058Z
UID:36833-1660764600-1660771800@meditationinhamilton.org
SUMMARY:Book Club
DESCRIPTION:
URL:https://meditationinhamilton.org/event/book-club-16/
END:VEVENT
BEGIN:VEVENT
DTSTART;TZID=America/Toronto:20220816T193000
DTEND;TZID=America/Toronto:20220816T204000
DTSTAMP:20260425T125016
CREATED:20220528T162722Z
LAST-MODIFIED:20220528T162722Z
UID:37142-1660678200-1660682400@meditationinhamilton.org
SUMMARY:General Program Class
DESCRIPTION:
URL:https://meditationinhamilton.org/event/general-program-class-33/
CATEGORIES:General Program Meditation Class
END:VEVENT
BEGIN:VEVENT
DTSTART;TZID=America/Toronto:20220815T193000
DTEND;TZID=America/Toronto:20220815T204000
DTSTAMP:20260425T125016
CREATED:20220528T161213Z
LAST-MODIFIED:20220528T161213Z
UID:37124-1660591800-1660596000@meditationinhamilton.org
SUMMARY:General Program Class
DESCRIPTION:
URL:https://meditationinhamilton.org/event/general-program-class-24/
CATEGORIES:General Program Meditation Class
END:VEVENT
BEGIN:VEVENT
DTSTART;TZID=America/Toronto:20220810T190000
DTEND;TZID=America/Toronto:20220810T210000
DTSTAMP:20260425T125016
CREATED:20220316T114009Z
LAST-MODIFIED:20220316T114009Z
UID:36918-1660158000-1660165200@meditationinhamilton.org
SUMMARY:Offering to the Spiritual Guide
DESCRIPTION:
URL:https://meditationinhamilton.org/event/offering-to-the-spiritual-guide-79/
CATEGORIES:Chanted Prayers
END:VEVENT
BEGIN:VEVENT
DTSTART;TZID=America/Toronto:20220809T193000
DTEND;TZID=America/Toronto:20220809T204000
DTSTAMP:20260425T125016
CREATED:20220528T162608Z
LAST-MODIFIED:20220528T162608Z
UID:37140-1660073400-1660077600@meditationinhamilton.org
SUMMARY:General Program Class
DESCRIPTION:
URL:https://meditationinhamilton.org/event/general-program-class-32/
CATEGORIES:General Program Meditation Class
END:VEVENT
BEGIN:VEVENT
DTSTART;TZID=America/Toronto:20220808T193000
DTEND;TZID=America/Toronto:20220808T204000
DTSTAMP:20260425T125016
CREATED:20220528T160522Z
LAST-MODIFIED:20220528T160522Z
UID:37122-1659987000-1659991200@meditationinhamilton.org
SUMMARY:General Program Class
DESCRIPTION:
URL:https://meditationinhamilton.org/event/general-program-class-23/
CATEGORIES:General Program Meditation Class
END:VEVENT
BEGIN:VEVENT
DTSTART;TZID=America/Toronto:20220803T193000
DTEND;TZID=America/Toronto:20220803T213000
DTSTAMP:20260425T125016
CREATED:20220305T143959Z
LAST-MODIFIED:20220305T143959Z
UID:36831-1659555000-1659562200@meditationinhamilton.org
SUMMARY:Book Club
DESCRIPTION:
URL:https://meditationinhamilton.org/event/book-club-15/
END:VEVENT
BEGIN:VEVENT
DTSTART;TZID=America/Toronto:20220802T193000
DTEND;TZID=America/Toronto:20220802T204000
DTSTAMP:20260425T125016
CREATED:20220528T162501Z
LAST-MODIFIED:20220528T162501Z
UID:37138-1659468600-1659472800@meditationinhamilton.org
SUMMARY:General Program Class
DESCRIPTION:
URL:https://meditationinhamilton.org/event/general-program-class-31/
CATEGORIES:General Program Meditation Class
END:VEVENT
BEGIN:VEVENT
DTSTART;TZID=America/Toronto:20220801T193000
DTEND;TZID=America/Toronto:20220801T204000
DTSTAMP:20260425T125016
CREATED:20220528T160408Z
LAST-MODIFIED:20220528T160408Z
UID:37120-1659382200-1659386400@meditationinhamilton.org
SUMMARY:General Program Class
DESCRIPTION:
URL:https://meditationinhamilton.org/event/general-program-class-22/
CATEGORIES:General Program Meditation Class
END:VEVENT
BEGIN:VEVENT
DTSTART;TZID=America/Toronto:20220729T183000
DTEND;TZID=America/Toronto:20220729T220000
DTSTAMP:20260425T125016
CREATED:20220316T120459Z
LAST-MODIFIED:20220316T120459Z
UID:36948-1659119400-1659132000@meditationinhamilton.org
SUMMARY:Melodious Drum
DESCRIPTION:
URL:https://meditationinhamilton.org/event/melodious-drum-26/
CATEGORIES:Chanted Prayers
END:VEVENT
BEGIN:VEVENT
DTSTART;VALUE=DATE:20220729
DTEND;VALUE=DATE:20220814
DTSTAMP:20260425T125016
CREATED:20211015T153325Z
LAST-MODIFIED:20211015T153325Z
UID:36370-1659052800-1660435199@meditationinhamilton.org
SUMMARY:NKT Summer Festival
DESCRIPTION:
URL:https://meditationinhamilton.org/event/nkt-summer-festival-4/
LOCATION:Manjushri Kadampa Meditation Centre\, Conishead Priory\, Ulverston\, Cumbria\,  LA12 9QQ\, United Kingdom
END:VEVENT
BEGIN:VEVENT
DTSTART;TZID=America/Toronto:20220727T193000
DTEND;TZID=America/Toronto:20220727T213000
DTSTAMP:20260425T125016
CREATED:20220305T143856Z
LAST-MODIFIED:20220305T143856Z
UID:36829-1658950200-1658957400@meditationinhamilton.org
SUMMARY:Book Club
DESCRIPTION:
URL:https://meditationinhamilton.org/event/book-club-14/
END:VEVENT
BEGIN:VEVENT
DTSTART;TZID=America/Toronto:20220726T193000
DTEND;TZID=America/Toronto:20220726T204000
DTSTAMP:20260425T125016
CREATED:20220528T162338Z
LAST-MODIFIED:20220528T162338Z
UID:37136-1658863800-1658868000@meditationinhamilton.org
SUMMARY:General Program Class
DESCRIPTION:
URL:https://meditationinhamilton.org/event/general-program-class-30/
CATEGORIES:General Program Meditation Class
END:VEVENT
BEGIN:VEVENT
DTSTART;TZID=America/Toronto:20220725T193000
DTEND;TZID=America/Toronto:20220725T204000
DTSTAMP:20260425T125016
CREATED:20220528T160251Z
LAST-MODIFIED:20220528T160251Z
UID:37118-1658777400-1658781600@meditationinhamilton.org
SUMMARY:General Program Class
DESCRIPTION:
URL:https://meditationinhamilton.org/event/general-program-class-21/
CATEGORIES:General Program Meditation Class
END:VEVENT
BEGIN:VEVENT
DTSTART;TZID=America/Toronto:20220725T120000
DTEND;TZID=America/Toronto:20220725T140000
DTSTAMP:20260425T125016
CREATED:20220316T113900Z
LAST-MODIFIED:20220316T113900Z
UID:36916-1658750400-1658757600@meditationinhamilton.org
SUMMARY:Offering to the Spiritual Guide
DESCRIPTION:
URL:https://meditationinhamilton.org/event/offering-to-the-spiritual-guide-78/
CATEGORIES:Chanted Prayers
END:VEVENT
BEGIN:VEVENT
DTSTART;TZID=America/Toronto:20220720T193000
DTEND;TZID=America/Toronto:20220720T213000
DTSTAMP:20260425T125016
CREATED:20220305T143803Z
LAST-MODIFIED:20220305T143803Z
UID:36827-1658345400-1658352600@meditationinhamilton.org
SUMMARY:Book Club
DESCRIPTION:
URL:https://meditationinhamilton.org/event/book-club-13/
END:VEVENT
BEGIN:VEVENT
DTSTART;TZID=America/Toronto:20220719T193000
DTEND;TZID=America/Toronto:20220719T204000
DTSTAMP:20260425T125016
CREATED:20220528T162227Z
LAST-MODIFIED:20220528T162227Z
UID:37134-1658259000-1658263200@meditationinhamilton.org
SUMMARY:General Program Class
DESCRIPTION:
URL:https://meditationinhamilton.org/event/general-program-class-29/
CATEGORIES:General Program Meditation Class
END:VEVENT
BEGIN:VEVENT
DTSTART;TZID=America/Toronto:20220718T193000
DTEND;TZID=America/Toronto:20220718T204000
DTSTAMP:20260425T125016
CREATED:20220528T160140Z
LAST-MODIFIED:20220528T160140Z
UID:37116-1658172600-1658176800@meditationinhamilton.org
SUMMARY:General Program Class
DESCRIPTION:
URL:https://meditationinhamilton.org/event/general-program-class-20/
CATEGORIES:General Program Meditation Class
END:VEVENT
BEGIN:VEVENT
DTSTART;TZID=America/Toronto:20220716T100000
DTEND;TZID=America/Toronto:20220716T163000
DTSTAMP:20260425T125016
CREATED:20220406T042932Z
LAST-MODIFIED:20220406T043118Z
UID:37019-1657965600-1657989000@meditationinhamilton.org
SUMMARY:The Power of Wisdom Retreat
DESCRIPTION:
URL:https://meditationinhamilton.org/event/the-power-of-wisdom-retreat/
CATEGORIES:Meditation Retreat
END:VEVENT
BEGIN:VEVENT
DTSTART;TZID=America/Toronto:20220713T193000
DTEND;TZID=America/Toronto:20220713T213000
DTSTAMP:20260425T125016
CREATED:20220305T143712Z
LAST-MODIFIED:20220305T143712Z
UID:36825-1657740600-1657747800@meditationinhamilton.org
SUMMARY:Book Club
DESCRIPTION:
URL:https://meditationinhamilton.org/event/book-club-12/
END:VEVENT
BEGIN:VEVENT
DTSTART;TZID=America/Toronto:20220712T193000
DTEND;TZID=America/Toronto:20220712T204000
DTSTAMP:20260425T125016
CREATED:20220528T162116Z
LAST-MODIFIED:20220528T162116Z
UID:37132-1657654200-1657658400@meditationinhamilton.org
SUMMARY:General Program Class
DESCRIPTION:
URL:https://meditationinhamilton.org/event/general-program-class-28/
CATEGORIES:General Program Meditation Class
END:VEVENT
BEGIN:VEVENT
DTSTART;TZID=America/Toronto:20220711T193000
DTEND;TZID=America/Toronto:20220711T204000
DTSTAMP:20260425T125016
CREATED:20220528T160026Z
LAST-MODIFIED:20220528T160026Z
UID:37114-1657567800-1657572000@meditationinhamilton.org
SUMMARY:General Program Class
DESCRIPTION:
URL:https://meditationinhamilton.org/event/general-program-class-19/
CATEGORIES:General Program Meditation Class
END:VEVENT
BEGIN:VEVENT
DTSTART;TZID=America/Toronto:20220710T120000
DTEND;TZID=America/Toronto:20220710T140000
DTSTAMP:20260425T125016
CREATED:20220316T113727Z
LAST-MODIFIED:20220316T113727Z
UID:36914-1657454400-1657461600@meditationinhamilton.org
SUMMARY:Offering to the Spiritual Guide
DESCRIPTION:
URL:https://meditationinhamilton.org/event/offering-to-the-spiritual-guide-77/
CATEGORIES:Chanted Prayers
END:VEVENT
END:VCALENDAR