BEGIN:VCALENDAR
VERSION:2.0
PRODID:-//Samudra Kadampa Buddhist Centre - ECPv6.15.20//NONSGML v1.0//EN
CALSCALE:GREGORIAN
METHOD:PUBLISH
X-WR-CALNAME:Samudra Kadampa Buddhist Centre
X-ORIGINAL-URL:https://meditationinhamilton.org
X-WR-CALDESC:Events for Samudra Kadampa Buddhist Centre
REFRESH-INTERVAL;VALUE=DURATION:PT1H
X-Robots-Tag:noindex
X-PUBLISHED-TTL:PT1H
BEGIN:VTIMEZONE
TZID:America/Toronto
BEGIN:DAYLIGHT
TZOFFSETFROM:-0500
TZOFFSETTO:-0400
TZNAME:EDT
DTSTART:20200308T070000
END:DAYLIGHT
BEGIN:STANDARD
TZOFFSETFROM:-0400
TZOFFSETTO:-0500
TZNAME:EST
DTSTART:20201101T060000
END:STANDARD
BEGIN:DAYLIGHT
TZOFFSETFROM:-0500
TZOFFSETTO:-0400
TZNAME:EDT
DTSTART:20210314T070000
END:DAYLIGHT
BEGIN:STANDARD
TZOFFSETFROM:-0400
TZOFFSETTO:-0500
TZNAME:EST
DTSTART:20211107T060000
END:STANDARD
BEGIN:DAYLIGHT
TZOFFSETFROM:-0500
TZOFFSETTO:-0400
TZNAME:EDT
DTSTART:20220313T070000
END:DAYLIGHT
BEGIN:STANDARD
TZOFFSETFROM:-0400
TZOFFSETTO:-0500
TZNAME:EST
DTSTART:20221106T060000
END:STANDARD
BEGIN:DAYLIGHT
TZOFFSETFROM:-0500
TZOFFSETTO:-0400
TZNAME:EDT
DTSTART:20230312T070000
END:DAYLIGHT
BEGIN:STANDARD
TZOFFSETFROM:-0400
TZOFFSETTO:-0500
TZNAME:EST
DTSTART:20231105T060000
END:STANDARD
END:VTIMEZONE
BEGIN:VEVENT
DTSTART;TZID=America/Toronto:20220208T193000
DTEND;TZID=America/Toronto:20220208T204000
DTSTAMP:20260426T002422
CREATED:20211030T182526Z
LAST-MODIFIED:20211031T161022Z
UID:36408-1644348600-1644352800@meditationinhamilton.org
SUMMARY:General Program Online Class
DESCRIPTION:
URL:https://meditationinhamilton.org/event/general-program-online-51/
CATEGORIES:General Program Meditation Class
END:VEVENT
BEGIN:VEVENT
DTSTART;TZID=America/Toronto:20220207T193000
DTEND;TZID=America/Toronto:20220207T204000
DTSTAMP:20260426T002422
CREATED:20211030T183300Z
LAST-MODIFIED:20211031T161012Z
UID:36418-1644262200-1644266400@meditationinhamilton.org
SUMMARY:General Program Online Class
DESCRIPTION:
URL:https://meditationinhamilton.org/event/general-program-online-56/
CATEGORIES:General Program Meditation Class
END:VEVENT
BEGIN:VEVENT
DTSTART;TZID=America/Toronto:20220202T190000
DTEND;TZID=America/Toronto:20220202T220000
DTSTAMP:20260426T002422
CREATED:20211030T185044Z
LAST-MODIFIED:20211030T185044Z
UID:36437-1643828400-1643839200@meditationinhamilton.org
SUMMARY:Foundation Program
DESCRIPTION:
URL:https://meditationinhamilton.org/event/foundation-program-41/
CATEGORIES:Foundation Program
END:VEVENT
BEGIN:VEVENT
DTSTART;TZID=America/Toronto:20220201T193000
DTEND;TZID=America/Toronto:20220201T204000
DTSTAMP:20260426T002422
CREATED:20211030T182358Z
LAST-MODIFIED:20211031T161000Z
UID:36406-1643743800-1643748000@meditationinhamilton.org
SUMMARY:General Program Online Class
DESCRIPTION:
URL:https://meditationinhamilton.org/event/general-program-online-50/
CATEGORIES:General Program Meditation Class
END:VEVENT
BEGIN:VEVENT
DTSTART;TZID=America/Toronto:20220131T193000
DTEND;TZID=America/Toronto:20220131T204000
DTSTAMP:20260426T002422
CREATED:20211030T183136Z
LAST-MODIFIED:20211031T160950Z
UID:36416-1643657400-1643661600@meditationinhamilton.org
SUMMARY:General Program Online Class
DESCRIPTION:
URL:https://meditationinhamilton.org/event/general-program-online-55/
CATEGORIES:General Program Meditation Class
END:VEVENT
BEGIN:VEVENT
DTSTART;TZID=America/Toronto:20220129T183000
DTEND;TZID=America/Toronto:20220129T213000
DTSTAMP:20260426T002422
CREATED:20211030T193128Z
LAST-MODIFIED:20211030T193128Z
UID:36475-1643481000-1643491800@meditationinhamilton.org
SUMMARY:Melodious Drum
DESCRIPTION:
URL:https://meditationinhamilton.org/event/melodious-drum-20/
CATEGORIES:Chanted Prayers
END:VEVENT
BEGIN:VEVENT
DTSTART;TZID=America/Toronto:20220127T193000
DTEND;TZID=America/Toronto:20220127T210000
DTSTAMP:20260426T002422
CREATED:20211030T175801Z
LAST-MODIFIED:20211030T175801Z
UID:36398-1643311800-1643317200@meditationinhamilton.org
SUMMARY:Commentary to Blissful Path Sadhana
DESCRIPTION:
URL:https://meditationinhamilton.org/event/commentary-to-blissful-path-sadhana/
END:VEVENT
BEGIN:VEVENT
DTSTART;TZID=America/Toronto:20220126T190000
DTEND;TZID=America/Toronto:20220126T220000
DTSTAMP:20260426T002422
CREATED:20211030T185328Z
LAST-MODIFIED:20211030T185328Z
UID:36441-1643223600-1643234400@meditationinhamilton.org
SUMMARY:Foundation Program
DESCRIPTION:
URL:https://meditationinhamilton.org/event/foundation-program-43/
CATEGORIES:Foundation Program
END:VEVENT
BEGIN:VEVENT
DTSTART;TZID=America/Toronto:20220125T193000
DTEND;TZID=America/Toronto:20220125T204000
DTSTAMP:20260426T002422
CREATED:20211030T182021Z
LAST-MODIFIED:20211031T160935Z
UID:36404-1643139000-1643143200@meditationinhamilton.org
SUMMARY:General Program Online Class
DESCRIPTION:
URL:https://meditationinhamilton.org/event/general-program-online-49/
CATEGORIES:General Program Meditation Class
END:VEVENT
BEGIN:VEVENT
DTSTART;TZID=America/Toronto:20220125T120000
DTEND;TZID=America/Toronto:20220125T140000
DTSTAMP:20260426T002422
CREATED:20211030T190027Z
LAST-MODIFIED:20220106T013924Z
UID:36452-1643112000-1643119200@meditationinhamilton.org
SUMMARY:Offering to the Spiritual Guide Heruka Day
DESCRIPTION:
URL:https://meditationinhamilton.org/event/offering-to-the-spiritual-guide-44/
CATEGORIES:Chanted Prayers
END:VEVENT
BEGIN:VEVENT
DTSTART;TZID=America/Toronto:20220124T193000
DTEND;TZID=America/Toronto:20220124T204000
DTSTAMP:20260426T002422
CREATED:20211030T183011Z
LAST-MODIFIED:20211031T160923Z
UID:36414-1643052600-1643056800@meditationinhamilton.org
SUMMARY:General Program Online Class
DESCRIPTION:
URL:https://meditationinhamilton.org/event/general-program-online-54/
CATEGORIES:General Program Meditation Class
END:VEVENT
BEGIN:VEVENT
DTSTART;TZID=America/Toronto:20220119T190000
DTEND;TZID=America/Toronto:20220119T220000
DTSTAMP:20260426T002422
CREATED:20211030T184852Z
LAST-MODIFIED:20211030T184852Z
UID:36434-1642618800-1642629600@meditationinhamilton.org
SUMMARY:Foundation Program
DESCRIPTION:
URL:https://meditationinhamilton.org/event/foundation-program-40/
CATEGORIES:Foundation Program
END:VEVENT
BEGIN:VEVENT
DTSTART;TZID=America/Toronto:20220118T193000
DTEND;TZID=America/Toronto:20220118T204000
DTSTAMP:20260426T002422
CREATED:20211030T181854Z
LAST-MODIFIED:20211031T160855Z
UID:36402-1642534200-1642538400@meditationinhamilton.org
SUMMARY:General Program Online Class
DESCRIPTION:
URL:https://meditationinhamilton.org/event/general-program-online-48/
CATEGORIES:General Program Meditation Class
END:VEVENT
BEGIN:VEVENT
DTSTART;TZID=America/Toronto:20220117T193000
DTEND;TZID=America/Toronto:20220117T204000
DTSTAMP:20260426T002422
CREATED:20211030T182845Z
LAST-MODIFIED:20211031T160845Z
UID:36412-1642447800-1642452000@meditationinhamilton.org
SUMMARY:General Program Online Class
DESCRIPTION:
URL:https://meditationinhamilton.org/event/general-program-online-53/
CATEGORIES:General Program Meditation Class
END:VEVENT
BEGIN:VEVENT
DTSTART;TZID=America/Toronto:20220112T190000
DTEND;TZID=America/Toronto:20220112T220000
DTSTAMP:20260426T002422
CREATED:20211030T184629Z
LAST-MODIFIED:20211030T184629Z
UID:36432-1642014000-1642024800@meditationinhamilton.org
SUMMARY:Foundation Program
DESCRIPTION:
URL:https://meditationinhamilton.org/event/foundation-program-39/
CATEGORIES:Foundation Program
END:VEVENT
BEGIN:VEVENT
DTSTART;TZID=America/Toronto:20220111T193000
DTEND;TZID=America/Toronto:20220111T204000
DTSTAMP:20260426T002422
CREATED:20211030T181047Z
LAST-MODIFIED:20211031T160818Z
UID:36400-1641929400-1641933600@meditationinhamilton.org
SUMMARY:General Program Online Class
DESCRIPTION:
URL:https://meditationinhamilton.org/event/general-program-online-47/
CATEGORIES:General Program Meditation Class
END:VEVENT
BEGIN:VEVENT
DTSTART;TZID=America/Toronto:20220110T193000
DTEND;TZID=America/Toronto:20220110T204000
DTSTAMP:20260426T002422
CREATED:20211030T182730Z
LAST-MODIFIED:20211031T160801Z
UID:36410-1641843000-1641847200@meditationinhamilton.org
SUMMARY:General Program Online Class
DESCRIPTION:
URL:https://meditationinhamilton.org/event/general-program-online-52/
CATEGORIES:General Program Meditation Class
END:VEVENT
BEGIN:VEVENT
DTSTART;TZID=America/Toronto:20220110T120000
DTEND;TZID=America/Toronto:20220110T140000
DTSTAMP:20260426T002422
CREATED:20211030T185923Z
LAST-MODIFIED:20220106T014007Z
UID:36450-1641816000-1641823200@meditationinhamilton.org
SUMMARY:Offering to the Spiritual Guide Vajrayogini Day
DESCRIPTION:
URL:https://meditationinhamilton.org/event/offering-to-the-spiritual-guide-43/
CATEGORIES:Chanted Prayers
END:VEVENT
BEGIN:VEVENT
DTSTART;TZID=America/Toronto:20211231T190000
DTEND;TZID=America/Toronto:20211231T200000
DTSTAMP:20260426T002422
CREATED:20210603T035224Z
LAST-MODIFIED:20210603T035224Z
UID:35998-1640977200-1640980800@meditationinhamilton.org
SUMMARY:The Yoga of Buddha Amitayus
DESCRIPTION:
URL:https://meditationinhamilton.org/event/the-yoga-of-buddha-amitayus/
CATEGORIES:Chanted Prayers
END:VEVENT
BEGIN:VEVENT
DTSTART;TZID=America/Toronto:20211229T183000
DTEND;TZID=America/Toronto:20211229T220000
DTSTAMP:20260426T002422
CREATED:20201114T061100Z
LAST-MODIFIED:20201114T061100Z
UID:35434-1640802600-1640815200@meditationinhamilton.org
SUMMARY:Melodious Drum
DESCRIPTION:
URL:https://meditationinhamilton.org/event/melodious-drum-18/
CATEGORIES:Chanted Prayers
END:VEVENT
BEGIN:VEVENT
DTSTART;TZID=America/Toronto:20211225T190000
DTEND;TZID=America/Toronto:20211225T210000
DTSTAMP:20260426T002422
CREATED:20201114T122817Z
LAST-MODIFIED:20201114T122817Z
UID:35440-1640458800-1640466000@meditationinhamilton.org
SUMMARY:Offering to the Spiritual Guide
DESCRIPTION:
URL:https://meditationinhamilton.org/event/offering-to-the-spiritual-guide-42/
CATEGORIES:Chanted Prayers
END:VEVENT
BEGIN:VEVENT
DTSTART;TZID=America/Toronto:20211220T193000
DTEND;TZID=America/Toronto:20211220T204000
DTSTAMP:20260426T002422
CREATED:20210913T022703Z
LAST-MODIFIED:20210913T022703Z
UID:36283-1640028600-1640032800@meditationinhamilton.org
SUMMARY:General Program Online / In Person
DESCRIPTION:
URL:https://meditationinhamilton.org/event/general-program-online-in-person-27/
CATEGORIES:General Program Meditation Class
END:VEVENT
BEGIN:VEVENT
DTSTART;TZID=America/Toronto:20211216T193000
DTEND;TZID=America/Toronto:20211216T203000
DTSTAMP:20260426T002422
CREATED:20210915T133456Z
LAST-MODIFIED:20210915T133456Z
UID:36310-1639683000-1639686600@meditationinhamilton.org
SUMMARY:Creative Yoga - Guided HYT Meditation
DESCRIPTION:
URL:https://meditationinhamilton.org/event/creative-yoga-guided-hyt-meditation-9/
END:VEVENT
BEGIN:VEVENT
DTSTART;TZID=America/Toronto:20211215T190000
DTEND;TZID=America/Toronto:20211215T220000
DTSTAMP:20260426T002422
CREATED:20210603T034850Z
LAST-MODIFIED:20210603T034850Z
UID:35996-1639594800-1639605600@meditationinhamilton.org
SUMMARY:Foundation Program
DESCRIPTION:
URL:https://meditationinhamilton.org/event/foundation-program-38/
CATEGORIES:Foundation Program
END:VEVENT
BEGIN:VEVENT
DTSTART;TZID=America/Toronto:20211214T193000
DTEND;TZID=America/Toronto:20211214T204000
DTSTAMP:20260426T002422
CREATED:20210913T023018Z
LAST-MODIFIED:20210913T023018Z
UID:36287-1639510200-1639514400@meditationinhamilton.org
SUMMARY:General Program Online / In Person
DESCRIPTION:
URL:https://meditationinhamilton.org/event/general-program-online-in-person-29/
CATEGORIES:General Program Meditation Class
END:VEVENT
BEGIN:VEVENT
DTSTART;TZID=America/Toronto:20211213T193000
DTEND;TZID=America/Toronto:20211213T204000
DTSTAMP:20260426T002422
CREATED:20210913T022544Z
LAST-MODIFIED:20210913T022544Z
UID:36281-1639423800-1639428000@meditationinhamilton.org
SUMMARY:General Program Online / In Person
DESCRIPTION:
URL:https://meditationinhamilton.org/event/general-program-online-in-person-26/
CATEGORIES:General Program Meditation Class
END:VEVENT
BEGIN:VEVENT
DTSTART;TZID=America/Toronto:20211210T190000
DTEND;TZID=America/Toronto:20211210T210000
DTSTAMP:20260426T002422
CREATED:20201105T173410Z
LAST-MODIFIED:20201105T173410Z
UID:35398-1639162800-1639170000@meditationinhamilton.org
SUMMARY:Offering to the Spiritual Guide
DESCRIPTION:
URL:https://meditationinhamilton.org/event/offering-to-the-spiritual-guide-40/
CATEGORIES:Chanted Prayers
END:VEVENT
BEGIN:VEVENT
DTSTART;TZID=America/Toronto:20211209T193000
DTEND;TZID=America/Toronto:20211209T203000
DTSTAMP:20260426T002422
CREATED:20210915T133400Z
LAST-MODIFIED:20210915T133400Z
UID:36308-1639078200-1639081800@meditationinhamilton.org
SUMMARY:Creative Yoga - Guided HYT Meditation
DESCRIPTION:
URL:https://meditationinhamilton.org/event/creative-yoga-guided-hyt-meditation-8/
END:VEVENT
BEGIN:VEVENT
DTSTART;TZID=America/Toronto:20211208T190000
DTEND;TZID=America/Toronto:20211208T220000
DTSTAMP:20260426T002422
CREATED:20210603T034740Z
LAST-MODIFIED:20210603T034740Z
UID:35994-1638990000-1639000800@meditationinhamilton.org
SUMMARY:Foundation Program
DESCRIPTION:
URL:https://meditationinhamilton.org/event/foundation-program-37/
CATEGORIES:Foundation Program
END:VEVENT
BEGIN:VEVENT
DTSTART;TZID=America/Toronto:20211207T193000
DTEND;TZID=America/Toronto:20211207T204000
DTSTAMP:20260426T002422
CREATED:20210913T022905Z
LAST-MODIFIED:20210913T022905Z
UID:36285-1638905400-1638909600@meditationinhamilton.org
SUMMARY:General Program Online / In Person
DESCRIPTION:
URL:https://meditationinhamilton.org/event/general-program-online-in-person-28/
CATEGORIES:General Program Meditation Class
END:VEVENT
END:VCALENDAR