BEGIN:VCALENDAR
VERSION:2.0
PRODID:-//Samudra Kadampa Buddhist Centre - ECPv6.15.20//NONSGML v1.0//EN
CALSCALE:GREGORIAN
METHOD:PUBLISH
X-WR-CALNAME:Samudra Kadampa Buddhist Centre
X-ORIGINAL-URL:https://meditationinhamilton.org
X-WR-CALDESC:Events for Samudra Kadampa Buddhist Centre
REFRESH-INTERVAL;VALUE=DURATION:PT1H
X-Robots-Tag:noindex
X-PUBLISHED-TTL:PT1H
BEGIN:VTIMEZONE
TZID:America/Toronto
BEGIN:DAYLIGHT
TZOFFSETFROM:-0500
TZOFFSETTO:-0400
TZNAME:EDT
DTSTART:20220313T070000
END:DAYLIGHT
BEGIN:STANDARD
TZOFFSETFROM:-0400
TZOFFSETTO:-0500
TZNAME:EST
DTSTART:20221106T060000
END:STANDARD
BEGIN:DAYLIGHT
TZOFFSETFROM:-0500
TZOFFSETTO:-0400
TZNAME:EDT
DTSTART:20230312T070000
END:DAYLIGHT
BEGIN:STANDARD
TZOFFSETFROM:-0400
TZOFFSETTO:-0500
TZNAME:EST
DTSTART:20231105T060000
END:STANDARD
BEGIN:DAYLIGHT
TZOFFSETFROM:-0500
TZOFFSETTO:-0400
TZNAME:EDT
DTSTART:20240310T070000
END:DAYLIGHT
BEGIN:STANDARD
TZOFFSETFROM:-0400
TZOFFSETTO:-0500
TZNAME:EST
DTSTART:20241103T060000
END:STANDARD
END:VTIMEZONE
BEGIN:VEVENT
DTSTART;VALUE=DATE:20231201
DTEND;VALUE=DATE:20231204
DTSTAMP:20260421T203617
CREATED:20221206T012615Z
LAST-MODIFIED:20221206T012615Z
UID:37879-1701388800-1701647999@meditationinhamilton.org
SUMMARY:Ontario Dharma Celebration
DESCRIPTION:
URL:https://meditationinhamilton.org/event/ontario-dharma-celebration-4/
LOCATION:Kadampa Meditation Centre Canada\, 631 Crawford St\, Toronto\, Ontario\, M6G 3K1
END:VEVENT
BEGIN:VEVENT
DTSTART;TZID=America/Toronto:20231130T193000
DTEND;TZID=America/Toronto:20231130T201500
DTSTAMP:20260421T203617
CREATED:20230726T024814Z
LAST-MODIFIED:20230726T024814Z
UID:38704-1701372600-1701375300@meditationinhamilton.org
SUMMARY:Peace of Mind
DESCRIPTION:
URL:https://meditationinhamilton.org/event/peace-of-mind-12/
CATEGORIES:General Program Meditation Class
END:VEVENT
BEGIN:VEVENT
DTSTART;TZID=America/Toronto:20231129T183000
DTEND;TZID=America/Toronto:20231129T220000
DTSTAMP:20260421T203617
CREATED:20230810T170507Z
LAST-MODIFIED:20230810T170507Z
UID:38819-1701282600-1701295200@meditationinhamilton.org
SUMMARY:Melodious Drum
DESCRIPTION:
URL:https://meditationinhamilton.org/event/melodious-drum-54/
CATEGORIES:Chanted Prayers
END:VEVENT
BEGIN:VEVENT
DTSTART;TZID=America/Toronto:20231128T193000
DTEND;TZID=America/Toronto:20231128T210000
DTSTAMP:20260421T203617
CREATED:20230517T194157Z
LAST-MODIFIED:20230517T194157Z
UID:38359-1701199800-1701205200@meditationinhamilton.org
SUMMARY:General Program Class
DESCRIPTION:
URL:https://meditationinhamilton.org/event/general-program-class-125/
CATEGORIES:General Program Meditation Class
END:VEVENT
BEGIN:VEVENT
DTSTART;TZID=America/Toronto:20231127T193000
DTEND;TZID=America/Toronto:20231127T210000
DTSTAMP:20260421T203617
CREATED:20230517T194038Z
LAST-MODIFIED:20230517T194038Z
UID:38357-1701113400-1701118800@meditationinhamilton.org
SUMMARY:General Program Class
DESCRIPTION:
URL:https://meditationinhamilton.org/event/general-program-class-124/
CATEGORIES:General Program Meditation Class
END:VEVENT
BEGIN:VEVENT
DTSTART;TZID=America/Toronto:20231125T120000
DTEND;TZID=America/Toronto:20231125T140000
DTSTAMP:20260421T203617
CREATED:20230517T202226Z
LAST-MODIFIED:20230517T202226Z
UID:38409-1700913600-1700920800@meditationinhamilton.org
SUMMARY:Offering to the Spiritual Guide
DESCRIPTION:
URL:https://meditationinhamilton.org/event/offering-to-the-spiritual-guide-105/
CATEGORIES:Chanted Prayers
END:VEVENT
BEGIN:VEVENT
DTSTART;TZID=America/Toronto:20231123T193000
DTEND;TZID=America/Toronto:20231123T201500
DTSTAMP:20260421T203617
CREATED:20230726T024653Z
LAST-MODIFIED:20230726T024653Z
UID:38702-1700767800-1700770500@meditationinhamilton.org
SUMMARY:Peace of Mind
DESCRIPTION:
URL:https://meditationinhamilton.org/event/peace-of-mind-11/
CATEGORIES:General Program Meditation Class
END:VEVENT
BEGIN:VEVENT
DTSTART;TZID=America/Toronto:20231122T190000
DTEND;TZID=America/Toronto:20231122T220000
DTSTAMP:20260421T203617
CREATED:20230525T040510Z
LAST-MODIFIED:20230525T040510Z
UID:38509-1700679600-1700690400@meditationinhamilton.org
SUMMARY:Foundation Program
DESCRIPTION:
URL:https://meditationinhamilton.org/event/foundation-program-124/
CATEGORIES:Foundation Program
END:VEVENT
BEGIN:VEVENT
DTSTART;TZID=America/Toronto:20231121T193000
DTEND;TZID=America/Toronto:20231121T210000
DTSTAMP:20260421T203617
CREATED:20230517T193916Z
LAST-MODIFIED:20230517T193916Z
UID:38355-1700595000-1700600400@meditationinhamilton.org
SUMMARY:General Program Class
DESCRIPTION:
URL:https://meditationinhamilton.org/event/general-program-class-123/
CATEGORIES:General Program Meditation Class
END:VEVENT
BEGIN:VEVENT
DTSTART;TZID=America/Toronto:20231120T193000
DTEND;TZID=America/Toronto:20231120T210000
DTSTAMP:20260421T203617
CREATED:20230517T193800Z
LAST-MODIFIED:20230517T193800Z
UID:38353-1700508600-1700514000@meditationinhamilton.org
SUMMARY:General Program Class
DESCRIPTION:
URL:https://meditationinhamilton.org/event/general-program-class-122/
CATEGORIES:General Program Meditation Class
END:VEVENT
BEGIN:VEVENT
DTSTART;TZID=America/Toronto:20231118T100000
DTEND;TZID=America/Toronto:20231118T130000
DTSTAMP:20260421T203617
CREATED:20230525T083226Z
LAST-MODIFIED:20230726T143301Z
UID:38537-1700301600-1700312400@meditationinhamilton.org
SUMMARY:Understand Dying Understand Death
DESCRIPTION:
URL:https://meditationinhamilton.org/event/understand-dying-understand-death/
CATEGORIES:Half Day Course
END:VEVENT
BEGIN:VEVENT
DTSTART;TZID=America/Toronto:20231116T193000
DTEND;TZID=America/Toronto:20231116T201500
DTSTAMP:20260421T203617
CREATED:20230726T025002Z
LAST-MODIFIED:20230726T025002Z
UID:38706-1700163000-1700165700@meditationinhamilton.org
SUMMARY:Peace of Mind
DESCRIPTION:
URL:https://meditationinhamilton.org/event/peace-of-mind-13/
CATEGORIES:General Program Meditation Class
END:VEVENT
BEGIN:VEVENT
DTSTART;TZID=America/Toronto:20231115T190000
DTEND;TZID=America/Toronto:20231115T220000
DTSTAMP:20260421T203617
CREATED:20230525T040600Z
LAST-MODIFIED:20230525T040600Z
UID:38511-1700074800-1700085600@meditationinhamilton.org
SUMMARY:Foundation Program
DESCRIPTION:
URL:https://meditationinhamilton.org/event/foundation-program-125/
CATEGORIES:Foundation Program
END:VEVENT
BEGIN:VEVENT
DTSTART;TZID=America/Toronto:20231114T193000
DTEND;TZID=America/Toronto:20231114T210000
DTSTAMP:20260421T203617
CREATED:20230517T193650Z
LAST-MODIFIED:20230517T193650Z
UID:38351-1699990200-1699995600@meditationinhamilton.org
SUMMARY:General Program Class
DESCRIPTION:
URL:https://meditationinhamilton.org/event/general-program-class-121/
CATEGORIES:General Program Meditation Class
END:VEVENT
BEGIN:VEVENT
DTSTART;TZID=America/Toronto:20231113T193000
DTEND;TZID=America/Toronto:20231113T210000
DTSTAMP:20260421T203617
CREATED:20230517T193548Z
LAST-MODIFIED:20230517T193548Z
UID:38349-1699903800-1699909200@meditationinhamilton.org
SUMMARY:General Program Class
DESCRIPTION:
URL:https://meditationinhamilton.org/event/general-program-class-120/
CATEGORIES:General Program Meditation Class
END:VEVENT
BEGIN:VEVENT
DTSTART;TZID=America/Toronto:20231111T130000
DTEND;TZID=America/Toronto:20231111T160000
DTSTAMP:20260421T203617
CREATED:20231021T234125Z
LAST-MODIFIED:20231025T213953Z
UID:38996-1699707600-1699718400@meditationinhamilton.org
SUMMARY:Torma Making Workshop
DESCRIPTION:
URL:https://meditationinhamilton.org/event/torma-making-workshop/
END:VEVENT
BEGIN:VEVENT
DTSTART;TZID=America/Toronto:20231111T103000
DTEND;TZID=America/Toronto:20231111T113000
DTSTAMP:20260421T203617
CREATED:20231025T214224Z
LAST-MODIFIED:20231025T214224Z
UID:39006-1699698600-1699702200@meditationinhamilton.org
SUMMARY:Centre Cherishing Day
DESCRIPTION:Help keep the Centre clean and beautiful.
URL:https://meditationinhamilton.org/event/centre-cherishing-day-8/
END:VEVENT
BEGIN:VEVENT
DTSTART;TZID=America/Toronto:20231110T193000
DTEND;TZID=America/Toronto:20231110T213000
DTSTAMP:20260421T203617
CREATED:20230517T202117Z
LAST-MODIFIED:20230517T202117Z
UID:38407-1699644600-1699651800@meditationinhamilton.org
SUMMARY:Offering to the Spiritual Guide
DESCRIPTION:
URL:https://meditationinhamilton.org/event/offering-to-the-spiritual-guide-104/
CATEGORIES:Chanted Prayers
END:VEVENT
BEGIN:VEVENT
DTSTART;TZID=America/Toronto:20231109T193000
DTEND;TZID=America/Toronto:20231109T201500
DTSTAMP:20260421T203617
CREATED:20230726T024539Z
LAST-MODIFIED:20230726T024539Z
UID:38700-1699558200-1699560900@meditationinhamilton.org
SUMMARY:Peace of Mind
DESCRIPTION:
URL:https://meditationinhamilton.org/event/peace-of-mind-10/
CATEGORIES:General Program Meditation Class
END:VEVENT
BEGIN:VEVENT
DTSTART;TZID=America/Toronto:20231108T190000
DTEND;TZID=America/Toronto:20231108T220000
DTSTAMP:20260421T203617
CREATED:20230525T040647Z
LAST-MODIFIED:20230525T040647Z
UID:38513-1699470000-1699480800@meditationinhamilton.org
SUMMARY:Foundation Program
DESCRIPTION:
URL:https://meditationinhamilton.org/event/foundation-program-126/
CATEGORIES:Foundation Program
END:VEVENT
BEGIN:VEVENT
DTSTART;TZID=America/Toronto:20231107T193000
DTEND;TZID=America/Toronto:20231107T210000
DTSTAMP:20260421T203617
CREATED:20230517T193422Z
LAST-MODIFIED:20230517T193422Z
UID:38347-1699385400-1699390800@meditationinhamilton.org
SUMMARY:General Program Class
DESCRIPTION:
URL:https://meditationinhamilton.org/event/general-program-class-119/
CATEGORIES:General Program Meditation Class
END:VEVENT
BEGIN:VEVENT
DTSTART;TZID=America/Toronto:20231106T193000
DTEND;TZID=America/Toronto:20231106T210000
DTSTAMP:20260421T203617
CREATED:20230517T192956Z
LAST-MODIFIED:20230517T193222Z
UID:38345-1699299000-1699304400@meditationinhamilton.org
SUMMARY:General Program Class
DESCRIPTION:
URL:https://meditationinhamilton.org/event/general-program-class-118/
CATEGORIES:General Program Meditation Class
END:VEVENT
BEGIN:VEVENT
DTSTART;TZID=America/Toronto:20231102T193000
DTEND;TZID=America/Toronto:20231102T200000
DTSTAMP:20260421T203617
CREATED:20230726T024424Z
LAST-MODIFIED:20230726T024424Z
UID:38698-1698953400-1698955200@meditationinhamilton.org
SUMMARY:Peace of Mind
DESCRIPTION:
URL:https://meditationinhamilton.org/event/peace-of-mind-9/
CATEGORIES:General Program Meditation Class
END:VEVENT
BEGIN:VEVENT
DTSTART;TZID=America/Toronto:20231101T190000
DTEND;TZID=America/Toronto:20231101T220000
DTSTAMP:20260421T203617
CREATED:20230525T040738Z
LAST-MODIFIED:20230525T040738Z
UID:38515-1698865200-1698876000@meditationinhamilton.org
SUMMARY:Foundation Program
DESCRIPTION:
URL:https://meditationinhamilton.org/event/foundation-program-127/
CATEGORIES:Foundation Program
END:VEVENT
BEGIN:VEVENT
DTSTART;TZID=America/Toronto:20231031T193000
DTEND;TZID=America/Toronto:20231031T210000
DTSTAMP:20260421T203617
CREATED:20230517T200500Z
LAST-MODIFIED:20230517T200500Z
UID:38389-1698780600-1698786000@meditationinhamilton.org
SUMMARY:General Program Class
DESCRIPTION:
URL:https://meditationinhamilton.org/event/general-program-class-140/
CATEGORIES:General Program Meditation Class
END:VEVENT
BEGIN:VEVENT
DTSTART;TZID=America/Toronto:20231030T193000
DTEND;TZID=America/Toronto:20231030T210000
DTSTAMP:20260421T203617
CREATED:20230517T200354Z
LAST-MODIFIED:20230517T200354Z
UID:38387-1698694200-1698699600@meditationinhamilton.org
SUMMARY:General Program Class
DESCRIPTION:
URL:https://meditationinhamilton.org/event/general-program-class-139/
CATEGORIES:General Program Meditation Class
END:VEVENT
BEGIN:VEVENT
DTSTART;TZID=America/Toronto:20231029T120000
DTEND;TZID=America/Toronto:20231029T153000
DTSTAMP:20260421T203617
CREATED:20230517T203240Z
LAST-MODIFIED:20230517T203240Z
UID:38419-1698580800-1698593400@meditationinhamilton.org
SUMMARY:Melodious Drum
DESCRIPTION:
URL:https://meditationinhamilton.org/event/melodious-drum-45/
CATEGORIES:Chanted Prayers
END:VEVENT
BEGIN:VEVENT
DTSTART;TZID=America/Toronto:20231028T110000
DTEND;TZID=America/Toronto:20231028T121500
DTSTAMP:20260421T203617
CREATED:20230921T194631Z
LAST-MODIFIED:20230921T194631Z
UID:38932-1698490800-1698495300@meditationinhamilton.org
SUMMARY:Pratimoksha Vow Ceremony
DESCRIPTION:
URL:https://meditationinhamilton.org/event/pratimoksha-vow-ceremony/
END:VEVENT
BEGIN:VEVENT
DTSTART;TZID=America/Toronto:20231026T193000
DTEND;TZID=America/Toronto:20231026T201500
DTSTAMP:20260421T203617
CREATED:20230726T024232Z
LAST-MODIFIED:20230726T024232Z
UID:38696-1698348600-1698351300@meditationinhamilton.org
SUMMARY:Peace of Mind
DESCRIPTION:
URL:https://meditationinhamilton.org/event/peace-of-mind-8/
CATEGORIES:General Program Meditation Class
END:VEVENT
BEGIN:VEVENT
DTSTART;TZID=America/Toronto:20231025T193000
DTEND;TZID=America/Toronto:20231025T213000
DTSTAMP:20260421T203617
CREATED:20230517T202027Z
LAST-MODIFIED:20230517T202027Z
UID:38405-1698262200-1698269400@meditationinhamilton.org
SUMMARY:Offering to the Spiritual Guide
DESCRIPTION:
URL:https://meditationinhamilton.org/event/offering-to-the-spiritual-guide-103/
CATEGORIES:Chanted Prayers
END:VEVENT
END:VCALENDAR